BEGIN:VCALENDAR
VERSION:2.0
PRODID:-//Tipples Brews and Wine - ECPv6.15.20//NONSGML v1.0//EN
CALSCALE:GREGORIAN
METHOD:PUBLISH
X-ORIGINAL-URL:https://tipplesbrews.com
X-WR-CALDESC:Events for Tipples Brews and Wine
REFRESH-INTERVAL;VALUE=DURATION:PT1H
X-Robots-Tag:noindex
X-PUBLISHED-TTL:PT1H
BEGIN:VTIMEZONE
TZID:America/New_York
BEGIN:DAYLIGHT
TZOFFSETFROM:-0500
TZOFFSETTO:-0400
TZNAME:EDT
DTSTART:20240310T070000
END:DAYLIGHT
BEGIN:STANDARD
TZOFFSETFROM:-0400
TZOFFSETTO:-0500
TZNAME:EST
DTSTART:20241103T060000
END:STANDARD
BEGIN:DAYLIGHT
TZOFFSETFROM:-0500
TZOFFSETTO:-0400
TZNAME:EDT
DTSTART:20250309T070000
END:DAYLIGHT
BEGIN:STANDARD
TZOFFSETFROM:-0400
TZOFFSETTO:-0500
TZNAME:EST
DTSTART:20251102T060000
END:STANDARD
BEGIN:DAYLIGHT
TZOFFSETFROM:-0500
TZOFFSETTO:-0400
TZNAME:EDT
DTSTART:20260308T070000
END:DAYLIGHT
BEGIN:STANDARD
TZOFFSETFROM:-0400
TZOFFSETTO:-0500
TZNAME:EST
DTSTART:20261101T060000
END:STANDARD
END:VTIMEZONE
BEGIN:VEVENT
DTSTART;TZID=America/New_York:20251219T120000
DTEND;TZID=America/New_York:20251219T220000
DTSTAMP:20260423T173938
CREATED:20251216T172933Z
LAST-MODIFIED:20251216T172933Z
UID:10002174-1766145600-1766181600@tipplesbrews.com
SUMMARY:Tipple's Black Friday Revisited! 2023 Bourbon County Library Release
DESCRIPTION:
URL:https://tipplesbrews.com/event/tipples-black-friday-revisited-2023-bourbon-county-library-release/
ATTACH;FMTTYPE=image/png:https://tipplesbrews.com/wp-content/uploads/2025/12/library-release-banner.png
END:VEVENT
END:VCALENDAR