BEGIN:VCALENDAR
VERSION:2.0
PRODID:-//Tipples Brews and Wine - ECPv6.15.20//NONSGML v1.0//EN
CALSCALE:GREGORIAN
METHOD:PUBLISH
X-ORIGINAL-URL:https://tipplesbrews.com
X-WR-CALDESC:Events for Tipples Brews and Wine
REFRESH-INTERVAL;VALUE=DURATION:PT1H
X-Robots-Tag:noindex
X-PUBLISHED-TTL:PT1H
BEGIN:VTIMEZONE
TZID:UTC
BEGIN:STANDARD
TZOFFSETFROM:+0000
TZOFFSETTO:+0000
TZNAME:UTC
DTSTART:20250101T000000
END:STANDARD
END:VTIMEZONE
BEGIN:VEVENT
DTSTART;TZID=UTC:20260218T120000
DTEND;TZID=UTC:20260218T140000
DTSTAMP:20260423T143648
CREATED:20260126T213431Z
LAST-MODIFIED:20260216T210346Z
UID:10002184-1771416000-1771423200@tipplesbrews.com
SUMMARY:Food Truck - Banzo's Falafel & Hummus Wraps
DESCRIPTION:
URL:https://tipplesbrews.com/event/food-truck-banzos-falafel-hummus-wraps/
ATTACH;FMTTYPE=image/png:https://tipplesbrews.com/wp-content/uploads/2026/01/banzo.png
END:VEVENT
END:VCALENDAR