BEGIN:VCALENDAR
VERSION:2.0
PRODID:-//Tipples Brews and Wine - ECPv6.15.20//NONSGML v1.0//EN
CALSCALE:GREGORIAN
METHOD:PUBLISH
X-WR-CALNAME:Tipples Brews and Wine
X-ORIGINAL-URL:https://tipplesbrews.com
X-WR-CALDESC:Events for Tipples Brews and Wine
REFRESH-INTERVAL;VALUE=DURATION:PT1H
X-Robots-Tag:noindex
X-PUBLISHED-TTL:PT1H
BEGIN:VTIMEZONE
TZID:America/New_York
BEGIN:DAYLIGHT
TZOFFSETFROM:-0500
TZOFFSETTO:-0400
TZNAME:EDT
DTSTART:20250309T070000
END:DAYLIGHT
BEGIN:STANDARD
TZOFFSETFROM:-0400
TZOFFSETTO:-0500
TZNAME:EST
DTSTART:20251102T060000
END:STANDARD
BEGIN:DAYLIGHT
TZOFFSETFROM:-0500
TZOFFSETTO:-0400
TZNAME:EDT
DTSTART:20260308T070000
END:DAYLIGHT
BEGIN:STANDARD
TZOFFSETFROM:-0400
TZOFFSETTO:-0500
TZNAME:EST
DTSTART:20261101T060000
END:STANDARD
BEGIN:DAYLIGHT
TZOFFSETFROM:-0500
TZOFFSETTO:-0400
TZNAME:EDT
DTSTART:20270314T070000
END:DAYLIGHT
BEGIN:STANDARD
TZOFFSETFROM:-0400
TZOFFSETTO:-0500
TZNAME:EST
DTSTART:20271107T060000
END:STANDARD
END:VTIMEZONE
BEGIN:VEVENT
DTSTART;TZID=America/New_York:20260222T193000
DTEND;TZID=America/New_York:20260222T213000
DTSTAMP:20260423T143521
CREATED:20260126T213104Z
LAST-MODIFIED:20260126T213106Z
UID:10002183-1771788600-1771795800@tipplesbrews.com
SUMMARY:Tipple's Pardon My French! Wine Tasting
DESCRIPTION:
URL:https://tipplesbrews.com/event/tipples-pardon-my-french-wine-tasting/
ATTACH;FMTTYPE=image/png:https://tipplesbrews.com/wp-content/uploads/2026/01/Pardon-My-French-Wine-Tasting-2026-Instagram-Post-45.png
END:VEVENT
END:VCALENDAR