BEGIN:VCALENDAR
VERSION:2.0
PRODID:-//Tipples Brews and Wine - ECPv6.15.20//NONSGML v1.0//EN
CALSCALE:GREGORIAN
METHOD:PUBLISH
X-ORIGINAL-URL:https://tipplesbrews.com
X-WR-CALDESC:Events for Tipples Brews and Wine
REFRESH-INTERVAL;VALUE=DURATION:PT1H
X-Robots-Tag:noindex
X-PUBLISHED-TTL:PT1H
BEGIN:VTIMEZONE
TZID:America/New_York
BEGIN:DAYLIGHT
TZOFFSETFROM:-0500
TZOFFSETTO:-0400
TZNAME:EDT
DTSTART:20250309T070000
END:DAYLIGHT
BEGIN:STANDARD
TZOFFSETFROM:-0400
TZOFFSETTO:-0500
TZNAME:EST
DTSTART:20251102T060000
END:STANDARD
BEGIN:DAYLIGHT
TZOFFSETFROM:-0500
TZOFFSETTO:-0400
TZNAME:EDT
DTSTART:20260308T070000
END:DAYLIGHT
BEGIN:STANDARD
TZOFFSETFROM:-0400
TZOFFSETTO:-0500
TZNAME:EST
DTSTART:20261101T060000
END:STANDARD
BEGIN:DAYLIGHT
TZOFFSETFROM:-0500
TZOFFSETTO:-0400
TZNAME:EDT
DTSTART:20270314T070000
END:DAYLIGHT
BEGIN:STANDARD
TZOFFSETFROM:-0400
TZOFFSETTO:-0500
TZNAME:EST
DTSTART:20271107T060000
END:STANDARD
END:VTIMEZONE
BEGIN:VTIMEZONE
TZID:UTC
BEGIN:STANDARD
TZOFFSETFROM:+0000
TZOFFSETTO:+0000
TZNAME:UTC
DTSTART:20250101T000000
END:STANDARD
END:VTIMEZONE
BEGIN:VEVENT
DTSTART;TZID=America/New_York:20260317T170000
DTEND;TZID=America/New_York:20260317T200000
DTSTAMP:20260423T161249
CREATED:20260309T182839Z
LAST-MODIFIED:20260309T182943Z
UID:10002193-1773766800-1773777600@tipplesbrews.com
SUMMARY:Tipple's Free Irish Beer Sampling
DESCRIPTION:
URL:https://tipplesbrews.com/event/tipples-free-irish-beer-sampling/
ATTACH;FMTTYPE=image/png:https://tipplesbrews.com/wp-content/uploads/2026/03/IG-St-Pats-Day-Flight-2024-Instagram-Post-45.png
END:VEVENT
BEGIN:VEVENT
DTSTART;TZID=America/New_York:20260317T170000
DTEND;TZID=America/New_York:20260317T200000
DTSTAMP:20260423T161249
CREATED:20260316T153942Z
LAST-MODIFIED:20260316T154000Z
UID:10001877-1773766800-1773777600@tipplesbrews.com
SUMMARY:WOW! Tipple's Wine of the Week Tasting!
DESCRIPTION:
URL:https://tipplesbrews.com/event/wow-tipples-wine-of-the-week-tasting-7/
ATTACH;FMTTYPE=image/png:https://tipplesbrews.com/wp-content/uploads/2026/03/WOW-IG-instagram-5.png
END:VEVENT
BEGIN:VEVENT
DTSTART;TZID=UTC:20260319T170000
DTEND;TZID=UTC:20260319T200000
DTSTAMP:20260423T161249
CREATED:20250908T174554Z
LAST-MODIFIED:20260309T172017Z
UID:10002117-1773939600-1773950400@tipplesbrews.com
SUMMARY:Food Truck - TommyKnockers
DESCRIPTION:5-8pm Americana Cuisine
URL:https://tipplesbrews.com/event/tommyknockers-3/
ATTACH;FMTTYPE=image/jpeg:https://tipplesbrews.com/wp-content/uploads/2022/10/TommyKnockers.jpg
END:VEVENT
BEGIN:VEVENT
DTSTART;TZID=America/New_York:20260319T183000
DTEND;TZID=America/New_York:20260319T193000
DTSTAMP:20260423T161249
CREATED:20250210T153740Z
LAST-MODIFIED:20250210T153740Z
UID:10001222-1773945000-1773948600@tipplesbrews.com
SUMMARY:Running Tabs Running Club
DESCRIPTION:
URL:https://tipplesbrews.com/event/running-tabs-running-club/2026-03-19/
END:VEVENT
BEGIN:VEVENT
DTSTART;TZID=America/New_York:20260322T193000
DTEND;TZID=America/New_York:20260322T213000
DTSTAMP:20260423T161249
CREATED:20260223T193401Z
LAST-MODIFIED:20260223T193401Z
UID:10002188-1774207800-1774215000@tipplesbrews.com
SUMMARY:Tipple's Passport to Portugal Wine Tasting
DESCRIPTION:
URL:https://tipplesbrews.com/event/tipples-passport-to-portugal-wine-tasting/
ATTACH;FMTTYPE=image/png:https://tipplesbrews.com/wp-content/uploads/2026/02/Passport-to-Portugal-Wine-Tasting-2026-Instagram-Post-45.png
END:VEVENT
BEGIN:VEVENT
DTSTART;TZID=America/New_York:20260324T170000
DTEND;TZID=America/New_York:20260324T200000
DTSTAMP:20260423T161249
CREATED:20260321T222517Z
LAST-MODIFIED:20260321T222543Z
UID:10001878-1774371600-1774382400@tipplesbrews.com
SUMMARY:WOW! Tipple's Wine of the Week Tasting!
DESCRIPTION:
URL:https://tipplesbrews.com/event/wow-tipples-wine-of-the-week-tasting-8/
ATTACH;FMTTYPE=image/png:https://tipplesbrews.com/wp-content/uploads/2026/03/WOW-IG-instagram-8.png
END:VEVENT
BEGIN:VEVENT
DTSTART;TZID=UTC:20260326T170000
DTEND;TZID=UTC:20260326T200000
DTSTAMP:20260423T161249
CREATED:20260309T172042Z
LAST-MODIFIED:20260309T172042Z
UID:10002191-1774544400-1774555200@tipplesbrews.com
SUMMARY:Food Truck - TommyKnockers
DESCRIPTION:5-8pm Americana Cuisine
URL:https://tipplesbrews.com/event/food-truck-tommyknockers-2/
ATTACH;FMTTYPE=image/jpeg:https://tipplesbrews.com/wp-content/uploads/2022/10/TommyKnockers.jpg
END:VEVENT
BEGIN:VEVENT
DTSTART;TZID=America/New_York:20260326T183000
DTEND;TZID=America/New_York:20260326T193000
DTSTAMP:20260423T161249
CREATED:20250210T153740Z
LAST-MODIFIED:20250210T153740Z
UID:10001223-1774549800-1774553400@tipplesbrews.com
SUMMARY:Running Tabs Running Club
DESCRIPTION:
URL:https://tipplesbrews.com/event/running-tabs-running-club/2026-03-26/
END:VEVENT
BEGIN:VEVENT
DTSTART;TZID=America/New_York:20260331T170000
DTEND;TZID=America/New_York:20260331T200000
DTSTAMP:20260423T161249
CREATED:20250721T173928Z
LAST-MODIFIED:20251216T185026Z
UID:10001879-1774976400-1774987200@tipplesbrews.com
SUMMARY:WOW! Tipple's Wine of the Week Tasting!
DESCRIPTION:
URL:https://tipplesbrews.com/event/tipples-wine-of-the-week-tasting/2026-03-31/
ATTACH;FMTTYPE=image/png:https://tipplesbrews.com/wp-content/uploads/2024/03/Copy-of-Todays-Pourcast.png
END:VEVENT
BEGIN:VEVENT
DTSTART;TZID=America/New_York:20260402T183000
DTEND;TZID=America/New_York:20260402T193000
DTSTAMP:20260423T161249
CREATED:20250210T153740Z
LAST-MODIFIED:20250210T153740Z
UID:10001224-1775154600-1775158200@tipplesbrews.com
SUMMARY:Running Tabs Running Club
DESCRIPTION:
URL:https://tipplesbrews.com/event/running-tabs-running-club/2026-04-02/
END:VEVENT
BEGIN:VEVENT
DTSTART;TZID=America/New_York:20260407T170000
DTEND;TZID=America/New_York:20260407T200000
DTSTAMP:20260423T161249
CREATED:20250721T173928Z
LAST-MODIFIED:20251216T185026Z
UID:10001880-1775581200-1775592000@tipplesbrews.com
SUMMARY:WOW! Tipple's Wine of the Week Tasting!
DESCRIPTION:
URL:https://tipplesbrews.com/event/tipples-wine-of-the-week-tasting/2026-04-07/
ATTACH;FMTTYPE=image/png:https://tipplesbrews.com/wp-content/uploads/2024/03/Copy-of-Todays-Pourcast.png
END:VEVENT
BEGIN:VEVENT
DTSTART;TZID=America/New_York:20260409T183000
DTEND;TZID=America/New_York:20260409T193000
DTSTAMP:20260423T161249
CREATED:20250210T153740Z
LAST-MODIFIED:20250210T153740Z
UID:10001225-1775759400-1775763000@tipplesbrews.com
SUMMARY:Running Tabs Running Club
DESCRIPTION:
URL:https://tipplesbrews.com/event/running-tabs-running-club/2026-04-09/
END:VEVENT
BEGIN:VEVENT
DTSTART;TZID=America/New_York:20260414T170000
DTEND;TZID=America/New_York:20260414T200000
DTSTAMP:20260423T161249
CREATED:20260413T174251Z
LAST-MODIFIED:20260413T174324Z
UID:10001881-1776186000-1776196800@tipplesbrews.com
SUMMARY:WOW! Tipple's Wine of the Week Tasting!
DESCRIPTION:
URL:https://tipplesbrews.com/event/wow-tipples-wine-of-the-week-tasting-9/
ATTACH;FMTTYPE=image/png:https://tipplesbrews.com/wp-content/uploads/2026/04/WOW-IG-instagram-1.png
END:VEVENT
BEGIN:VEVENT
DTSTART;TZID=America/New_York:20260416T183000
DTEND;TZID=America/New_York:20260416T193000
DTSTAMP:20260423T161249
CREATED:20250210T153740Z
LAST-MODIFIED:20250210T153740Z
UID:10001226-1776364200-1776367800@tipplesbrews.com
SUMMARY:Running Tabs Running Club
DESCRIPTION:
URL:https://tipplesbrews.com/event/running-tabs-running-club/2026-04-16/
END:VEVENT
BEGIN:VEVENT
DTSTART;TZID=America/New_York:20260418T100000
DTEND;TZID=America/New_York:20260418T110000
DTSTAMP:20260423T161249
CREATED:20260323T163734Z
LAST-MODIFIED:20260406T204340Z
UID:10002204-1776506400-1776510000@tipplesbrews.com
SUMMARY:Tipple's Free Pilates Mat Class!
DESCRIPTION:
URL:https://tipplesbrews.com/event/tipples-free-pilates-mat-class/
ATTACH;FMTTYPE=image/png:https://tipplesbrews.com/wp-content/uploads/2026/03/FB-Pilates-Event-Instagram-Post-45-1.png
END:VEVENT
BEGIN:VEVENT
DTSTART;TZID=America/New_York:20260421T170000
DTEND;TZID=America/New_York:20260421T200000
DTSTAMP:20260423T161249
CREATED:20260420T173231Z
LAST-MODIFIED:20260420T173303Z
UID:10001882-1776790800-1776801600@tipplesbrews.com
SUMMARY:WOW! Tipple's Wine of the Week Tasting!
DESCRIPTION:
URL:https://tipplesbrews.com/event/wow-tipples-wine-of-the-week-tasting-10/
ATTACH;FMTTYPE=image/png:https://tipplesbrews.com/wp-content/uploads/2026/04/WOW-IG-instagram-4.png
END:VEVENT
BEGIN:VEVENT
DTSTART;TZID=America/New_York:20260423T170000
DTEND;TZID=America/New_York:20260423T200000
DTSTAMP:20260423T161249
CREATED:20250901T194935Z
LAST-MODIFIED:20260420T173344Z
UID:10002109-1776963600-1776974400@tipplesbrews.com
SUMMARY:Food Truck - The Good Life Sausages
DESCRIPTION:5-8pm Exotic Sausages/Toppings
URL:https://tipplesbrews.com/event/the-good-life-sausage-food-truck-2/
ATTACH;FMTTYPE=image/jpeg:https://tipplesbrews.com/wp-content/uploads/2024/07/434389965_10124216372117971_7697505553847189796_n.jpg
END:VEVENT
BEGIN:VEVENT
DTSTART;TZID=America/New_York:20260423T183000
DTEND;TZID=America/New_York:20260423T193000
DTSTAMP:20260423T161249
CREATED:20250210T153740Z
LAST-MODIFIED:20250210T153740Z
UID:10001227-1776969000-1776972600@tipplesbrews.com
SUMMARY:Running Tabs Running Club
DESCRIPTION:
URL:https://tipplesbrews.com/event/running-tabs-running-club/2026-04-23/
END:VEVENT
BEGIN:VEVENT
DTSTART;TZID=America/New_York:20260426T193000
DTEND;TZID=America/New_York:20260426T213000
DTSTAMP:20260423T161249
CREATED:20260323T163326Z
LAST-MODIFIED:20260323T163326Z
UID:10002203-1777231800-1777239000@tipplesbrews.com
SUMMARY:Tipple's Women in Wine Tasting
DESCRIPTION:
URL:https://tipplesbrews.com/event/tipples-women-in-wine-tasting/
ATTACH;FMTTYPE=image/png:https://tipplesbrews.com/wp-content/uploads/2026/03/Women-in-Wine-Tasting-2026-Instagram-Post-45-1.png
END:VEVENT
BEGIN:VEVENT
DTSTART;TZID=America/New_York:20260428T170000
DTEND;TZID=America/New_York:20260428T200000
DTSTAMP:20260423T161249
CREATED:20250721T173928Z
LAST-MODIFIED:20251216T185026Z
UID:10001883-1777395600-1777406400@tipplesbrews.com
SUMMARY:WOW! Tipple's Wine of the Week Tasting!
DESCRIPTION:
URL:https://tipplesbrews.com/event/tipples-wine-of-the-week-tasting/2026-04-28/
ATTACH;FMTTYPE=image/png:https://tipplesbrews.com/wp-content/uploads/2024/03/Copy-of-Todays-Pourcast.png
END:VEVENT
BEGIN:VEVENT
DTSTART;TZID=America/New_York:20260430T183000
DTEND;TZID=America/New_York:20260430T193000
DTSTAMP:20260423T161249
CREATED:20250210T153740Z
LAST-MODIFIED:20250210T153740Z
UID:10001228-1777573800-1777577400@tipplesbrews.com
SUMMARY:Running Tabs Running Club
DESCRIPTION:
URL:https://tipplesbrews.com/event/running-tabs-running-club/2026-04-30/
END:VEVENT
BEGIN:VEVENT
DTSTART;TZID=America/New_York:20260505T170000
DTEND;TZID=America/New_York:20260505T200000
DTSTAMP:20260423T161249
CREATED:20250721T173928Z
LAST-MODIFIED:20251216T185026Z
UID:10001884-1778000400-1778011200@tipplesbrews.com
SUMMARY:WOW! Tipple's Wine of the Week Tasting!
DESCRIPTION:
URL:https://tipplesbrews.com/event/tipples-wine-of-the-week-tasting/2026-05-05/
ATTACH;FMTTYPE=image/png:https://tipplesbrews.com/wp-content/uploads/2024/03/Copy-of-Todays-Pourcast.png
END:VEVENT
BEGIN:VEVENT
DTSTART;TZID=America/New_York:20260507T183000
DTEND;TZID=America/New_York:20260507T193000
DTSTAMP:20260423T161249
CREATED:20250210T153740Z
LAST-MODIFIED:20250210T153740Z
UID:10001229-1778178600-1778182200@tipplesbrews.com
SUMMARY:Running Tabs Running Club
DESCRIPTION:
URL:https://tipplesbrews.com/event/running-tabs-running-club/2026-05-07/
END:VEVENT
BEGIN:VEVENT
DTSTART;TZID=America/New_York:20260512T170000
DTEND;TZID=America/New_York:20260512T200000
DTSTAMP:20260423T161249
CREATED:20250721T173928Z
LAST-MODIFIED:20251216T185026Z
UID:10001885-1778605200-1778616000@tipplesbrews.com
SUMMARY:WOW! Tipple's Wine of the Week Tasting!
DESCRIPTION:
URL:https://tipplesbrews.com/event/tipples-wine-of-the-week-tasting/2026-05-12/
ATTACH;FMTTYPE=image/png:https://tipplesbrews.com/wp-content/uploads/2024/03/Copy-of-Todays-Pourcast.png
END:VEVENT
BEGIN:VEVENT
DTSTART;TZID=America/New_York:20260514T183000
DTEND;TZID=America/New_York:20260514T193000
DTSTAMP:20260423T161249
CREATED:20250210T153740Z
LAST-MODIFIED:20250210T153740Z
UID:10001230-1778783400-1778787000@tipplesbrews.com
SUMMARY:Running Tabs Running Club
DESCRIPTION:
URL:https://tipplesbrews.com/event/running-tabs-running-club/2026-05-14/
END:VEVENT
BEGIN:VEVENT
DTSTART;TZID=America/New_York:20260519T170000
DTEND;TZID=America/New_York:20260519T200000
DTSTAMP:20260423T161249
CREATED:20250721T173928Z
LAST-MODIFIED:20251216T185026Z
UID:10001886-1779210000-1779220800@tipplesbrews.com
SUMMARY:WOW! Tipple's Wine of the Week Tasting!
DESCRIPTION:
URL:https://tipplesbrews.com/event/tipples-wine-of-the-week-tasting/2026-05-19/
ATTACH;FMTTYPE=image/png:https://tipplesbrews.com/wp-content/uploads/2024/03/Copy-of-Todays-Pourcast.png
END:VEVENT
BEGIN:VEVENT
DTSTART;TZID=America/New_York:20260521T183000
DTEND;TZID=America/New_York:20260521T193000
DTSTAMP:20260423T161249
CREATED:20250210T153740Z
LAST-MODIFIED:20250210T153740Z
UID:10001231-1779388200-1779391800@tipplesbrews.com
SUMMARY:Running Tabs Running Club
DESCRIPTION:
URL:https://tipplesbrews.com/event/running-tabs-running-club/2026-05-21/
END:VEVENT
BEGIN:VEVENT
DTSTART;TZID=America/New_York:20260526T170000
DTEND;TZID=America/New_York:20260526T200000
DTSTAMP:20260423T161249
CREATED:20250721T173928Z
LAST-MODIFIED:20251216T185026Z
UID:10001887-1779814800-1779825600@tipplesbrews.com
SUMMARY:WOW! Tipple's Wine of the Week Tasting!
DESCRIPTION:
URL:https://tipplesbrews.com/event/tipples-wine-of-the-week-tasting/2026-05-26/
ATTACH;FMTTYPE=image/png:https://tipplesbrews.com/wp-content/uploads/2024/03/Copy-of-Todays-Pourcast.png
END:VEVENT
BEGIN:VEVENT
DTSTART;TZID=America/New_York:20260528T183000
DTEND;TZID=America/New_York:20260528T193000
DTSTAMP:20260423T161249
CREATED:20250210T153740Z
LAST-MODIFIED:20250210T153740Z
UID:10001232-1779993000-1779996600@tipplesbrews.com
SUMMARY:Running Tabs Running Club
DESCRIPTION:
URL:https://tipplesbrews.com/event/running-tabs-running-club/2026-05-28/
END:VEVENT
BEGIN:VEVENT
DTSTART;TZID=America/New_York:20260602T170000
DTEND;TZID=America/New_York:20260602T200000
DTSTAMP:20260423T161249
CREATED:20250721T173928Z
LAST-MODIFIED:20251216T185026Z
UID:10001888-1780419600-1780430400@tipplesbrews.com
SUMMARY:WOW! Tipple's Wine of the Week Tasting!
DESCRIPTION:
URL:https://tipplesbrews.com/event/tipples-wine-of-the-week-tasting/2026-06-02/
ATTACH;FMTTYPE=image/png:https://tipplesbrews.com/wp-content/uploads/2024/03/Copy-of-Todays-Pourcast.png
END:VEVENT
END:VCALENDAR