BEGIN:VCALENDAR
VERSION:2.0
PRODID:-//Tipples Brews and Wine - ECPv6.15.20//NONSGML v1.0//EN
CALSCALE:GREGORIAN
METHOD:PUBLISH
X-WR-CALNAME:Tipples Brews and Wine
X-ORIGINAL-URL:https://tipplesbrews.com
X-WR-CALDESC:Events for Tipples Brews and Wine
REFRESH-INTERVAL;VALUE=DURATION:PT1H
X-Robots-Tag:noindex
X-PUBLISHED-TTL:PT1H
BEGIN:VTIMEZONE
TZID:America/New_York
BEGIN:DAYLIGHT
TZOFFSETFROM:-0500
TZOFFSETTO:-0400
TZNAME:EDT
DTSTART:20290311T070000
END:DAYLIGHT
BEGIN:STANDARD
TZOFFSETFROM:-0400
TZOFFSETTO:-0500
TZNAME:EST
DTSTART:20291104T060000
END:STANDARD
BEGIN:DAYLIGHT
TZOFFSETFROM:-0500
TZOFFSETTO:-0400
TZNAME:EDT
DTSTART:20300310T070000
END:DAYLIGHT
BEGIN:STANDARD
TZOFFSETFROM:-0400
TZOFFSETTO:-0500
TZNAME:EST
DTSTART:20301103T060000
END:STANDARD
BEGIN:DAYLIGHT
TZOFFSETFROM:-0500
TZOFFSETTO:-0400
TZNAME:EDT
DTSTART:20310309T070000
END:DAYLIGHT
BEGIN:STANDARD
TZOFFSETFROM:-0400
TZOFFSETTO:-0500
TZNAME:EST
DTSTART:20311102T060000
END:STANDARD
END:VTIMEZONE
BEGIN:VEVENT
DTSTART;TZID=America/New_York:20300425T183000
DTEND;TZID=America/New_York:20300425T193000
DTSTAMP:20260426T002918
CREATED:20250210T153740Z
LAST-MODIFIED:20250210T153740Z
UID:10002140-1903372200-1903375800@tipplesbrews.com
SUMMARY:Running Tabs Running Club
DESCRIPTION:
URL:https://tipplesbrews.com/event/running-tabs-running-club/2030-04-25/
END:VEVENT
BEGIN:VEVENT
DTSTART;TZID=America/New_York:20300430T170000
DTEND;TZID=America/New_York:20300430T200000
DTSTAMP:20260426T002918
CREATED:20250721T173928Z
LAST-MODIFIED:20251216T185026Z
UID:10002092-1903798800-1903809600@tipplesbrews.com
SUMMARY:WOW! Tipple's Wine of the Week Tasting!
DESCRIPTION:
URL:https://tipplesbrews.com/event/tipples-wine-of-the-week-tasting/2030-04-30/
ATTACH;FMTTYPE=image/png:https://tipplesbrews.com/wp-content/uploads/2024/03/Copy-of-Todays-Pourcast.png
END:VEVENT
BEGIN:VEVENT
DTSTART;TZID=America/New_York:20300502T183000
DTEND;TZID=America/New_York:20300502T193000
DTSTAMP:20260426T002918
CREATED:20250210T153740Z
LAST-MODIFIED:20250210T153740Z
UID:10002141-1903977000-1903980600@tipplesbrews.com
SUMMARY:Running Tabs Running Club
DESCRIPTION:
URL:https://tipplesbrews.com/event/running-tabs-running-club/2030-05-02/
END:VEVENT
BEGIN:VEVENT
DTSTART;TZID=America/New_York:20300507T170000
DTEND;TZID=America/New_York:20300507T200000
DTSTAMP:20260426T002918
CREATED:20250721T173928Z
LAST-MODIFIED:20251216T185026Z
UID:10002093-1904403600-1904414400@tipplesbrews.com
SUMMARY:WOW! Tipple's Wine of the Week Tasting!
DESCRIPTION:
URL:https://tipplesbrews.com/event/tipples-wine-of-the-week-tasting/2030-05-07/
ATTACH;FMTTYPE=image/png:https://tipplesbrews.com/wp-content/uploads/2024/03/Copy-of-Todays-Pourcast.png
END:VEVENT
BEGIN:VEVENT
DTSTART;TZID=America/New_York:20300509T183000
DTEND;TZID=America/New_York:20300509T193000
DTSTAMP:20260426T002918
CREATED:20250210T153740Z
LAST-MODIFIED:20250210T153740Z
UID:10002142-1904581800-1904585400@tipplesbrews.com
SUMMARY:Running Tabs Running Club
DESCRIPTION:
URL:https://tipplesbrews.com/event/running-tabs-running-club/2030-05-09/
END:VEVENT
BEGIN:VEVENT
DTSTART;TZID=America/New_York:20300514T170000
DTEND;TZID=America/New_York:20300514T200000
DTSTAMP:20260426T002918
CREATED:20250721T173928Z
LAST-MODIFIED:20251216T185026Z
UID:10002094-1905008400-1905019200@tipplesbrews.com
SUMMARY:WOW! Tipple's Wine of the Week Tasting!
DESCRIPTION:
URL:https://tipplesbrews.com/event/tipples-wine-of-the-week-tasting/2030-05-14/
ATTACH;FMTTYPE=image/png:https://tipplesbrews.com/wp-content/uploads/2024/03/Copy-of-Todays-Pourcast.png
END:VEVENT
BEGIN:VEVENT
DTSTART;TZID=America/New_York:20300516T183000
DTEND;TZID=America/New_York:20300516T193000
DTSTAMP:20260426T002918
CREATED:20250210T153740Z
LAST-MODIFIED:20250210T153740Z
UID:10002143-1905186600-1905190200@tipplesbrews.com
SUMMARY:Running Tabs Running Club
DESCRIPTION:
URL:https://tipplesbrews.com/event/running-tabs-running-club/2030-05-16/
END:VEVENT
BEGIN:VEVENT
DTSTART;TZID=America/New_York:20300521T170000
DTEND;TZID=America/New_York:20300521T200000
DTSTAMP:20260426T002918
CREATED:20250721T173928Z
LAST-MODIFIED:20251216T185026Z
UID:10002095-1905613200-1905624000@tipplesbrews.com
SUMMARY:WOW! Tipple's Wine of the Week Tasting!
DESCRIPTION:
URL:https://tipplesbrews.com/event/tipples-wine-of-the-week-tasting/2030-05-21/
ATTACH;FMTTYPE=image/png:https://tipplesbrews.com/wp-content/uploads/2024/03/Copy-of-Todays-Pourcast.png
END:VEVENT
BEGIN:VEVENT
DTSTART;TZID=America/New_York:20300523T183000
DTEND;TZID=America/New_York:20300523T193000
DTSTAMP:20260426T002918
CREATED:20250210T153740Z
LAST-MODIFIED:20250210T153740Z
UID:10002144-1905791400-1905795000@tipplesbrews.com
SUMMARY:Running Tabs Running Club
DESCRIPTION:
URL:https://tipplesbrews.com/event/running-tabs-running-club/2030-05-23/
END:VEVENT
BEGIN:VEVENT
DTSTART;TZID=America/New_York:20300528T170000
DTEND;TZID=America/New_York:20300528T200000
DTSTAMP:20260426T002918
CREATED:20250721T173928Z
LAST-MODIFIED:20251216T185026Z
UID:10002096-1906218000-1906228800@tipplesbrews.com
SUMMARY:WOW! Tipple's Wine of the Week Tasting!
DESCRIPTION:
URL:https://tipplesbrews.com/event/tipples-wine-of-the-week-tasting/2030-05-28/
ATTACH;FMTTYPE=image/png:https://tipplesbrews.com/wp-content/uploads/2024/03/Copy-of-Todays-Pourcast.png
END:VEVENT
BEGIN:VEVENT
DTSTART;TZID=America/New_York:20300530T183000
DTEND;TZID=America/New_York:20300530T193000
DTSTAMP:20260426T002918
CREATED:20250210T153740Z
LAST-MODIFIED:20250210T153740Z
UID:10002145-1906396200-1906399800@tipplesbrews.com
SUMMARY:Running Tabs Running Club
DESCRIPTION:
URL:https://tipplesbrews.com/event/running-tabs-running-club/2030-05-30/
END:VEVENT
BEGIN:VEVENT
DTSTART;TZID=America/New_York:20300604T170000
DTEND;TZID=America/New_York:20300604T200000
DTSTAMP:20260426T002918
CREATED:20250721T173928Z
LAST-MODIFIED:20251216T185026Z
UID:10002097-1906822800-1906833600@tipplesbrews.com
SUMMARY:WOW! Tipple's Wine of the Week Tasting!
DESCRIPTION:
URL:https://tipplesbrews.com/event/tipples-wine-of-the-week-tasting/2030-06-04/
ATTACH;FMTTYPE=image/png:https://tipplesbrews.com/wp-content/uploads/2024/03/Copy-of-Todays-Pourcast.png
END:VEVENT
BEGIN:VEVENT
DTSTART;TZID=America/New_York:20300606T183000
DTEND;TZID=America/New_York:20300606T193000
DTSTAMP:20260426T002918
CREATED:20250210T153740Z
LAST-MODIFIED:20250210T153740Z
UID:10002146-1907001000-1907004600@tipplesbrews.com
SUMMARY:Running Tabs Running Club
DESCRIPTION:
URL:https://tipplesbrews.com/event/running-tabs-running-club/2030-06-06/
END:VEVENT
BEGIN:VEVENT
DTSTART;TZID=America/New_York:20300611T170000
DTEND;TZID=America/New_York:20300611T200000
DTSTAMP:20260426T002918
CREATED:20250721T173928Z
LAST-MODIFIED:20251216T185026Z
UID:10002098-1907427600-1907438400@tipplesbrews.com
SUMMARY:WOW! Tipple's Wine of the Week Tasting!
DESCRIPTION:
URL:https://tipplesbrews.com/event/tipples-wine-of-the-week-tasting/2030-06-11/
ATTACH;FMTTYPE=image/png:https://tipplesbrews.com/wp-content/uploads/2024/03/Copy-of-Todays-Pourcast.png
END:VEVENT
BEGIN:VEVENT
DTSTART;TZID=America/New_York:20300613T183000
DTEND;TZID=America/New_York:20300613T193000
DTSTAMP:20260426T002918
CREATED:20250210T153740Z
LAST-MODIFIED:20250210T153740Z
UID:10002147-1907605800-1907609400@tipplesbrews.com
SUMMARY:Running Tabs Running Club
DESCRIPTION:
URL:https://tipplesbrews.com/event/running-tabs-running-club/2030-06-13/
END:VEVENT
BEGIN:VEVENT
DTSTART;TZID=America/New_York:20300618T170000
DTEND;TZID=America/New_York:20300618T200000
DTSTAMP:20260426T002918
CREATED:20250721T173928Z
LAST-MODIFIED:20251216T185026Z
UID:10002099-1908032400-1908043200@tipplesbrews.com
SUMMARY:WOW! Tipple's Wine of the Week Tasting!
DESCRIPTION:
URL:https://tipplesbrews.com/event/tipples-wine-of-the-week-tasting/2030-06-18/
ATTACH;FMTTYPE=image/png:https://tipplesbrews.com/wp-content/uploads/2024/03/Copy-of-Todays-Pourcast.png
END:VEVENT
BEGIN:VEVENT
DTSTART;TZID=America/New_York:20300620T183000
DTEND;TZID=America/New_York:20300620T193000
DTSTAMP:20260426T002918
CREATED:20250210T153740Z
LAST-MODIFIED:20250210T153740Z
UID:10002148-1908210600-1908214200@tipplesbrews.com
SUMMARY:Running Tabs Running Club
DESCRIPTION:
URL:https://tipplesbrews.com/event/running-tabs-running-club/2030-06-20/
END:VEVENT
BEGIN:VEVENT
DTSTART;TZID=America/New_York:20300625T170000
DTEND;TZID=America/New_York:20300625T200000
DTSTAMP:20260426T002918
CREATED:20250721T173928Z
LAST-MODIFIED:20251216T185026Z
UID:10002100-1908637200-1908648000@tipplesbrews.com
SUMMARY:WOW! Tipple's Wine of the Week Tasting!
DESCRIPTION:
URL:https://tipplesbrews.com/event/tipples-wine-of-the-week-tasting/2030-06-25/
ATTACH;FMTTYPE=image/png:https://tipplesbrews.com/wp-content/uploads/2024/03/Copy-of-Todays-Pourcast.png
END:VEVENT
BEGIN:VEVENT
DTSTART;TZID=America/New_York:20300627T183000
DTEND;TZID=America/New_York:20300627T193000
DTSTAMP:20260426T002918
CREATED:20250210T153740Z
LAST-MODIFIED:20250210T153740Z
UID:10002149-1908815400-1908819000@tipplesbrews.com
SUMMARY:Running Tabs Running Club
DESCRIPTION:
URL:https://tipplesbrews.com/event/running-tabs-running-club/2030-06-27/
END:VEVENT
BEGIN:VEVENT
DTSTART;TZID=America/New_York:20300702T170000
DTEND;TZID=America/New_York:20300702T200000
DTSTAMP:20260426T002918
CREATED:20250721T173928Z
LAST-MODIFIED:20251216T185026Z
UID:10002101-1909242000-1909252800@tipplesbrews.com
SUMMARY:WOW! Tipple's Wine of the Week Tasting!
DESCRIPTION:
URL:https://tipplesbrews.com/event/tipples-wine-of-the-week-tasting/2030-07-02/
ATTACH;FMTTYPE=image/png:https://tipplesbrews.com/wp-content/uploads/2024/03/Copy-of-Todays-Pourcast.png
END:VEVENT
BEGIN:VEVENT
DTSTART;TZID=America/New_York:20300704T183000
DTEND;TZID=America/New_York:20300704T193000
DTSTAMP:20260426T002918
CREATED:20250210T153740Z
LAST-MODIFIED:20250210T153740Z
UID:10002150-1909420200-1909423800@tipplesbrews.com
SUMMARY:Running Tabs Running Club
DESCRIPTION:
URL:https://tipplesbrews.com/event/running-tabs-running-club/2030-07-04/
END:VEVENT
BEGIN:VEVENT
DTSTART;TZID=America/New_York:20300709T170000
DTEND;TZID=America/New_York:20300709T200000
DTSTAMP:20260426T002918
CREATED:20250721T173928Z
LAST-MODIFIED:20251216T185026Z
UID:10002102-1909846800-1909857600@tipplesbrews.com
SUMMARY:WOW! Tipple's Wine of the Week Tasting!
DESCRIPTION:
URL:https://tipplesbrews.com/event/tipples-wine-of-the-week-tasting/2030-07-09/
ATTACH;FMTTYPE=image/png:https://tipplesbrews.com/wp-content/uploads/2024/03/Copy-of-Todays-Pourcast.png
END:VEVENT
BEGIN:VEVENT
DTSTART;TZID=America/New_York:20300711T183000
DTEND;TZID=America/New_York:20300711T193000
DTSTAMP:20260426T002918
CREATED:20250210T153740Z
LAST-MODIFIED:20250210T153740Z
UID:10002151-1910025000-1910028600@tipplesbrews.com
SUMMARY:Running Tabs Running Club
DESCRIPTION:
URL:https://tipplesbrews.com/event/running-tabs-running-club/2030-07-11/
END:VEVENT
BEGIN:VEVENT
DTSTART;TZID=America/New_York:20300716T170000
DTEND;TZID=America/New_York:20300716T200000
DTSTAMP:20260426T002918
CREATED:20250721T173928Z
LAST-MODIFIED:20251216T185026Z
UID:10002103-1910451600-1910462400@tipplesbrews.com
SUMMARY:WOW! Tipple's Wine of the Week Tasting!
DESCRIPTION:
URL:https://tipplesbrews.com/event/tipples-wine-of-the-week-tasting/2030-07-16/
ATTACH;FMTTYPE=image/png:https://tipplesbrews.com/wp-content/uploads/2024/03/Copy-of-Todays-Pourcast.png
END:VEVENT
BEGIN:VEVENT
DTSTART;TZID=America/New_York:20300718T183000
DTEND;TZID=America/New_York:20300718T193000
DTSTAMP:20260426T002918
CREATED:20250210T153740Z
LAST-MODIFIED:20250210T153740Z
UID:10002152-1910629800-1910633400@tipplesbrews.com
SUMMARY:Running Tabs Running Club
DESCRIPTION:
URL:https://tipplesbrews.com/event/running-tabs-running-club/2030-07-18/
END:VEVENT
BEGIN:VEVENT
DTSTART;TZID=America/New_York:20300723T170000
DTEND;TZID=America/New_York:20300723T200000
DTSTAMP:20260426T002918
CREATED:20250721T173928Z
LAST-MODIFIED:20251216T185026Z
UID:10002105-1911056400-1911067200@tipplesbrews.com
SUMMARY:WOW! Tipple's Wine of the Week Tasting!
DESCRIPTION:
URL:https://tipplesbrews.com/event/tipples-wine-of-the-week-tasting/2030-07-23/
ATTACH;FMTTYPE=image/png:https://tipplesbrews.com/wp-content/uploads/2024/03/Copy-of-Todays-Pourcast.png
END:VEVENT
BEGIN:VEVENT
DTSTART;TZID=America/New_York:20300725T183000
DTEND;TZID=America/New_York:20300725T193000
DTSTAMP:20260426T002918
CREATED:20250210T153740Z
LAST-MODIFIED:20250210T153740Z
UID:10002153-1911234600-1911238200@tipplesbrews.com
SUMMARY:Running Tabs Running Club
DESCRIPTION:
URL:https://tipplesbrews.com/event/running-tabs-running-club/2030-07-25/
END:VEVENT
BEGIN:VEVENT
DTSTART;TZID=America/New_York:20300730T170000
DTEND;TZID=America/New_York:20300730T200000
DTSTAMP:20260426T002918
CREATED:20250721T173928Z
LAST-MODIFIED:20251216T185026Z
UID:10002106-1911661200-1911672000@tipplesbrews.com
SUMMARY:WOW! Tipple's Wine of the Week Tasting!
DESCRIPTION:
URL:https://tipplesbrews.com/event/tipples-wine-of-the-week-tasting/2030-07-30/
ATTACH;FMTTYPE=image/png:https://tipplesbrews.com/wp-content/uploads/2024/03/Copy-of-Todays-Pourcast.png
END:VEVENT
BEGIN:VEVENT
DTSTART;TZID=America/New_York:20300801T183000
DTEND;TZID=America/New_York:20300801T193000
DTSTAMP:20260426T002918
CREATED:20250210T153740Z
LAST-MODIFIED:20250210T153740Z
UID:10002154-1911839400-1911843000@tipplesbrews.com
SUMMARY:Running Tabs Running Club
DESCRIPTION:
URL:https://tipplesbrews.com/event/running-tabs-running-club/2030-08-01/
END:VEVENT
BEGIN:VEVENT
DTSTART;TZID=America/New_York:20300806T170000
DTEND;TZID=America/New_York:20300806T200000
DTSTAMP:20260426T002918
CREATED:20250721T173928Z
LAST-MODIFIED:20251216T185026Z
UID:10002110-1912266000-1912276800@tipplesbrews.com
SUMMARY:WOW! Tipple's Wine of the Week Tasting!
DESCRIPTION:
URL:https://tipplesbrews.com/event/tipples-wine-of-the-week-tasting/2030-08-06/
ATTACH;FMTTYPE=image/png:https://tipplesbrews.com/wp-content/uploads/2024/03/Copy-of-Todays-Pourcast.png
END:VEVENT
END:VCALENDAR