BEGIN:VCALENDAR
VERSION:2.0
PRODID:-//Tipples Brews and Wine - ECPv6.15.20//NONSGML v1.0//EN
CALSCALE:GREGORIAN
METHOD:PUBLISH
X-ORIGINAL-URL:https://tipplesbrews.com
X-WR-CALDESC:Events for Tipples Brews and Wine
REFRESH-INTERVAL;VALUE=DURATION:PT1H
X-Robots-Tag:noindex
X-PUBLISHED-TTL:PT1H
BEGIN:VTIMEZONE
TZID:America/New_York
BEGIN:DAYLIGHT
TZOFFSETFROM:-0500
TZOFFSETTO:-0400
TZNAME:EDT
DTSTART:20270314T070000
END:DAYLIGHT
BEGIN:STANDARD
TZOFFSETFROM:-0400
TZOFFSETTO:-0500
TZNAME:EST
DTSTART:20271107T060000
END:STANDARD
BEGIN:DAYLIGHT
TZOFFSETFROM:-0500
TZOFFSETTO:-0400
TZNAME:EDT
DTSTART:20280312T070000
END:DAYLIGHT
BEGIN:STANDARD
TZOFFSETFROM:-0400
TZOFFSETTO:-0500
TZNAME:EST
DTSTART:20281105T060000
END:STANDARD
BEGIN:DAYLIGHT
TZOFFSETFROM:-0500
TZOFFSETTO:-0400
TZNAME:EDT
DTSTART:20290311T070000
END:DAYLIGHT
BEGIN:STANDARD
TZOFFSETFROM:-0400
TZOFFSETTO:-0500
TZNAME:EST
DTSTART:20291104T060000
END:STANDARD
END:VTIMEZONE
BEGIN:VEVENT
DTSTART;TZID=America/New_York:20280627T170000
DTEND;TZID=America/New_York:20280627T200000
DTSTAMP:20260425T103904
CREATED:20250721T173928Z
LAST-MODIFIED:20251216T185026Z
UID:10001996-1845738000-1845748800@tipplesbrews.com
SUMMARY:WOW! Tipple's Wine of the Week Tasting!
DESCRIPTION:
URL:https://tipplesbrews.com/event/tipples-wine-of-the-week-tasting/2028-06-27/
ATTACH;FMTTYPE=image/png:https://tipplesbrews.com/wp-content/uploads/2024/03/Copy-of-Todays-Pourcast.png
END:VEVENT
BEGIN:VEVENT
DTSTART;TZID=America/New_York:20280629T183000
DTEND;TZID=America/New_York:20280629T193000
DTSTAMP:20260425T103904
CREATED:20250210T153740Z
LAST-MODIFIED:20250210T153740Z
UID:10001341-1845916200-1845919800@tipplesbrews.com
SUMMARY:Running Tabs Running Club
DESCRIPTION:
URL:https://tipplesbrews.com/event/running-tabs-running-club/2028-06-29/
END:VEVENT
BEGIN:VEVENT
DTSTART;TZID=America/New_York:20280704T170000
DTEND;TZID=America/New_York:20280704T200000
DTSTAMP:20260425T103904
CREATED:20250721T173928Z
LAST-MODIFIED:20251216T185026Z
UID:10001997-1846342800-1846353600@tipplesbrews.com
SUMMARY:WOW! Tipple's Wine of the Week Tasting!
DESCRIPTION:
URL:https://tipplesbrews.com/event/tipples-wine-of-the-week-tasting/2028-07-04/
ATTACH;FMTTYPE=image/png:https://tipplesbrews.com/wp-content/uploads/2024/03/Copy-of-Todays-Pourcast.png
END:VEVENT
BEGIN:VEVENT
DTSTART;TZID=America/New_York:20280706T183000
DTEND;TZID=America/New_York:20280706T193000
DTSTAMP:20260425T103904
CREATED:20250210T153740Z
LAST-MODIFIED:20250210T153740Z
UID:10001342-1846521000-1846524600@tipplesbrews.com
SUMMARY:Running Tabs Running Club
DESCRIPTION:
URL:https://tipplesbrews.com/event/running-tabs-running-club/2028-07-06/
END:VEVENT
BEGIN:VEVENT
DTSTART;TZID=America/New_York:20280711T170000
DTEND;TZID=America/New_York:20280711T200000
DTSTAMP:20260425T103904
CREATED:20250721T173928Z
LAST-MODIFIED:20251216T185026Z
UID:10001998-1846947600-1846958400@tipplesbrews.com
SUMMARY:WOW! Tipple's Wine of the Week Tasting!
DESCRIPTION:
URL:https://tipplesbrews.com/event/tipples-wine-of-the-week-tasting/2028-07-11/
ATTACH;FMTTYPE=image/png:https://tipplesbrews.com/wp-content/uploads/2024/03/Copy-of-Todays-Pourcast.png
END:VEVENT
BEGIN:VEVENT
DTSTART;TZID=America/New_York:20280713T183000
DTEND;TZID=America/New_York:20280713T193000
DTSTAMP:20260425T103904
CREATED:20250210T153740Z
LAST-MODIFIED:20250210T153740Z
UID:10001343-1847125800-1847129400@tipplesbrews.com
SUMMARY:Running Tabs Running Club
DESCRIPTION:
URL:https://tipplesbrews.com/event/running-tabs-running-club/2028-07-13/
END:VEVENT
BEGIN:VEVENT
DTSTART;TZID=America/New_York:20280718T170000
DTEND;TZID=America/New_York:20280718T200000
DTSTAMP:20260425T103904
CREATED:20250721T173928Z
LAST-MODIFIED:20251216T185026Z
UID:10001999-1847552400-1847563200@tipplesbrews.com
SUMMARY:WOW! Tipple's Wine of the Week Tasting!
DESCRIPTION:
URL:https://tipplesbrews.com/event/tipples-wine-of-the-week-tasting/2028-07-18/
ATTACH;FMTTYPE=image/png:https://tipplesbrews.com/wp-content/uploads/2024/03/Copy-of-Todays-Pourcast.png
END:VEVENT
BEGIN:VEVENT
DTSTART;TZID=America/New_York:20280720T183000
DTEND;TZID=America/New_York:20280720T193000
DTSTAMP:20260425T103904
CREATED:20250210T153740Z
LAST-MODIFIED:20250210T153740Z
UID:10001344-1847730600-1847734200@tipplesbrews.com
SUMMARY:Running Tabs Running Club
DESCRIPTION:
URL:https://tipplesbrews.com/event/running-tabs-running-club/2028-07-20/
END:VEVENT
BEGIN:VEVENT
DTSTART;TZID=America/New_York:20280725T170000
DTEND;TZID=America/New_York:20280725T200000
DTSTAMP:20260425T103904
CREATED:20250721T173928Z
LAST-MODIFIED:20251216T185026Z
UID:10002000-1848157200-1848168000@tipplesbrews.com
SUMMARY:WOW! Tipple's Wine of the Week Tasting!
DESCRIPTION:
URL:https://tipplesbrews.com/event/tipples-wine-of-the-week-tasting/2028-07-25/
ATTACH;FMTTYPE=image/png:https://tipplesbrews.com/wp-content/uploads/2024/03/Copy-of-Todays-Pourcast.png
END:VEVENT
BEGIN:VEVENT
DTSTART;TZID=America/New_York:20280727T183000
DTEND;TZID=America/New_York:20280727T193000
DTSTAMP:20260425T103904
CREATED:20250210T153740Z
LAST-MODIFIED:20250210T153740Z
UID:10001345-1848335400-1848339000@tipplesbrews.com
SUMMARY:Running Tabs Running Club
DESCRIPTION:
URL:https://tipplesbrews.com/event/running-tabs-running-club/2028-07-27/
END:VEVENT
BEGIN:VEVENT
DTSTART;TZID=America/New_York:20280801T170000
DTEND;TZID=America/New_York:20280801T200000
DTSTAMP:20260425T103904
CREATED:20250721T173928Z
LAST-MODIFIED:20251216T185026Z
UID:10002001-1848762000-1848772800@tipplesbrews.com
SUMMARY:WOW! Tipple's Wine of the Week Tasting!
DESCRIPTION:
URL:https://tipplesbrews.com/event/tipples-wine-of-the-week-tasting/2028-08-01/
ATTACH;FMTTYPE=image/png:https://tipplesbrews.com/wp-content/uploads/2024/03/Copy-of-Todays-Pourcast.png
END:VEVENT
BEGIN:VEVENT
DTSTART;TZID=America/New_York:20280803T183000
DTEND;TZID=America/New_York:20280803T193000
DTSTAMP:20260425T103904
CREATED:20250210T153740Z
LAST-MODIFIED:20250210T153740Z
UID:10001346-1848940200-1848943800@tipplesbrews.com
SUMMARY:Running Tabs Running Club
DESCRIPTION:
URL:https://tipplesbrews.com/event/running-tabs-running-club/2028-08-03/
END:VEVENT
BEGIN:VEVENT
DTSTART;TZID=America/New_York:20280808T170000
DTEND;TZID=America/New_York:20280808T200000
DTSTAMP:20260425T103904
CREATED:20250721T173928Z
LAST-MODIFIED:20251216T185026Z
UID:10002002-1849366800-1849377600@tipplesbrews.com
SUMMARY:WOW! Tipple's Wine of the Week Tasting!
DESCRIPTION:
URL:https://tipplesbrews.com/event/tipples-wine-of-the-week-tasting/2028-08-08/
ATTACH;FMTTYPE=image/png:https://tipplesbrews.com/wp-content/uploads/2024/03/Copy-of-Todays-Pourcast.png
END:VEVENT
BEGIN:VEVENT
DTSTART;TZID=America/New_York:20280810T183000
DTEND;TZID=America/New_York:20280810T193000
DTSTAMP:20260425T103904
CREATED:20250210T153740Z
LAST-MODIFIED:20250210T153740Z
UID:10001347-1849545000-1849548600@tipplesbrews.com
SUMMARY:Running Tabs Running Club
DESCRIPTION:
URL:https://tipplesbrews.com/event/running-tabs-running-club/2028-08-10/
END:VEVENT
BEGIN:VEVENT
DTSTART;TZID=America/New_York:20280815T170000
DTEND;TZID=America/New_York:20280815T200000
DTSTAMP:20260425T103904
CREATED:20250721T173928Z
LAST-MODIFIED:20251216T185026Z
UID:10002003-1849971600-1849982400@tipplesbrews.com
SUMMARY:WOW! Tipple's Wine of the Week Tasting!
DESCRIPTION:
URL:https://tipplesbrews.com/event/tipples-wine-of-the-week-tasting/2028-08-15/
ATTACH;FMTTYPE=image/png:https://tipplesbrews.com/wp-content/uploads/2024/03/Copy-of-Todays-Pourcast.png
END:VEVENT
BEGIN:VEVENT
DTSTART;TZID=America/New_York:20280817T183000
DTEND;TZID=America/New_York:20280817T193000
DTSTAMP:20260425T103904
CREATED:20250210T153740Z
LAST-MODIFIED:20250210T153740Z
UID:10001348-1850149800-1850153400@tipplesbrews.com
SUMMARY:Running Tabs Running Club
DESCRIPTION:
URL:https://tipplesbrews.com/event/running-tabs-running-club/2028-08-17/
END:VEVENT
BEGIN:VEVENT
DTSTART;TZID=America/New_York:20280822T170000
DTEND;TZID=America/New_York:20280822T200000
DTSTAMP:20260425T103904
CREATED:20250721T173928Z
LAST-MODIFIED:20251216T185026Z
UID:10002004-1850576400-1850587200@tipplesbrews.com
SUMMARY:WOW! Tipple's Wine of the Week Tasting!
DESCRIPTION:
URL:https://tipplesbrews.com/event/tipples-wine-of-the-week-tasting/2028-08-22/
ATTACH;FMTTYPE=image/png:https://tipplesbrews.com/wp-content/uploads/2024/03/Copy-of-Todays-Pourcast.png
END:VEVENT
BEGIN:VEVENT
DTSTART;TZID=America/New_York:20280824T183000
DTEND;TZID=America/New_York:20280824T193000
DTSTAMP:20260425T103904
CREATED:20250210T153740Z
LAST-MODIFIED:20250210T153740Z
UID:10001349-1850754600-1850758200@tipplesbrews.com
SUMMARY:Running Tabs Running Club
DESCRIPTION:
URL:https://tipplesbrews.com/event/running-tabs-running-club/2028-08-24/
END:VEVENT
BEGIN:VEVENT
DTSTART;TZID=America/New_York:20280829T170000
DTEND;TZID=America/New_York:20280829T200000
DTSTAMP:20260425T103904
CREATED:20250721T173928Z
LAST-MODIFIED:20251216T185026Z
UID:10002005-1851181200-1851192000@tipplesbrews.com
SUMMARY:WOW! Tipple's Wine of the Week Tasting!
DESCRIPTION:
URL:https://tipplesbrews.com/event/tipples-wine-of-the-week-tasting/2028-08-29/
ATTACH;FMTTYPE=image/png:https://tipplesbrews.com/wp-content/uploads/2024/03/Copy-of-Todays-Pourcast.png
END:VEVENT
BEGIN:VEVENT
DTSTART;TZID=America/New_York:20280831T183000
DTEND;TZID=America/New_York:20280831T193000
DTSTAMP:20260425T103904
CREATED:20250210T153740Z
LAST-MODIFIED:20250210T153740Z
UID:10001350-1851359400-1851363000@tipplesbrews.com
SUMMARY:Running Tabs Running Club
DESCRIPTION:
URL:https://tipplesbrews.com/event/running-tabs-running-club/2028-08-31/
END:VEVENT
BEGIN:VEVENT
DTSTART;TZID=America/New_York:20280905T170000
DTEND;TZID=America/New_York:20280905T200000
DTSTAMP:20260425T103904
CREATED:20250721T173928Z
LAST-MODIFIED:20251216T185026Z
UID:10002006-1851786000-1851796800@tipplesbrews.com
SUMMARY:WOW! Tipple's Wine of the Week Tasting!
DESCRIPTION:
URL:https://tipplesbrews.com/event/tipples-wine-of-the-week-tasting/2028-09-05/
ATTACH;FMTTYPE=image/png:https://tipplesbrews.com/wp-content/uploads/2024/03/Copy-of-Todays-Pourcast.png
END:VEVENT
BEGIN:VEVENT
DTSTART;TZID=America/New_York:20280907T183000
DTEND;TZID=America/New_York:20280907T193000
DTSTAMP:20260425T103904
CREATED:20250210T153740Z
LAST-MODIFIED:20250210T153740Z
UID:10001351-1851964200-1851967800@tipplesbrews.com
SUMMARY:Running Tabs Running Club
DESCRIPTION:
URL:https://tipplesbrews.com/event/running-tabs-running-club/2028-09-07/
END:VEVENT
BEGIN:VEVENT
DTSTART;TZID=America/New_York:20280912T170000
DTEND;TZID=America/New_York:20280912T200000
DTSTAMP:20260425T103904
CREATED:20250721T173928Z
LAST-MODIFIED:20251216T185026Z
UID:10002007-1852390800-1852401600@tipplesbrews.com
SUMMARY:WOW! Tipple's Wine of the Week Tasting!
DESCRIPTION:
URL:https://tipplesbrews.com/event/tipples-wine-of-the-week-tasting/2028-09-12/
ATTACH;FMTTYPE=image/png:https://tipplesbrews.com/wp-content/uploads/2024/03/Copy-of-Todays-Pourcast.png
END:VEVENT
BEGIN:VEVENT
DTSTART;TZID=America/New_York:20280914T183000
DTEND;TZID=America/New_York:20280914T193000
DTSTAMP:20260425T103904
CREATED:20250210T153740Z
LAST-MODIFIED:20250210T153740Z
UID:10001352-1852569000-1852572600@tipplesbrews.com
SUMMARY:Running Tabs Running Club
DESCRIPTION:
URL:https://tipplesbrews.com/event/running-tabs-running-club/2028-09-14/
END:VEVENT
BEGIN:VEVENT
DTSTART;TZID=America/New_York:20280919T170000
DTEND;TZID=America/New_York:20280919T200000
DTSTAMP:20260425T103904
CREATED:20250721T173928Z
LAST-MODIFIED:20251216T185026Z
UID:10002008-1852995600-1853006400@tipplesbrews.com
SUMMARY:WOW! Tipple's Wine of the Week Tasting!
DESCRIPTION:
URL:https://tipplesbrews.com/event/tipples-wine-of-the-week-tasting/2028-09-19/
ATTACH;FMTTYPE=image/png:https://tipplesbrews.com/wp-content/uploads/2024/03/Copy-of-Todays-Pourcast.png
END:VEVENT
BEGIN:VEVENT
DTSTART;TZID=America/New_York:20280921T183000
DTEND;TZID=America/New_York:20280921T193000
DTSTAMP:20260425T103904
CREATED:20250210T153740Z
LAST-MODIFIED:20250210T153740Z
UID:10001353-1853173800-1853177400@tipplesbrews.com
SUMMARY:Running Tabs Running Club
DESCRIPTION:
URL:https://tipplesbrews.com/event/running-tabs-running-club/2028-09-21/
END:VEVENT
BEGIN:VEVENT
DTSTART;TZID=America/New_York:20280926T170000
DTEND;TZID=America/New_York:20280926T200000
DTSTAMP:20260425T103904
CREATED:20250721T173928Z
LAST-MODIFIED:20251216T185026Z
UID:10002009-1853600400-1853611200@tipplesbrews.com
SUMMARY:WOW! Tipple's Wine of the Week Tasting!
DESCRIPTION:
URL:https://tipplesbrews.com/event/tipples-wine-of-the-week-tasting/2028-09-26/
ATTACH;FMTTYPE=image/png:https://tipplesbrews.com/wp-content/uploads/2024/03/Copy-of-Todays-Pourcast.png
END:VEVENT
BEGIN:VEVENT
DTSTART;TZID=America/New_York:20280928T183000
DTEND;TZID=America/New_York:20280928T193000
DTSTAMP:20260425T103904
CREATED:20250210T153740Z
LAST-MODIFIED:20250210T153740Z
UID:10001354-1853778600-1853782200@tipplesbrews.com
SUMMARY:Running Tabs Running Club
DESCRIPTION:
URL:https://tipplesbrews.com/event/running-tabs-running-club/2028-09-28/
END:VEVENT
BEGIN:VEVENT
DTSTART;TZID=America/New_York:20281003T170000
DTEND;TZID=America/New_York:20281003T200000
DTSTAMP:20260425T103904
CREATED:20250721T173928Z
LAST-MODIFIED:20251216T185026Z
UID:10002010-1854205200-1854216000@tipplesbrews.com
SUMMARY:WOW! Tipple's Wine of the Week Tasting!
DESCRIPTION:
URL:https://tipplesbrews.com/event/tipples-wine-of-the-week-tasting/2028-10-03/
ATTACH;FMTTYPE=image/png:https://tipplesbrews.com/wp-content/uploads/2024/03/Copy-of-Todays-Pourcast.png
END:VEVENT
BEGIN:VEVENT
DTSTART;TZID=America/New_York:20281005T183000
DTEND;TZID=America/New_York:20281005T193000
DTSTAMP:20260425T103904
CREATED:20250210T153740Z
LAST-MODIFIED:20250210T153740Z
UID:10001355-1854383400-1854387000@tipplesbrews.com
SUMMARY:Running Tabs Running Club
DESCRIPTION:
URL:https://tipplesbrews.com/event/running-tabs-running-club/2028-10-05/
END:VEVENT
END:VCALENDAR