BEGIN:VCALENDAR
VERSION:2.0
PRODID:-//Tipples Brews and Wine - ECPv6.15.20//NONSGML v1.0//EN
CALSCALE:GREGORIAN
METHOD:PUBLISH
X-ORIGINAL-URL:https://tipplesbrews.com
X-WR-CALDESC:Events for Tipples Brews and Wine
REFRESH-INTERVAL;VALUE=DURATION:PT1H
X-Robots-Tag:noindex
X-PUBLISHED-TTL:PT1H
BEGIN:VTIMEZONE
TZID:America/New_York
BEGIN:DAYLIGHT
TZOFFSETFROM:-0500
TZOFFSETTO:-0400
TZNAME:EDT
DTSTART:20280312T070000
END:DAYLIGHT
BEGIN:STANDARD
TZOFFSETFROM:-0400
TZOFFSETTO:-0500
TZNAME:EST
DTSTART:20281105T060000
END:STANDARD
BEGIN:DAYLIGHT
TZOFFSETFROM:-0500
TZOFFSETTO:-0400
TZNAME:EDT
DTSTART:20290311T070000
END:DAYLIGHT
BEGIN:STANDARD
TZOFFSETFROM:-0400
TZOFFSETTO:-0500
TZNAME:EST
DTSTART:20291104T060000
END:STANDARD
BEGIN:DAYLIGHT
TZOFFSETFROM:-0500
TZOFFSETTO:-0400
TZNAME:EDT
DTSTART:20300310T070000
END:DAYLIGHT
BEGIN:STANDARD
TZOFFSETFROM:-0400
TZOFFSETTO:-0500
TZNAME:EST
DTSTART:20301103T060000
END:STANDARD
END:VTIMEZONE
BEGIN:VEVENT
DTSTART;TZID=America/New_York:20290904T170000
DTEND;TZID=America/New_York:20290904T200000
DTSTAMP:20260425T093209
CREATED:20250721T173928Z
LAST-MODIFIED:20251216T185026Z
UID:10002058-1883235600-1883246400@tipplesbrews.com
SUMMARY:WOW! Tipple's Wine of the Week Tasting!
DESCRIPTION:
URL:https://tipplesbrews.com/event/tipples-wine-of-the-week-tasting/2029-09-04/
ATTACH;FMTTYPE=image/png:https://tipplesbrews.com/wp-content/uploads/2024/03/Copy-of-Todays-Pourcast.png
END:VEVENT
BEGIN:VEVENT
DTSTART;TZID=America/New_York:20290906T183000
DTEND;TZID=America/New_York:20290906T193000
DTSTAMP:20260425T093209
CREATED:20250210T153740Z
LAST-MODIFIED:20250210T153740Z
UID:10001403-1883413800-1883417400@tipplesbrews.com
SUMMARY:Running Tabs Running Club
DESCRIPTION:
URL:https://tipplesbrews.com/event/running-tabs-running-club/2029-09-06/
END:VEVENT
BEGIN:VEVENT
DTSTART;TZID=America/New_York:20290911T170000
DTEND;TZID=America/New_York:20290911T200000
DTSTAMP:20260425T093209
CREATED:20250721T173928Z
LAST-MODIFIED:20251216T185026Z
UID:10002059-1883840400-1883851200@tipplesbrews.com
SUMMARY:WOW! Tipple's Wine of the Week Tasting!
DESCRIPTION:
URL:https://tipplesbrews.com/event/tipples-wine-of-the-week-tasting/2029-09-11/
ATTACH;FMTTYPE=image/png:https://tipplesbrews.com/wp-content/uploads/2024/03/Copy-of-Todays-Pourcast.png
END:VEVENT
BEGIN:VEVENT
DTSTART;TZID=America/New_York:20290913T183000
DTEND;TZID=America/New_York:20290913T193000
DTSTAMP:20260425T093209
CREATED:20250210T153740Z
LAST-MODIFIED:20250210T153740Z
UID:10001404-1884018600-1884022200@tipplesbrews.com
SUMMARY:Running Tabs Running Club
DESCRIPTION:
URL:https://tipplesbrews.com/event/running-tabs-running-club/2029-09-13/
END:VEVENT
BEGIN:VEVENT
DTSTART;TZID=America/New_York:20290918T170000
DTEND;TZID=America/New_York:20290918T200000
DTSTAMP:20260425T093209
CREATED:20250721T173928Z
LAST-MODIFIED:20251216T185026Z
UID:10002060-1884445200-1884456000@tipplesbrews.com
SUMMARY:WOW! Tipple's Wine of the Week Tasting!
DESCRIPTION:
URL:https://tipplesbrews.com/event/tipples-wine-of-the-week-tasting/2029-09-18/
ATTACH;FMTTYPE=image/png:https://tipplesbrews.com/wp-content/uploads/2024/03/Copy-of-Todays-Pourcast.png
END:VEVENT
BEGIN:VEVENT
DTSTART;TZID=America/New_York:20290920T183000
DTEND;TZID=America/New_York:20290920T193000
DTSTAMP:20260425T093209
CREATED:20250210T153740Z
LAST-MODIFIED:20250210T153740Z
UID:10001405-1884623400-1884627000@tipplesbrews.com
SUMMARY:Running Tabs Running Club
DESCRIPTION:
URL:https://tipplesbrews.com/event/running-tabs-running-club/2029-09-20/
END:VEVENT
BEGIN:VEVENT
DTSTART;TZID=America/New_York:20290925T170000
DTEND;TZID=America/New_York:20290925T200000
DTSTAMP:20260425T093209
CREATED:20250721T173928Z
LAST-MODIFIED:20251216T185026Z
UID:10002061-1885050000-1885060800@tipplesbrews.com
SUMMARY:WOW! Tipple's Wine of the Week Tasting!
DESCRIPTION:
URL:https://tipplesbrews.com/event/tipples-wine-of-the-week-tasting/2029-09-25/
ATTACH;FMTTYPE=image/png:https://tipplesbrews.com/wp-content/uploads/2024/03/Copy-of-Todays-Pourcast.png
END:VEVENT
BEGIN:VEVENT
DTSTART;TZID=America/New_York:20290927T183000
DTEND;TZID=America/New_York:20290927T193000
DTSTAMP:20260425T093209
CREATED:20250210T153740Z
LAST-MODIFIED:20250210T153740Z
UID:10001406-1885228200-1885231800@tipplesbrews.com
SUMMARY:Running Tabs Running Club
DESCRIPTION:
URL:https://tipplesbrews.com/event/running-tabs-running-club/2029-09-27/
END:VEVENT
BEGIN:VEVENT
DTSTART;TZID=America/New_York:20291002T170000
DTEND;TZID=America/New_York:20291002T200000
DTSTAMP:20260425T093209
CREATED:20250721T173928Z
LAST-MODIFIED:20251216T185026Z
UID:10002062-1885654800-1885665600@tipplesbrews.com
SUMMARY:WOW! Tipple's Wine of the Week Tasting!
DESCRIPTION:
URL:https://tipplesbrews.com/event/tipples-wine-of-the-week-tasting/2029-10-02/
ATTACH;FMTTYPE=image/png:https://tipplesbrews.com/wp-content/uploads/2024/03/Copy-of-Todays-Pourcast.png
END:VEVENT
BEGIN:VEVENT
DTSTART;TZID=America/New_York:20291004T183000
DTEND;TZID=America/New_York:20291004T193000
DTSTAMP:20260425T093209
CREATED:20250210T153740Z
LAST-MODIFIED:20250210T153740Z
UID:10001407-1885833000-1885836600@tipplesbrews.com
SUMMARY:Running Tabs Running Club
DESCRIPTION:
URL:https://tipplesbrews.com/event/running-tabs-running-club/2029-10-04/
END:VEVENT
BEGIN:VEVENT
DTSTART;TZID=America/New_York:20291009T170000
DTEND;TZID=America/New_York:20291009T200000
DTSTAMP:20260425T093209
CREATED:20250721T173928Z
LAST-MODIFIED:20251216T185026Z
UID:10002063-1886259600-1886270400@tipplesbrews.com
SUMMARY:WOW! Tipple's Wine of the Week Tasting!
DESCRIPTION:
URL:https://tipplesbrews.com/event/tipples-wine-of-the-week-tasting/2029-10-09/
ATTACH;FMTTYPE=image/png:https://tipplesbrews.com/wp-content/uploads/2024/03/Copy-of-Todays-Pourcast.png
END:VEVENT
BEGIN:VEVENT
DTSTART;TZID=America/New_York:20291011T183000
DTEND;TZID=America/New_York:20291011T193000
DTSTAMP:20260425T093209
CREATED:20250210T153740Z
LAST-MODIFIED:20250210T153740Z
UID:10001408-1886437800-1886441400@tipplesbrews.com
SUMMARY:Running Tabs Running Club
DESCRIPTION:
URL:https://tipplesbrews.com/event/running-tabs-running-club/2029-10-11/
END:VEVENT
BEGIN:VEVENT
DTSTART;TZID=America/New_York:20291016T170000
DTEND;TZID=America/New_York:20291016T200000
DTSTAMP:20260425T093209
CREATED:20250721T173928Z
LAST-MODIFIED:20251216T185026Z
UID:10002064-1886864400-1886875200@tipplesbrews.com
SUMMARY:WOW! Tipple's Wine of the Week Tasting!
DESCRIPTION:
URL:https://tipplesbrews.com/event/tipples-wine-of-the-week-tasting/2029-10-16/
ATTACH;FMTTYPE=image/png:https://tipplesbrews.com/wp-content/uploads/2024/03/Copy-of-Todays-Pourcast.png
END:VEVENT
BEGIN:VEVENT
DTSTART;TZID=America/New_York:20291018T183000
DTEND;TZID=America/New_York:20291018T193000
DTSTAMP:20260425T093209
CREATED:20250210T153740Z
LAST-MODIFIED:20250210T153740Z
UID:10001409-1887042600-1887046200@tipplesbrews.com
SUMMARY:Running Tabs Running Club
DESCRIPTION:
URL:https://tipplesbrews.com/event/running-tabs-running-club/2029-10-18/
END:VEVENT
BEGIN:VEVENT
DTSTART;TZID=America/New_York:20291023T170000
DTEND;TZID=America/New_York:20291023T200000
DTSTAMP:20260425T093209
CREATED:20250721T173928Z
LAST-MODIFIED:20251216T185026Z
UID:10002065-1887469200-1887480000@tipplesbrews.com
SUMMARY:WOW! Tipple's Wine of the Week Tasting!
DESCRIPTION:
URL:https://tipplesbrews.com/event/tipples-wine-of-the-week-tasting/2029-10-23/
ATTACH;FMTTYPE=image/png:https://tipplesbrews.com/wp-content/uploads/2024/03/Copy-of-Todays-Pourcast.png
END:VEVENT
BEGIN:VEVENT
DTSTART;TZID=America/New_York:20291025T183000
DTEND;TZID=America/New_York:20291025T193000
DTSTAMP:20260425T093209
CREATED:20250210T153740Z
LAST-MODIFIED:20250210T153740Z
UID:10001410-1887647400-1887651000@tipplesbrews.com
SUMMARY:Running Tabs Running Club
DESCRIPTION:
URL:https://tipplesbrews.com/event/running-tabs-running-club/2029-10-25/
END:VEVENT
BEGIN:VEVENT
DTSTART;TZID=America/New_York:20291030T170000
DTEND;TZID=America/New_York:20291030T200000
DTSTAMP:20260425T093209
CREATED:20250721T173928Z
LAST-MODIFIED:20251216T185026Z
UID:10002066-1888074000-1888084800@tipplesbrews.com
SUMMARY:WOW! Tipple's Wine of the Week Tasting!
DESCRIPTION:
URL:https://tipplesbrews.com/event/tipples-wine-of-the-week-tasting/2029-10-30/
ATTACH;FMTTYPE=image/png:https://tipplesbrews.com/wp-content/uploads/2024/03/Copy-of-Todays-Pourcast.png
END:VEVENT
BEGIN:VEVENT
DTSTART;TZID=America/New_York:20291101T183000
DTEND;TZID=America/New_York:20291101T193000
DTSTAMP:20260425T093209
CREATED:20250210T153740Z
LAST-MODIFIED:20250210T153740Z
UID:10001411-1888252200-1888255800@tipplesbrews.com
SUMMARY:Running Tabs Running Club
DESCRIPTION:
URL:https://tipplesbrews.com/event/running-tabs-running-club/2029-11-01/
END:VEVENT
BEGIN:VEVENT
DTSTART;TZID=America/New_York:20291106T170000
DTEND;TZID=America/New_York:20291106T200000
DTSTAMP:20260425T093209
CREATED:20250721T173928Z
LAST-MODIFIED:20251216T185026Z
UID:10002067-1888678800-1888689600@tipplesbrews.com
SUMMARY:WOW! Tipple's Wine of the Week Tasting!
DESCRIPTION:
URL:https://tipplesbrews.com/event/tipples-wine-of-the-week-tasting/2029-11-06/
ATTACH;FMTTYPE=image/png:https://tipplesbrews.com/wp-content/uploads/2024/03/Copy-of-Todays-Pourcast.png
END:VEVENT
BEGIN:VEVENT
DTSTART;TZID=America/New_York:20291108T183000
DTEND;TZID=America/New_York:20291108T193000
DTSTAMP:20260425T093209
CREATED:20250210T153740Z
LAST-MODIFIED:20250210T153740Z
UID:10001412-1888857000-1888860600@tipplesbrews.com
SUMMARY:Running Tabs Running Club
DESCRIPTION:
URL:https://tipplesbrews.com/event/running-tabs-running-club/2029-11-08/
END:VEVENT
BEGIN:VEVENT
DTSTART;TZID=America/New_York:20291113T170000
DTEND;TZID=America/New_York:20291113T200000
DTSTAMP:20260425T093209
CREATED:20250721T173928Z
LAST-MODIFIED:20251216T185026Z
UID:10002068-1889283600-1889294400@tipplesbrews.com
SUMMARY:WOW! Tipple's Wine of the Week Tasting!
DESCRIPTION:
URL:https://tipplesbrews.com/event/tipples-wine-of-the-week-tasting/2029-11-13/
ATTACH;FMTTYPE=image/png:https://tipplesbrews.com/wp-content/uploads/2024/03/Copy-of-Todays-Pourcast.png
END:VEVENT
BEGIN:VEVENT
DTSTART;TZID=America/New_York:20291115T183000
DTEND;TZID=America/New_York:20291115T193000
DTSTAMP:20260425T093209
CREATED:20250210T153740Z
LAST-MODIFIED:20250210T153740Z
UID:10001413-1889461800-1889465400@tipplesbrews.com
SUMMARY:Running Tabs Running Club
DESCRIPTION:
URL:https://tipplesbrews.com/event/running-tabs-running-club/2029-11-15/
END:VEVENT
BEGIN:VEVENT
DTSTART;TZID=America/New_York:20291120T170000
DTEND;TZID=America/New_York:20291120T200000
DTSTAMP:20260425T093209
CREATED:20250721T173928Z
LAST-MODIFIED:20251216T185026Z
UID:10002069-1889888400-1889899200@tipplesbrews.com
SUMMARY:WOW! Tipple's Wine of the Week Tasting!
DESCRIPTION:
URL:https://tipplesbrews.com/event/tipples-wine-of-the-week-tasting/2029-11-20/
ATTACH;FMTTYPE=image/png:https://tipplesbrews.com/wp-content/uploads/2024/03/Copy-of-Todays-Pourcast.png
END:VEVENT
BEGIN:VEVENT
DTSTART;TZID=America/New_York:20291122T183000
DTEND;TZID=America/New_York:20291122T193000
DTSTAMP:20260425T093209
CREATED:20250210T153740Z
LAST-MODIFIED:20250210T153740Z
UID:10001414-1890066600-1890070200@tipplesbrews.com
SUMMARY:Running Tabs Running Club
DESCRIPTION:
URL:https://tipplesbrews.com/event/running-tabs-running-club/2029-11-22/
END:VEVENT
BEGIN:VEVENT
DTSTART;TZID=America/New_York:20291127T170000
DTEND;TZID=America/New_York:20291127T200000
DTSTAMP:20260425T093209
CREATED:20250721T173928Z
LAST-MODIFIED:20251216T185026Z
UID:10002070-1890493200-1890504000@tipplesbrews.com
SUMMARY:WOW! Tipple's Wine of the Week Tasting!
DESCRIPTION:
URL:https://tipplesbrews.com/event/tipples-wine-of-the-week-tasting/2029-11-27/
ATTACH;FMTTYPE=image/png:https://tipplesbrews.com/wp-content/uploads/2024/03/Copy-of-Todays-Pourcast.png
END:VEVENT
BEGIN:VEVENT
DTSTART;TZID=America/New_York:20291129T183000
DTEND;TZID=America/New_York:20291129T193000
DTSTAMP:20260425T093209
CREATED:20250210T153740Z
LAST-MODIFIED:20250210T153740Z
UID:10001415-1890671400-1890675000@tipplesbrews.com
SUMMARY:Running Tabs Running Club
DESCRIPTION:
URL:https://tipplesbrews.com/event/running-tabs-running-club/2029-11-29/
END:VEVENT
BEGIN:VEVENT
DTSTART;TZID=America/New_York:20291204T170000
DTEND;TZID=America/New_York:20291204T200000
DTSTAMP:20260425T093209
CREATED:20250721T173928Z
LAST-MODIFIED:20251216T185026Z
UID:10002071-1891098000-1891108800@tipplesbrews.com
SUMMARY:WOW! Tipple's Wine of the Week Tasting!
DESCRIPTION:
URL:https://tipplesbrews.com/event/tipples-wine-of-the-week-tasting/2029-12-04/
ATTACH;FMTTYPE=image/png:https://tipplesbrews.com/wp-content/uploads/2024/03/Copy-of-Todays-Pourcast.png
END:VEVENT
BEGIN:VEVENT
DTSTART;TZID=America/New_York:20291206T183000
DTEND;TZID=America/New_York:20291206T193000
DTSTAMP:20260425T093209
CREATED:20250210T153740Z
LAST-MODIFIED:20250210T153740Z
UID:10001416-1891276200-1891279800@tipplesbrews.com
SUMMARY:Running Tabs Running Club
DESCRIPTION:
URL:https://tipplesbrews.com/event/running-tabs-running-club/2029-12-06/
END:VEVENT
BEGIN:VEVENT
DTSTART;TZID=America/New_York:20291211T170000
DTEND;TZID=America/New_York:20291211T200000
DTSTAMP:20260425T093209
CREATED:20250721T173928Z
LAST-MODIFIED:20251216T185026Z
UID:10002072-1891702800-1891713600@tipplesbrews.com
SUMMARY:WOW! Tipple's Wine of the Week Tasting!
DESCRIPTION:
URL:https://tipplesbrews.com/event/tipples-wine-of-the-week-tasting/2029-12-11/
ATTACH;FMTTYPE=image/png:https://tipplesbrews.com/wp-content/uploads/2024/03/Copy-of-Todays-Pourcast.png
END:VEVENT
BEGIN:VEVENT
DTSTART;TZID=America/New_York:20291213T183000
DTEND;TZID=America/New_York:20291213T193000
DTSTAMP:20260425T093209
CREATED:20250210T153740Z
LAST-MODIFIED:20250210T153740Z
UID:10001417-1891881000-1891884600@tipplesbrews.com
SUMMARY:Running Tabs Running Club
DESCRIPTION:
URL:https://tipplesbrews.com/event/running-tabs-running-club/2029-12-13/
END:VEVENT
END:VCALENDAR