BEGIN:VCALENDAR
VERSION:2.0
PRODID:-//Tipples Brews and Wine - ECPv6.15.20//NONSGML v1.0//EN
CALSCALE:GREGORIAN
METHOD:PUBLISH
X-WR-CALNAME:Tipples Brews and Wine
X-ORIGINAL-URL:https://tipplesbrews.com
X-WR-CALDESC:Events for Tipples Brews and Wine
REFRESH-INTERVAL;VALUE=DURATION:PT1H
X-Robots-Tag:noindex
X-PUBLISHED-TTL:PT1H
BEGIN:VTIMEZONE
TZID:America/New_York
BEGIN:DAYLIGHT
TZOFFSETFROM:-0500
TZOFFSETTO:-0400
TZNAME:EDT
DTSTART:20270314T070000
END:DAYLIGHT
BEGIN:STANDARD
TZOFFSETFROM:-0400
TZOFFSETTO:-0500
TZNAME:EST
DTSTART:20271107T060000
END:STANDARD
BEGIN:DAYLIGHT
TZOFFSETFROM:-0500
TZOFFSETTO:-0400
TZNAME:EDT
DTSTART:20280312T070000
END:DAYLIGHT
BEGIN:STANDARD
TZOFFSETFROM:-0400
TZOFFSETTO:-0500
TZNAME:EST
DTSTART:20281105T060000
END:STANDARD
BEGIN:DAYLIGHT
TZOFFSETFROM:-0500
TZOFFSETTO:-0400
TZNAME:EDT
DTSTART:20290311T070000
END:DAYLIGHT
BEGIN:STANDARD
TZOFFSETFROM:-0400
TZOFFSETTO:-0500
TZNAME:EST
DTSTART:20291104T060000
END:STANDARD
END:VTIMEZONE
BEGIN:VEVENT
DTSTART;TZID=America/New_York:20280518T183000
DTEND;TZID=America/New_York:20280518T193000
DTSTAMP:20260425T103740
CREATED:20250210T153740Z
LAST-MODIFIED:20250210T153740Z
UID:10001335-1842287400-1842291000@tipplesbrews.com
SUMMARY:Running Tabs Running Club
DESCRIPTION:
URL:https://tipplesbrews.com/event/running-tabs-running-club/2028-05-18/
END:VEVENT
BEGIN:VEVENT
DTSTART;TZID=America/New_York:20280516T170000
DTEND;TZID=America/New_York:20280516T200000
DTSTAMP:20260425T103740
CREATED:20250721T173928Z
LAST-MODIFIED:20251216T185026Z
UID:10001990-1842109200-1842120000@tipplesbrews.com
SUMMARY:WOW! Tipple's Wine of the Week Tasting!
DESCRIPTION:
URL:https://tipplesbrews.com/event/tipples-wine-of-the-week-tasting/2028-05-16/
ATTACH;FMTTYPE=image/png:https://tipplesbrews.com/wp-content/uploads/2024/03/Copy-of-Todays-Pourcast.png
END:VEVENT
BEGIN:VEVENT
DTSTART;TZID=America/New_York:20280511T183000
DTEND;TZID=America/New_York:20280511T193000
DTSTAMP:20260425T103740
CREATED:20250210T153740Z
LAST-MODIFIED:20250210T153740Z
UID:10001334-1841682600-1841686200@tipplesbrews.com
SUMMARY:Running Tabs Running Club
DESCRIPTION:
URL:https://tipplesbrews.com/event/running-tabs-running-club/2028-05-11/
END:VEVENT
BEGIN:VEVENT
DTSTART;TZID=America/New_York:20280509T170000
DTEND;TZID=America/New_York:20280509T200000
DTSTAMP:20260425T103740
CREATED:20250721T173928Z
LAST-MODIFIED:20251216T185026Z
UID:10001989-1841504400-1841515200@tipplesbrews.com
SUMMARY:WOW! Tipple's Wine of the Week Tasting!
DESCRIPTION:
URL:https://tipplesbrews.com/event/tipples-wine-of-the-week-tasting/2028-05-09/
ATTACH;FMTTYPE=image/png:https://tipplesbrews.com/wp-content/uploads/2024/03/Copy-of-Todays-Pourcast.png
END:VEVENT
BEGIN:VEVENT
DTSTART;TZID=America/New_York:20280504T183000
DTEND;TZID=America/New_York:20280504T193000
DTSTAMP:20260425T103740
CREATED:20250210T153740Z
LAST-MODIFIED:20250210T153740Z
UID:10001333-1841077800-1841081400@tipplesbrews.com
SUMMARY:Running Tabs Running Club
DESCRIPTION:
URL:https://tipplesbrews.com/event/running-tabs-running-club/2028-05-04/
END:VEVENT
BEGIN:VEVENT
DTSTART;TZID=America/New_York:20280502T170000
DTEND;TZID=America/New_York:20280502T200000
DTSTAMP:20260425T103740
CREATED:20250721T173928Z
LAST-MODIFIED:20251216T185026Z
UID:10001988-1840899600-1840910400@tipplesbrews.com
SUMMARY:WOW! Tipple's Wine of the Week Tasting!
DESCRIPTION:
URL:https://tipplesbrews.com/event/tipples-wine-of-the-week-tasting/2028-05-02/
ATTACH;FMTTYPE=image/png:https://tipplesbrews.com/wp-content/uploads/2024/03/Copy-of-Todays-Pourcast.png
END:VEVENT
BEGIN:VEVENT
DTSTART;TZID=America/New_York:20280427T183000
DTEND;TZID=America/New_York:20280427T193000
DTSTAMP:20260425T103740
CREATED:20250210T153740Z
LAST-MODIFIED:20250210T153740Z
UID:10001332-1840473000-1840476600@tipplesbrews.com
SUMMARY:Running Tabs Running Club
DESCRIPTION:
URL:https://tipplesbrews.com/event/running-tabs-running-club/2028-04-27/
END:VEVENT
BEGIN:VEVENT
DTSTART;TZID=America/New_York:20280425T170000
DTEND;TZID=America/New_York:20280425T200000
DTSTAMP:20260425T103740
CREATED:20250721T173928Z
LAST-MODIFIED:20251216T185026Z
UID:10001987-1840294800-1840305600@tipplesbrews.com
SUMMARY:WOW! Tipple's Wine of the Week Tasting!
DESCRIPTION:
URL:https://tipplesbrews.com/event/tipples-wine-of-the-week-tasting/2028-04-25/
ATTACH;FMTTYPE=image/png:https://tipplesbrews.com/wp-content/uploads/2024/03/Copy-of-Todays-Pourcast.png
END:VEVENT
BEGIN:VEVENT
DTSTART;TZID=America/New_York:20280420T183000
DTEND;TZID=America/New_York:20280420T193000
DTSTAMP:20260425T103740
CREATED:20250210T153740Z
LAST-MODIFIED:20250210T153740Z
UID:10001331-1839868200-1839871800@tipplesbrews.com
SUMMARY:Running Tabs Running Club
DESCRIPTION:
URL:https://tipplesbrews.com/event/running-tabs-running-club/2028-04-20/
END:VEVENT
BEGIN:VEVENT
DTSTART;TZID=America/New_York:20280418T170000
DTEND;TZID=America/New_York:20280418T200000
DTSTAMP:20260425T103740
CREATED:20250721T173928Z
LAST-MODIFIED:20251216T185026Z
UID:10001986-1839690000-1839700800@tipplesbrews.com
SUMMARY:WOW! Tipple's Wine of the Week Tasting!
DESCRIPTION:
URL:https://tipplesbrews.com/event/tipples-wine-of-the-week-tasting/2028-04-18/
ATTACH;FMTTYPE=image/png:https://tipplesbrews.com/wp-content/uploads/2024/03/Copy-of-Todays-Pourcast.png
END:VEVENT
BEGIN:VEVENT
DTSTART;TZID=America/New_York:20280413T183000
DTEND;TZID=America/New_York:20280413T193000
DTSTAMP:20260425T103740
CREATED:20250210T153740Z
LAST-MODIFIED:20250210T153740Z
UID:10001330-1839263400-1839267000@tipplesbrews.com
SUMMARY:Running Tabs Running Club
DESCRIPTION:
URL:https://tipplesbrews.com/event/running-tabs-running-club/2028-04-13/
END:VEVENT
BEGIN:VEVENT
DTSTART;TZID=America/New_York:20280411T170000
DTEND;TZID=America/New_York:20280411T200000
DTSTAMP:20260425T103740
CREATED:20250721T173928Z
LAST-MODIFIED:20251216T185026Z
UID:10001985-1839085200-1839096000@tipplesbrews.com
SUMMARY:WOW! Tipple's Wine of the Week Tasting!
DESCRIPTION:
URL:https://tipplesbrews.com/event/tipples-wine-of-the-week-tasting/2028-04-11/
ATTACH;FMTTYPE=image/png:https://tipplesbrews.com/wp-content/uploads/2024/03/Copy-of-Todays-Pourcast.png
END:VEVENT
BEGIN:VEVENT
DTSTART;TZID=America/New_York:20280406T183000
DTEND;TZID=America/New_York:20280406T193000
DTSTAMP:20260425T103740
CREATED:20250210T153740Z
LAST-MODIFIED:20250210T153740Z
UID:10001329-1838658600-1838662200@tipplesbrews.com
SUMMARY:Running Tabs Running Club
DESCRIPTION:
URL:https://tipplesbrews.com/event/running-tabs-running-club/2028-04-06/
END:VEVENT
BEGIN:VEVENT
DTSTART;TZID=America/New_York:20280404T170000
DTEND;TZID=America/New_York:20280404T200000
DTSTAMP:20260425T103740
CREATED:20250721T173928Z
LAST-MODIFIED:20251216T185026Z
UID:10001984-1838480400-1838491200@tipplesbrews.com
SUMMARY:WOW! Tipple's Wine of the Week Tasting!
DESCRIPTION:
URL:https://tipplesbrews.com/event/tipples-wine-of-the-week-tasting/2028-04-04/
ATTACH;FMTTYPE=image/png:https://tipplesbrews.com/wp-content/uploads/2024/03/Copy-of-Todays-Pourcast.png
END:VEVENT
BEGIN:VEVENT
DTSTART;TZID=America/New_York:20280330T183000
DTEND;TZID=America/New_York:20280330T193000
DTSTAMP:20260425T103740
CREATED:20250210T153740Z
LAST-MODIFIED:20250210T153740Z
UID:10001328-1838053800-1838057400@tipplesbrews.com
SUMMARY:Running Tabs Running Club
DESCRIPTION:
URL:https://tipplesbrews.com/event/running-tabs-running-club/2028-03-30/
END:VEVENT
BEGIN:VEVENT
DTSTART;TZID=America/New_York:20280328T170000
DTEND;TZID=America/New_York:20280328T200000
DTSTAMP:20260425T103740
CREATED:20250721T173928Z
LAST-MODIFIED:20251216T185026Z
UID:10001983-1837875600-1837886400@tipplesbrews.com
SUMMARY:WOW! Tipple's Wine of the Week Tasting!
DESCRIPTION:
URL:https://tipplesbrews.com/event/tipples-wine-of-the-week-tasting/2028-03-28/
ATTACH;FMTTYPE=image/png:https://tipplesbrews.com/wp-content/uploads/2024/03/Copy-of-Todays-Pourcast.png
END:VEVENT
BEGIN:VEVENT
DTSTART;TZID=America/New_York:20280323T183000
DTEND;TZID=America/New_York:20280323T193000
DTSTAMP:20260425T103740
CREATED:20250210T153740Z
LAST-MODIFIED:20250210T153740Z
UID:10001327-1837449000-1837452600@tipplesbrews.com
SUMMARY:Running Tabs Running Club
DESCRIPTION:
URL:https://tipplesbrews.com/event/running-tabs-running-club/2028-03-23/
END:VEVENT
BEGIN:VEVENT
DTSTART;TZID=America/New_York:20280321T170000
DTEND;TZID=America/New_York:20280321T200000
DTSTAMP:20260425T103740
CREATED:20250721T173928Z
LAST-MODIFIED:20251216T185026Z
UID:10001982-1837270800-1837281600@tipplesbrews.com
SUMMARY:WOW! Tipple's Wine of the Week Tasting!
DESCRIPTION:
URL:https://tipplesbrews.com/event/tipples-wine-of-the-week-tasting/2028-03-21/
ATTACH;FMTTYPE=image/png:https://tipplesbrews.com/wp-content/uploads/2024/03/Copy-of-Todays-Pourcast.png
END:VEVENT
BEGIN:VEVENT
DTSTART;TZID=America/New_York:20280316T183000
DTEND;TZID=America/New_York:20280316T193000
DTSTAMP:20260425T103740
CREATED:20250210T153740Z
LAST-MODIFIED:20250210T153740Z
UID:10001326-1836844200-1836847800@tipplesbrews.com
SUMMARY:Running Tabs Running Club
DESCRIPTION:
URL:https://tipplesbrews.com/event/running-tabs-running-club/2028-03-16/
END:VEVENT
BEGIN:VEVENT
DTSTART;TZID=America/New_York:20280314T170000
DTEND;TZID=America/New_York:20280314T200000
DTSTAMP:20260425T103740
CREATED:20250721T173928Z
LAST-MODIFIED:20251216T185026Z
UID:10001981-1836666000-1836676800@tipplesbrews.com
SUMMARY:WOW! Tipple's Wine of the Week Tasting!
DESCRIPTION:
URL:https://tipplesbrews.com/event/tipples-wine-of-the-week-tasting/2028-03-14/
ATTACH;FMTTYPE=image/png:https://tipplesbrews.com/wp-content/uploads/2024/03/Copy-of-Todays-Pourcast.png
END:VEVENT
BEGIN:VEVENT
DTSTART;TZID=America/New_York:20280309T183000
DTEND;TZID=America/New_York:20280309T193000
DTSTAMP:20260425T103740
CREATED:20250210T153740Z
LAST-MODIFIED:20250210T153740Z
UID:10001325-1836239400-1836243000@tipplesbrews.com
SUMMARY:Running Tabs Running Club
DESCRIPTION:
URL:https://tipplesbrews.com/event/running-tabs-running-club/2028-03-09/
END:VEVENT
BEGIN:VEVENT
DTSTART;TZID=America/New_York:20280307T170000
DTEND;TZID=America/New_York:20280307T200000
DTSTAMP:20260425T103740
CREATED:20250721T173928Z
LAST-MODIFIED:20251216T185026Z
UID:10001980-1836061200-1836072000@tipplesbrews.com
SUMMARY:WOW! Tipple's Wine of the Week Tasting!
DESCRIPTION:
URL:https://tipplesbrews.com/event/tipples-wine-of-the-week-tasting/2028-03-07/
ATTACH;FMTTYPE=image/png:https://tipplesbrews.com/wp-content/uploads/2024/03/Copy-of-Todays-Pourcast.png
END:VEVENT
BEGIN:VEVENT
DTSTART;TZID=America/New_York:20280302T183000
DTEND;TZID=America/New_York:20280302T193000
DTSTAMP:20260425T103740
CREATED:20250210T153740Z
LAST-MODIFIED:20250210T153740Z
UID:10001324-1835634600-1835638200@tipplesbrews.com
SUMMARY:Running Tabs Running Club
DESCRIPTION:
URL:https://tipplesbrews.com/event/running-tabs-running-club/2028-03-02/
END:VEVENT
BEGIN:VEVENT
DTSTART;TZID=America/New_York:20280229T170000
DTEND;TZID=America/New_York:20280229T200000
DTSTAMP:20260425T103740
CREATED:20250721T173928Z
LAST-MODIFIED:20251216T185026Z
UID:10001979-1835456400-1835467200@tipplesbrews.com
SUMMARY:WOW! Tipple's Wine of the Week Tasting!
DESCRIPTION:
URL:https://tipplesbrews.com/event/tipples-wine-of-the-week-tasting/2028-02-29/
ATTACH;FMTTYPE=image/png:https://tipplesbrews.com/wp-content/uploads/2024/03/Copy-of-Todays-Pourcast.png
END:VEVENT
BEGIN:VEVENT
DTSTART;TZID=America/New_York:20280224T183000
DTEND;TZID=America/New_York:20280224T193000
DTSTAMP:20260425T103740
CREATED:20250210T153740Z
LAST-MODIFIED:20250210T153740Z
UID:10001323-1835029800-1835033400@tipplesbrews.com
SUMMARY:Running Tabs Running Club
DESCRIPTION:
URL:https://tipplesbrews.com/event/running-tabs-running-club/2028-02-24/
END:VEVENT
BEGIN:VEVENT
DTSTART;TZID=America/New_York:20280222T170000
DTEND;TZID=America/New_York:20280222T200000
DTSTAMP:20260425T103740
CREATED:20250721T173928Z
LAST-MODIFIED:20251216T185026Z
UID:10001978-1834851600-1834862400@tipplesbrews.com
SUMMARY:WOW! Tipple's Wine of the Week Tasting!
DESCRIPTION:
URL:https://tipplesbrews.com/event/tipples-wine-of-the-week-tasting/2028-02-22/
ATTACH;FMTTYPE=image/png:https://tipplesbrews.com/wp-content/uploads/2024/03/Copy-of-Todays-Pourcast.png
END:VEVENT
BEGIN:VEVENT
DTSTART;TZID=America/New_York:20280217T183000
DTEND;TZID=America/New_York:20280217T193000
DTSTAMP:20260425T103740
CREATED:20250210T153740Z
LAST-MODIFIED:20250210T153740Z
UID:10001322-1834425000-1834428600@tipplesbrews.com
SUMMARY:Running Tabs Running Club
DESCRIPTION:
URL:https://tipplesbrews.com/event/running-tabs-running-club/2028-02-17/
END:VEVENT
BEGIN:VEVENT
DTSTART;TZID=America/New_York:20280215T170000
DTEND;TZID=America/New_York:20280215T200000
DTSTAMP:20260425T103740
CREATED:20250721T173928Z
LAST-MODIFIED:20251216T185026Z
UID:10001977-1834246800-1834257600@tipplesbrews.com
SUMMARY:WOW! Tipple's Wine of the Week Tasting!
DESCRIPTION:
URL:https://tipplesbrews.com/event/tipples-wine-of-the-week-tasting/2028-02-15/
ATTACH;FMTTYPE=image/png:https://tipplesbrews.com/wp-content/uploads/2024/03/Copy-of-Todays-Pourcast.png
END:VEVENT
BEGIN:VEVENT
DTSTART;TZID=America/New_York:20280210T183000
DTEND;TZID=America/New_York:20280210T193000
DTSTAMP:20260425T103740
CREATED:20250210T153740Z
LAST-MODIFIED:20250210T153740Z
UID:10001321-1833820200-1833823800@tipplesbrews.com
SUMMARY:Running Tabs Running Club
DESCRIPTION:
URL:https://tipplesbrews.com/event/running-tabs-running-club/2028-02-10/
END:VEVENT
BEGIN:VEVENT
DTSTART;TZID=America/New_York:20280208T170000
DTEND;TZID=America/New_York:20280208T200000
DTSTAMP:20260425T103740
CREATED:20250721T173928Z
LAST-MODIFIED:20251216T185026Z
UID:10001976-1833642000-1833652800@tipplesbrews.com
SUMMARY:WOW! Tipple's Wine of the Week Tasting!
DESCRIPTION:
URL:https://tipplesbrews.com/event/tipples-wine-of-the-week-tasting/2028-02-08/
ATTACH;FMTTYPE=image/png:https://tipplesbrews.com/wp-content/uploads/2024/03/Copy-of-Todays-Pourcast.png
END:VEVENT
END:VCALENDAR