BEGIN:VCALENDAR
VERSION:2.0
PRODID:-//Tipples Brews and Wine - ECPv6.15.20//NONSGML v1.0//EN
CALSCALE:GREGORIAN
METHOD:PUBLISH
X-WR-CALNAME:Tipples Brews and Wine
X-ORIGINAL-URL:https://tipplesbrews.com
X-WR-CALDESC:Events for Tipples Brews and Wine
REFRESH-INTERVAL;VALUE=DURATION:PT1H
X-Robots-Tag:noindex
X-PUBLISHED-TTL:PT1H
BEGIN:VTIMEZONE
TZID:America/New_York
BEGIN:DAYLIGHT
TZOFFSETFROM:-0500
TZOFFSETTO:-0400
TZNAME:EDT
DTSTART:20290311T070000
END:DAYLIGHT
BEGIN:STANDARD
TZOFFSETFROM:-0400
TZOFFSETTO:-0500
TZNAME:EST
DTSTART:20291104T060000
END:STANDARD
BEGIN:DAYLIGHT
TZOFFSETFROM:-0500
TZOFFSETTO:-0400
TZNAME:EDT
DTSTART:20300310T070000
END:DAYLIGHT
BEGIN:STANDARD
TZOFFSETFROM:-0400
TZOFFSETTO:-0500
TZNAME:EST
DTSTART:20301103T060000
END:STANDARD
BEGIN:DAYLIGHT
TZOFFSETFROM:-0500
TZOFFSETTO:-0400
TZNAME:EDT
DTSTART:20310309T070000
END:DAYLIGHT
BEGIN:STANDARD
TZOFFSETFROM:-0400
TZOFFSETTO:-0500
TZNAME:EST
DTSTART:20311102T060000
END:STANDARD
END:VTIMEZONE
BEGIN:VEVENT
DTSTART;TZID=America/New_York:20300723T170000
DTEND;TZID=America/New_York:20300723T200000
DTSTAMP:20260425T233620
CREATED:20250721T173928Z
LAST-MODIFIED:20251216T185026Z
UID:10002105-1911056400-1911067200@tipplesbrews.com
SUMMARY:WOW! Tipple's Wine of the Week Tasting!
DESCRIPTION:
URL:https://tipplesbrews.com/event/tipples-wine-of-the-week-tasting/2030-07-23/
ATTACH;FMTTYPE=image/png:https://tipplesbrews.com/wp-content/uploads/2024/03/Copy-of-Todays-Pourcast.png
END:VEVENT
BEGIN:VEVENT
DTSTART;TZID=America/New_York:20300725T183000
DTEND;TZID=America/New_York:20300725T193000
DTSTAMP:20260425T233620
CREATED:20250210T153740Z
LAST-MODIFIED:20250210T153740Z
UID:10002153-1911234600-1911238200@tipplesbrews.com
SUMMARY:Running Tabs Running Club
DESCRIPTION:
URL:https://tipplesbrews.com/event/running-tabs-running-club/2030-07-25/
END:VEVENT
BEGIN:VEVENT
DTSTART;TZID=America/New_York:20300730T170000
DTEND;TZID=America/New_York:20300730T200000
DTSTAMP:20260425T233620
CREATED:20250721T173928Z
LAST-MODIFIED:20251216T185026Z
UID:10002106-1911661200-1911672000@tipplesbrews.com
SUMMARY:WOW! Tipple's Wine of the Week Tasting!
DESCRIPTION:
URL:https://tipplesbrews.com/event/tipples-wine-of-the-week-tasting/2030-07-30/
ATTACH;FMTTYPE=image/png:https://tipplesbrews.com/wp-content/uploads/2024/03/Copy-of-Todays-Pourcast.png
END:VEVENT
BEGIN:VEVENT
DTSTART;TZID=America/New_York:20300801T183000
DTEND;TZID=America/New_York:20300801T193000
DTSTAMP:20260425T233620
CREATED:20250210T153740Z
LAST-MODIFIED:20250210T153740Z
UID:10002154-1911839400-1911843000@tipplesbrews.com
SUMMARY:Running Tabs Running Club
DESCRIPTION:
URL:https://tipplesbrews.com/event/running-tabs-running-club/2030-08-01/
END:VEVENT
BEGIN:VEVENT
DTSTART;TZID=America/New_York:20300806T170000
DTEND;TZID=America/New_York:20300806T200000
DTSTAMP:20260425T233620
CREATED:20250721T173928Z
LAST-MODIFIED:20251216T185026Z
UID:10002110-1912266000-1912276800@tipplesbrews.com
SUMMARY:WOW! Tipple's Wine of the Week Tasting!
DESCRIPTION:
URL:https://tipplesbrews.com/event/tipples-wine-of-the-week-tasting/2030-08-06/
ATTACH;FMTTYPE=image/png:https://tipplesbrews.com/wp-content/uploads/2024/03/Copy-of-Todays-Pourcast.png
END:VEVENT
BEGIN:VEVENT
DTSTART;TZID=America/New_York:20300808T183000
DTEND;TZID=America/New_York:20300808T193000
DTSTAMP:20260425T233620
CREATED:20250210T153740Z
LAST-MODIFIED:20250210T153740Z
UID:10002155-1912444200-1912447800@tipplesbrews.com
SUMMARY:Running Tabs Running Club
DESCRIPTION:
URL:https://tipplesbrews.com/event/running-tabs-running-club/2030-08-08/
END:VEVENT
BEGIN:VEVENT
DTSTART;TZID=America/New_York:20300813T170000
DTEND;TZID=America/New_York:20300813T200000
DTSTAMP:20260425T233620
CREATED:20250721T173928Z
LAST-MODIFIED:20251216T185026Z
UID:10002111-1912870800-1912881600@tipplesbrews.com
SUMMARY:WOW! Tipple's Wine of the Week Tasting!
DESCRIPTION:
URL:https://tipplesbrews.com/event/tipples-wine-of-the-week-tasting/2030-08-13/
ATTACH;FMTTYPE=image/png:https://tipplesbrews.com/wp-content/uploads/2024/03/Copy-of-Todays-Pourcast.png
END:VEVENT
BEGIN:VEVENT
DTSTART;TZID=America/New_York:20300815T183000
DTEND;TZID=America/New_York:20300815T193000
DTSTAMP:20260425T233620
CREATED:20250210T153740Z
LAST-MODIFIED:20250210T153740Z
UID:10002156-1913049000-1913052600@tipplesbrews.com
SUMMARY:Running Tabs Running Club
DESCRIPTION:
URL:https://tipplesbrews.com/event/running-tabs-running-club/2030-08-15/
END:VEVENT
BEGIN:VEVENT
DTSTART;TZID=America/New_York:20300820T170000
DTEND;TZID=America/New_York:20300820T200000
DTSTAMP:20260425T233620
CREATED:20250721T173928Z
LAST-MODIFIED:20251216T185026Z
UID:10002113-1913475600-1913486400@tipplesbrews.com
SUMMARY:WOW! Tipple's Wine of the Week Tasting!
DESCRIPTION:
URL:https://tipplesbrews.com/event/tipples-wine-of-the-week-tasting/2030-08-20/
ATTACH;FMTTYPE=image/png:https://tipplesbrews.com/wp-content/uploads/2024/03/Copy-of-Todays-Pourcast.png
END:VEVENT
BEGIN:VEVENT
DTSTART;TZID=America/New_York:20300822T183000
DTEND;TZID=America/New_York:20300822T193000
DTSTAMP:20260425T233620
CREATED:20250210T153740Z
LAST-MODIFIED:20250210T153740Z
UID:10002157-1913653800-1913657400@tipplesbrews.com
SUMMARY:Running Tabs Running Club
DESCRIPTION:
URL:https://tipplesbrews.com/event/running-tabs-running-club/2030-08-22/
END:VEVENT
BEGIN:VEVENT
DTSTART;TZID=America/New_York:20300827T170000
DTEND;TZID=America/New_York:20300827T200000
DTSTAMP:20260425T233620
CREATED:20250721T173928Z
LAST-MODIFIED:20251216T185026Z
UID:10002114-1914080400-1914091200@tipplesbrews.com
SUMMARY:WOW! Tipple's Wine of the Week Tasting!
DESCRIPTION:
URL:https://tipplesbrews.com/event/tipples-wine-of-the-week-tasting/2030-08-27/
ATTACH;FMTTYPE=image/png:https://tipplesbrews.com/wp-content/uploads/2024/03/Copy-of-Todays-Pourcast.png
END:VEVENT
BEGIN:VEVENT
DTSTART;TZID=America/New_York:20300829T183000
DTEND;TZID=America/New_York:20300829T193000
DTSTAMP:20260425T233620
CREATED:20250210T153740Z
LAST-MODIFIED:20250210T153740Z
UID:10002158-1914258600-1914262200@tipplesbrews.com
SUMMARY:Running Tabs Running Club
DESCRIPTION:
URL:https://tipplesbrews.com/event/running-tabs-running-club/2030-08-29/
END:VEVENT
BEGIN:VEVENT
DTSTART;TZID=America/New_York:20300903T170000
DTEND;TZID=America/New_York:20300903T200000
DTSTAMP:20260425T233620
CREATED:20250721T173928Z
LAST-MODIFIED:20251216T185026Z
UID:10002118-1914685200-1914696000@tipplesbrews.com
SUMMARY:WOW! Tipple's Wine of the Week Tasting!
DESCRIPTION:
URL:https://tipplesbrews.com/event/tipples-wine-of-the-week-tasting/2030-09-03/
ATTACH;FMTTYPE=image/png:https://tipplesbrews.com/wp-content/uploads/2024/03/Copy-of-Todays-Pourcast.png
END:VEVENT
BEGIN:VEVENT
DTSTART;TZID=America/New_York:20300905T183000
DTEND;TZID=America/New_York:20300905T193000
DTSTAMP:20260425T233620
CREATED:20250210T153740Z
LAST-MODIFIED:20250210T153740Z
UID:10002159-1914863400-1914867000@tipplesbrews.com
SUMMARY:Running Tabs Running Club
DESCRIPTION:
URL:https://tipplesbrews.com/event/running-tabs-running-club/2030-09-05/
END:VEVENT
BEGIN:VEVENT
DTSTART;TZID=America/New_York:20300910T170000
DTEND;TZID=America/New_York:20300910T200000
DTSTAMP:20260425T233620
CREATED:20250721T173928Z
LAST-MODIFIED:20251216T185026Z
UID:10002119-1915290000-1915300800@tipplesbrews.com
SUMMARY:WOW! Tipple's Wine of the Week Tasting!
DESCRIPTION:
URL:https://tipplesbrews.com/event/tipples-wine-of-the-week-tasting/2030-09-10/
ATTACH;FMTTYPE=image/png:https://tipplesbrews.com/wp-content/uploads/2024/03/Copy-of-Todays-Pourcast.png
END:VEVENT
BEGIN:VEVENT
DTSTART;TZID=America/New_York:20300912T183000
DTEND;TZID=America/New_York:20300912T193000
DTSTAMP:20260425T233620
CREATED:20250210T153740Z
LAST-MODIFIED:20250210T153740Z
UID:10002160-1915468200-1915471800@tipplesbrews.com
SUMMARY:Running Tabs Running Club
DESCRIPTION:
URL:https://tipplesbrews.com/event/running-tabs-running-club/2030-09-12/
END:VEVENT
BEGIN:VEVENT
DTSTART;TZID=America/New_York:20300917T170000
DTEND;TZID=America/New_York:20300917T200000
DTSTAMP:20260425T233620
CREATED:20250721T173928Z
LAST-MODIFIED:20251216T185026Z
UID:10002120-1915894800-1915905600@tipplesbrews.com
SUMMARY:WOW! Tipple's Wine of the Week Tasting!
DESCRIPTION:
URL:https://tipplesbrews.com/event/tipples-wine-of-the-week-tasting/2030-09-17/
ATTACH;FMTTYPE=image/png:https://tipplesbrews.com/wp-content/uploads/2024/03/Copy-of-Todays-Pourcast.png
END:VEVENT
BEGIN:VEVENT
DTSTART;TZID=America/New_York:20300919T183000
DTEND;TZID=America/New_York:20300919T193000
DTSTAMP:20260425T233620
CREATED:20250210T153740Z
LAST-MODIFIED:20250210T153740Z
UID:10002161-1916073000-1916076600@tipplesbrews.com
SUMMARY:Running Tabs Running Club
DESCRIPTION:
URL:https://tipplesbrews.com/event/running-tabs-running-club/2030-09-19/
END:VEVENT
BEGIN:VEVENT
DTSTART;TZID=America/New_York:20300924T170000
DTEND;TZID=America/New_York:20300924T200000
DTSTAMP:20260425T233620
CREATED:20250721T173928Z
LAST-MODIFIED:20251216T185026Z
UID:10002121-1916499600-1916510400@tipplesbrews.com
SUMMARY:WOW! Tipple's Wine of the Week Tasting!
DESCRIPTION:
URL:https://tipplesbrews.com/event/tipples-wine-of-the-week-tasting/2030-09-24/
ATTACH;FMTTYPE=image/png:https://tipplesbrews.com/wp-content/uploads/2024/03/Copy-of-Todays-Pourcast.png
END:VEVENT
BEGIN:VEVENT
DTSTART;TZID=America/New_York:20300926T183000
DTEND;TZID=America/New_York:20300926T193000
DTSTAMP:20260425T233620
CREATED:20250210T153740Z
LAST-MODIFIED:20250210T153740Z
UID:10002162-1916677800-1916681400@tipplesbrews.com
SUMMARY:Running Tabs Running Club
DESCRIPTION:
URL:https://tipplesbrews.com/event/running-tabs-running-club/2030-09-26/
END:VEVENT
BEGIN:VEVENT
DTSTART;TZID=America/New_York:20301001T170000
DTEND;TZID=America/New_York:20301001T200000
DTSTAMP:20260425T233620
CREATED:20250721T173928Z
LAST-MODIFIED:20251216T185026Z
UID:10002123-1917104400-1917115200@tipplesbrews.com
SUMMARY:WOW! Tipple's Wine of the Week Tasting!
DESCRIPTION:
URL:https://tipplesbrews.com/event/tipples-wine-of-the-week-tasting/2030-10-01/
ATTACH;FMTTYPE=image/png:https://tipplesbrews.com/wp-content/uploads/2024/03/Copy-of-Todays-Pourcast.png
END:VEVENT
BEGIN:VEVENT
DTSTART;TZID=America/New_York:20301003T183000
DTEND;TZID=America/New_York:20301003T193000
DTSTAMP:20260425T233620
CREATED:20250210T153740Z
LAST-MODIFIED:20250210T153740Z
UID:10002163-1917282600-1917286200@tipplesbrews.com
SUMMARY:Running Tabs Running Club
DESCRIPTION:
URL:https://tipplesbrews.com/event/running-tabs-running-club/2030-10-03/
END:VEVENT
BEGIN:VEVENT
DTSTART;TZID=America/New_York:20301008T170000
DTEND;TZID=America/New_York:20301008T200000
DTSTAMP:20260425T233620
CREATED:20250721T173928Z
LAST-MODIFIED:20251216T185026Z
UID:10002125-1917709200-1917720000@tipplesbrews.com
SUMMARY:WOW! Tipple's Wine of the Week Tasting!
DESCRIPTION:
URL:https://tipplesbrews.com/event/tipples-wine-of-the-week-tasting/2030-10-08/
ATTACH;FMTTYPE=image/png:https://tipplesbrews.com/wp-content/uploads/2024/03/Copy-of-Todays-Pourcast.png
END:VEVENT
BEGIN:VEVENT
DTSTART;TZID=America/New_York:20301010T183000
DTEND;TZID=America/New_York:20301010T193000
DTSTAMP:20260425T233620
CREATED:20250210T153740Z
LAST-MODIFIED:20250210T153740Z
UID:10002164-1917887400-1917891000@tipplesbrews.com
SUMMARY:Running Tabs Running Club
DESCRIPTION:
URL:https://tipplesbrews.com/event/running-tabs-running-club/2030-10-10/
END:VEVENT
BEGIN:VEVENT
DTSTART;TZID=America/New_York:20301015T170000
DTEND;TZID=America/New_York:20301015T200000
DTSTAMP:20260425T233620
CREATED:20250721T173928Z
LAST-MODIFIED:20251216T185026Z
UID:10002127-1918314000-1918324800@tipplesbrews.com
SUMMARY:WOW! Tipple's Wine of the Week Tasting!
DESCRIPTION:
URL:https://tipplesbrews.com/event/tipples-wine-of-the-week-tasting/2030-10-15/
ATTACH;FMTTYPE=image/png:https://tipplesbrews.com/wp-content/uploads/2024/03/Copy-of-Todays-Pourcast.png
END:VEVENT
BEGIN:VEVENT
DTSTART;TZID=America/New_York:20301017T183000
DTEND;TZID=America/New_York:20301017T193000
DTSTAMP:20260425T233620
CREATED:20250210T153740Z
LAST-MODIFIED:20250210T153740Z
UID:10002165-1918492200-1918495800@tipplesbrews.com
SUMMARY:Running Tabs Running Club
DESCRIPTION:
URL:https://tipplesbrews.com/event/running-tabs-running-club/2030-10-17/
END:VEVENT
BEGIN:VEVENT
DTSTART;TZID=America/New_York:20301022T170000
DTEND;TZID=America/New_York:20301022T200000
DTSTAMP:20260425T233620
CREATED:20250721T173928Z
LAST-MODIFIED:20251216T185026Z
UID:10002128-1918918800-1918929600@tipplesbrews.com
SUMMARY:WOW! Tipple's Wine of the Week Tasting!
DESCRIPTION:
URL:https://tipplesbrews.com/event/tipples-wine-of-the-week-tasting/2030-10-22/
ATTACH;FMTTYPE=image/png:https://tipplesbrews.com/wp-content/uploads/2024/03/Copy-of-Todays-Pourcast.png
END:VEVENT
BEGIN:VEVENT
DTSTART;TZID=America/New_York:20301024T183000
DTEND;TZID=America/New_York:20301024T193000
DTSTAMP:20260425T233620
CREATED:20250210T153740Z
LAST-MODIFIED:20250210T153740Z
UID:10002166-1919097000-1919100600@tipplesbrews.com
SUMMARY:Running Tabs Running Club
DESCRIPTION:
URL:https://tipplesbrews.com/event/running-tabs-running-club/2030-10-24/
END:VEVENT
BEGIN:VEVENT
DTSTART;TZID=America/New_York:20301029T170000
DTEND;TZID=America/New_York:20301029T200000
DTSTAMP:20260425T233620
CREATED:20250721T173928Z
LAST-MODIFIED:20251216T185026Z
UID:10002129-1919523600-1919534400@tipplesbrews.com
SUMMARY:WOW! Tipple's Wine of the Week Tasting!
DESCRIPTION:
URL:https://tipplesbrews.com/event/tipples-wine-of-the-week-tasting/2030-10-29/
ATTACH;FMTTYPE=image/png:https://tipplesbrews.com/wp-content/uploads/2024/03/Copy-of-Todays-Pourcast.png
END:VEVENT
BEGIN:VEVENT
DTSTART;TZID=America/New_York:20301031T183000
DTEND;TZID=America/New_York:20301031T193000
DTSTAMP:20260425T233620
CREATED:20250210T153740Z
LAST-MODIFIED:20250210T153740Z
UID:10002167-1919701800-1919705400@tipplesbrews.com
SUMMARY:Running Tabs Running Club
DESCRIPTION:
URL:https://tipplesbrews.com/event/running-tabs-running-club/2030-10-31/
END:VEVENT
END:VCALENDAR