BEGIN:VCALENDAR
VERSION:2.0
PRODID:-//Tipples Brews and Wine - ECPv6.15.20//NONSGML v1.0//EN
CALSCALE:GREGORIAN
METHOD:PUBLISH
X-ORIGINAL-URL:https://tipplesbrews.com
X-WR-CALDESC:Events for Tipples Brews and Wine
REFRESH-INTERVAL;VALUE=DURATION:PT1H
X-Robots-Tag:noindex
X-PUBLISHED-TTL:PT1H
BEGIN:VTIMEZONE
TZID:America/New_York
BEGIN:DAYLIGHT
TZOFFSETFROM:-0500
TZOFFSETTO:-0400
TZNAME:EDT
DTSTART:20280312T070000
END:DAYLIGHT
BEGIN:STANDARD
TZOFFSETFROM:-0400
TZOFFSETTO:-0500
TZNAME:EST
DTSTART:20281105T060000
END:STANDARD
BEGIN:DAYLIGHT
TZOFFSETFROM:-0500
TZOFFSETTO:-0400
TZNAME:EDT
DTSTART:20290311T070000
END:DAYLIGHT
BEGIN:STANDARD
TZOFFSETFROM:-0400
TZOFFSETTO:-0500
TZNAME:EST
DTSTART:20291104T060000
END:STANDARD
BEGIN:DAYLIGHT
TZOFFSETFROM:-0500
TZOFFSETTO:-0400
TZNAME:EDT
DTSTART:20300310T070000
END:DAYLIGHT
BEGIN:STANDARD
TZOFFSETFROM:-0400
TZOFFSETTO:-0500
TZNAME:EST
DTSTART:20301103T060000
END:STANDARD
BEGIN:DAYLIGHT
TZOFFSETFROM:-0500
TZOFFSETTO:-0400
TZNAME:EDT
DTSTART:20310309T070000
END:DAYLIGHT
BEGIN:STANDARD
TZOFFSETFROM:-0400
TZOFFSETTO:-0500
TZNAME:EST
DTSTART:20311102T060000
END:STANDARD
END:VTIMEZONE
BEGIN:VEVENT
DTSTART;TZID=America/New_York:20291030T170000
DTEND;TZID=America/New_York:20291030T200000
DTSTAMP:20260425T090330
CREATED:20250721T173928Z
LAST-MODIFIED:20251216T185026Z
UID:10002066-1888074000-1888084800@tipplesbrews.com
SUMMARY:WOW! Tipple's Wine of the Week Tasting!
DESCRIPTION:
URL:https://tipplesbrews.com/event/tipples-wine-of-the-week-tasting/2029-10-30/
ATTACH;FMTTYPE=image/png:https://tipplesbrews.com/wp-content/uploads/2024/03/Copy-of-Todays-Pourcast.png
END:VEVENT
BEGIN:VEVENT
DTSTART;TZID=America/New_York:20291101T183000
DTEND;TZID=America/New_York:20291101T193000
DTSTAMP:20260425T090330
CREATED:20250210T153740Z
LAST-MODIFIED:20250210T153740Z
UID:10001411-1888252200-1888255800@tipplesbrews.com
SUMMARY:Running Tabs Running Club
DESCRIPTION:
URL:https://tipplesbrews.com/event/running-tabs-running-club/2029-11-01/
END:VEVENT
BEGIN:VEVENT
DTSTART;TZID=America/New_York:20291106T170000
DTEND;TZID=America/New_York:20291106T200000
DTSTAMP:20260425T090330
CREATED:20250721T173928Z
LAST-MODIFIED:20251216T185026Z
UID:10002067-1888678800-1888689600@tipplesbrews.com
SUMMARY:WOW! Tipple's Wine of the Week Tasting!
DESCRIPTION:
URL:https://tipplesbrews.com/event/tipples-wine-of-the-week-tasting/2029-11-06/
ATTACH;FMTTYPE=image/png:https://tipplesbrews.com/wp-content/uploads/2024/03/Copy-of-Todays-Pourcast.png
END:VEVENT
BEGIN:VEVENT
DTSTART;TZID=America/New_York:20291108T183000
DTEND;TZID=America/New_York:20291108T193000
DTSTAMP:20260425T090330
CREATED:20250210T153740Z
LAST-MODIFIED:20250210T153740Z
UID:10001412-1888857000-1888860600@tipplesbrews.com
SUMMARY:Running Tabs Running Club
DESCRIPTION:
URL:https://tipplesbrews.com/event/running-tabs-running-club/2029-11-08/
END:VEVENT
BEGIN:VEVENT
DTSTART;TZID=America/New_York:20291113T170000
DTEND;TZID=America/New_York:20291113T200000
DTSTAMP:20260425T090330
CREATED:20250721T173928Z
LAST-MODIFIED:20251216T185026Z
UID:10002068-1889283600-1889294400@tipplesbrews.com
SUMMARY:WOW! Tipple's Wine of the Week Tasting!
DESCRIPTION:
URL:https://tipplesbrews.com/event/tipples-wine-of-the-week-tasting/2029-11-13/
ATTACH;FMTTYPE=image/png:https://tipplesbrews.com/wp-content/uploads/2024/03/Copy-of-Todays-Pourcast.png
END:VEVENT
BEGIN:VEVENT
DTSTART;TZID=America/New_York:20291115T183000
DTEND;TZID=America/New_York:20291115T193000
DTSTAMP:20260425T090330
CREATED:20250210T153740Z
LAST-MODIFIED:20250210T153740Z
UID:10001413-1889461800-1889465400@tipplesbrews.com
SUMMARY:Running Tabs Running Club
DESCRIPTION:
URL:https://tipplesbrews.com/event/running-tabs-running-club/2029-11-15/
END:VEVENT
BEGIN:VEVENT
DTSTART;TZID=America/New_York:20291120T170000
DTEND;TZID=America/New_York:20291120T200000
DTSTAMP:20260425T090330
CREATED:20250721T173928Z
LAST-MODIFIED:20251216T185026Z
UID:10002069-1889888400-1889899200@tipplesbrews.com
SUMMARY:WOW! Tipple's Wine of the Week Tasting!
DESCRIPTION:
URL:https://tipplesbrews.com/event/tipples-wine-of-the-week-tasting/2029-11-20/
ATTACH;FMTTYPE=image/png:https://tipplesbrews.com/wp-content/uploads/2024/03/Copy-of-Todays-Pourcast.png
END:VEVENT
BEGIN:VEVENT
DTSTART;TZID=America/New_York:20291122T183000
DTEND;TZID=America/New_York:20291122T193000
DTSTAMP:20260425T090330
CREATED:20250210T153740Z
LAST-MODIFIED:20250210T153740Z
UID:10001414-1890066600-1890070200@tipplesbrews.com
SUMMARY:Running Tabs Running Club
DESCRIPTION:
URL:https://tipplesbrews.com/event/running-tabs-running-club/2029-11-22/
END:VEVENT
BEGIN:VEVENT
DTSTART;TZID=America/New_York:20291127T170000
DTEND;TZID=America/New_York:20291127T200000
DTSTAMP:20260425T090330
CREATED:20250721T173928Z
LAST-MODIFIED:20251216T185026Z
UID:10002070-1890493200-1890504000@tipplesbrews.com
SUMMARY:WOW! Tipple's Wine of the Week Tasting!
DESCRIPTION:
URL:https://tipplesbrews.com/event/tipples-wine-of-the-week-tasting/2029-11-27/
ATTACH;FMTTYPE=image/png:https://tipplesbrews.com/wp-content/uploads/2024/03/Copy-of-Todays-Pourcast.png
END:VEVENT
BEGIN:VEVENT
DTSTART;TZID=America/New_York:20291129T183000
DTEND;TZID=America/New_York:20291129T193000
DTSTAMP:20260425T090330
CREATED:20250210T153740Z
LAST-MODIFIED:20250210T153740Z
UID:10001415-1890671400-1890675000@tipplesbrews.com
SUMMARY:Running Tabs Running Club
DESCRIPTION:
URL:https://tipplesbrews.com/event/running-tabs-running-club/2029-11-29/
END:VEVENT
BEGIN:VEVENT
DTSTART;TZID=America/New_York:20291204T170000
DTEND;TZID=America/New_York:20291204T200000
DTSTAMP:20260425T090330
CREATED:20250721T173928Z
LAST-MODIFIED:20251216T185026Z
UID:10002071-1891098000-1891108800@tipplesbrews.com
SUMMARY:WOW! Tipple's Wine of the Week Tasting!
DESCRIPTION:
URL:https://tipplesbrews.com/event/tipples-wine-of-the-week-tasting/2029-12-04/
ATTACH;FMTTYPE=image/png:https://tipplesbrews.com/wp-content/uploads/2024/03/Copy-of-Todays-Pourcast.png
END:VEVENT
BEGIN:VEVENT
DTSTART;TZID=America/New_York:20291206T183000
DTEND;TZID=America/New_York:20291206T193000
DTSTAMP:20260425T090330
CREATED:20250210T153740Z
LAST-MODIFIED:20250210T153740Z
UID:10001416-1891276200-1891279800@tipplesbrews.com
SUMMARY:Running Tabs Running Club
DESCRIPTION:
URL:https://tipplesbrews.com/event/running-tabs-running-club/2029-12-06/
END:VEVENT
BEGIN:VEVENT
DTSTART;TZID=America/New_York:20291211T170000
DTEND;TZID=America/New_York:20291211T200000
DTSTAMP:20260425T090330
CREATED:20250721T173928Z
LAST-MODIFIED:20251216T185026Z
UID:10002072-1891702800-1891713600@tipplesbrews.com
SUMMARY:WOW! Tipple's Wine of the Week Tasting!
DESCRIPTION:
URL:https://tipplesbrews.com/event/tipples-wine-of-the-week-tasting/2029-12-11/
ATTACH;FMTTYPE=image/png:https://tipplesbrews.com/wp-content/uploads/2024/03/Copy-of-Todays-Pourcast.png
END:VEVENT
BEGIN:VEVENT
DTSTART;TZID=America/New_York:20291213T183000
DTEND;TZID=America/New_York:20291213T193000
DTSTAMP:20260425T090330
CREATED:20250210T153740Z
LAST-MODIFIED:20250210T153740Z
UID:10001417-1891881000-1891884600@tipplesbrews.com
SUMMARY:Running Tabs Running Club
DESCRIPTION:
URL:https://tipplesbrews.com/event/running-tabs-running-club/2029-12-13/
END:VEVENT
BEGIN:VEVENT
DTSTART;TZID=America/New_York:20291218T170000
DTEND;TZID=America/New_York:20291218T200000
DTSTAMP:20260425T090330
CREATED:20250721T173928Z
LAST-MODIFIED:20251216T185026Z
UID:10002073-1892307600-1892318400@tipplesbrews.com
SUMMARY:WOW! Tipple's Wine of the Week Tasting!
DESCRIPTION:
URL:https://tipplesbrews.com/event/tipples-wine-of-the-week-tasting/2029-12-18/
ATTACH;FMTTYPE=image/png:https://tipplesbrews.com/wp-content/uploads/2024/03/Copy-of-Todays-Pourcast.png
END:VEVENT
BEGIN:VEVENT
DTSTART;TZID=America/New_York:20291220T183000
DTEND;TZID=America/New_York:20291220T193000
DTSTAMP:20260425T090330
CREATED:20250210T153740Z
LAST-MODIFIED:20250210T153740Z
UID:10001418-1892485800-1892489400@tipplesbrews.com
SUMMARY:Running Tabs Running Club
DESCRIPTION:
URL:https://tipplesbrews.com/event/running-tabs-running-club/2029-12-20/
END:VEVENT
BEGIN:VEVENT
DTSTART;TZID=America/New_York:20291225T170000
DTEND;TZID=America/New_York:20291225T200000
DTSTAMP:20260425T090330
CREATED:20250721T173928Z
LAST-MODIFIED:20251216T185026Z
UID:10002074-1892912400-1892923200@tipplesbrews.com
SUMMARY:WOW! Tipple's Wine of the Week Tasting!
DESCRIPTION:
URL:https://tipplesbrews.com/event/tipples-wine-of-the-week-tasting/2029-12-25/
ATTACH;FMTTYPE=image/png:https://tipplesbrews.com/wp-content/uploads/2024/03/Copy-of-Todays-Pourcast.png
END:VEVENT
BEGIN:VEVENT
DTSTART;TZID=America/New_York:20291227T183000
DTEND;TZID=America/New_York:20291227T193000
DTSTAMP:20260425T090330
CREATED:20250210T153740Z
LAST-MODIFIED:20250210T153740Z
UID:10001419-1893090600-1893094200@tipplesbrews.com
SUMMARY:Running Tabs Running Club
DESCRIPTION:
URL:https://tipplesbrews.com/event/running-tabs-running-club/2029-12-27/
END:VEVENT
BEGIN:VEVENT
DTSTART;TZID=America/New_York:20300101T170000
DTEND;TZID=America/New_York:20300101T200000
DTSTAMP:20260425T090330
CREATED:20250721T173928Z
LAST-MODIFIED:20251216T185026Z
UID:10002075-1893517200-1893528000@tipplesbrews.com
SUMMARY:WOW! Tipple's Wine of the Week Tasting!
DESCRIPTION:
URL:https://tipplesbrews.com/event/tipples-wine-of-the-week-tasting/2030-01-01/
ATTACH;FMTTYPE=image/png:https://tipplesbrews.com/wp-content/uploads/2024/03/Copy-of-Todays-Pourcast.png
END:VEVENT
BEGIN:VEVENT
DTSTART;TZID=America/New_York:20300103T183000
DTEND;TZID=America/New_York:20300103T193000
DTSTAMP:20260425T090330
CREATED:20250210T153740Z
LAST-MODIFIED:20250210T153740Z
UID:10001420-1893695400-1893699000@tipplesbrews.com
SUMMARY:Running Tabs Running Club
DESCRIPTION:
URL:https://tipplesbrews.com/event/running-tabs-running-club/2030-01-03/
END:VEVENT
BEGIN:VEVENT
DTSTART;TZID=America/New_York:20300108T170000
DTEND;TZID=America/New_York:20300108T200000
DTSTAMP:20260425T090330
CREATED:20250721T173928Z
LAST-MODIFIED:20251216T185026Z
UID:10002076-1894122000-1894132800@tipplesbrews.com
SUMMARY:WOW! Tipple's Wine of the Week Tasting!
DESCRIPTION:
URL:https://tipplesbrews.com/event/tipples-wine-of-the-week-tasting/2030-01-08/
ATTACH;FMTTYPE=image/png:https://tipplesbrews.com/wp-content/uploads/2024/03/Copy-of-Todays-Pourcast.png
END:VEVENT
BEGIN:VEVENT
DTSTART;TZID=America/New_York:20300110T183000
DTEND;TZID=America/New_York:20300110T193000
DTSTAMP:20260425T090330
CREATED:20250210T153740Z
LAST-MODIFIED:20250210T153740Z
UID:10001421-1894300200-1894303800@tipplesbrews.com
SUMMARY:Running Tabs Running Club
DESCRIPTION:
URL:https://tipplesbrews.com/event/running-tabs-running-club/2030-01-10/
END:VEVENT
BEGIN:VEVENT
DTSTART;TZID=America/New_York:20300115T170000
DTEND;TZID=America/New_York:20300115T200000
DTSTAMP:20260425T090330
CREATED:20250721T173928Z
LAST-MODIFIED:20251216T185026Z
UID:10002077-1894726800-1894737600@tipplesbrews.com
SUMMARY:WOW! Tipple's Wine of the Week Tasting!
DESCRIPTION:
URL:https://tipplesbrews.com/event/tipples-wine-of-the-week-tasting/2030-01-15/
ATTACH;FMTTYPE=image/png:https://tipplesbrews.com/wp-content/uploads/2024/03/Copy-of-Todays-Pourcast.png
END:VEVENT
BEGIN:VEVENT
DTSTART;TZID=America/New_York:20300117T183000
DTEND;TZID=America/New_York:20300117T193000
DTSTAMP:20260425T090330
CREATED:20250210T153740Z
LAST-MODIFIED:20250210T153740Z
UID:10001422-1894905000-1894908600@tipplesbrews.com
SUMMARY:Running Tabs Running Club
DESCRIPTION:
URL:https://tipplesbrews.com/event/running-tabs-running-club/2030-01-17/
END:VEVENT
BEGIN:VEVENT
DTSTART;TZID=America/New_York:20300122T170000
DTEND;TZID=America/New_York:20300122T200000
DTSTAMP:20260425T090330
CREATED:20250721T173928Z
LAST-MODIFIED:20251216T185026Z
UID:10002078-1895331600-1895342400@tipplesbrews.com
SUMMARY:WOW! Tipple's Wine of the Week Tasting!
DESCRIPTION:
URL:https://tipplesbrews.com/event/tipples-wine-of-the-week-tasting/2030-01-22/
ATTACH;FMTTYPE=image/png:https://tipplesbrews.com/wp-content/uploads/2024/03/Copy-of-Todays-Pourcast.png
END:VEVENT
BEGIN:VEVENT
DTSTART;TZID=America/New_York:20300124T183000
DTEND;TZID=America/New_York:20300124T193000
DTSTAMP:20260425T090330
CREATED:20250210T153740Z
LAST-MODIFIED:20250210T153740Z
UID:10001423-1895509800-1895513400@tipplesbrews.com
SUMMARY:Running Tabs Running Club
DESCRIPTION:
URL:https://tipplesbrews.com/event/running-tabs-running-club/2030-01-24/
END:VEVENT
BEGIN:VEVENT
DTSTART;TZID=America/New_York:20300129T170000
DTEND;TZID=America/New_York:20300129T200000
DTSTAMP:20260425T090330
CREATED:20250721T173928Z
LAST-MODIFIED:20251216T185026Z
UID:10002079-1895936400-1895947200@tipplesbrews.com
SUMMARY:WOW! Tipple's Wine of the Week Tasting!
DESCRIPTION:
URL:https://tipplesbrews.com/event/tipples-wine-of-the-week-tasting/2030-01-29/
ATTACH;FMTTYPE=image/png:https://tipplesbrews.com/wp-content/uploads/2024/03/Copy-of-Todays-Pourcast.png
END:VEVENT
BEGIN:VEVENT
DTSTART;TZID=America/New_York:20300131T183000
DTEND;TZID=America/New_York:20300131T193000
DTSTAMP:20260425T090330
CREATED:20250210T153740Z
LAST-MODIFIED:20250210T153740Z
UID:10001424-1896114600-1896118200@tipplesbrews.com
SUMMARY:Running Tabs Running Club
DESCRIPTION:
URL:https://tipplesbrews.com/event/running-tabs-running-club/2030-01-31/
END:VEVENT
BEGIN:VEVENT
DTSTART;TZID=America/New_York:20300205T170000
DTEND;TZID=America/New_York:20300205T200000
DTSTAMP:20260425T090330
CREATED:20250721T173928Z
LAST-MODIFIED:20251216T185026Z
UID:10002080-1896541200-1896552000@tipplesbrews.com
SUMMARY:WOW! Tipple's Wine of the Week Tasting!
DESCRIPTION:
URL:https://tipplesbrews.com/event/tipples-wine-of-the-week-tasting/2030-02-05/
ATTACH;FMTTYPE=image/png:https://tipplesbrews.com/wp-content/uploads/2024/03/Copy-of-Todays-Pourcast.png
END:VEVENT
BEGIN:VEVENT
DTSTART;TZID=America/New_York:20300207T183000
DTEND;TZID=America/New_York:20300207T193000
DTSTAMP:20260425T090330
CREATED:20250210T153740Z
LAST-MODIFIED:20250210T153740Z
UID:10001425-1896719400-1896723000@tipplesbrews.com
SUMMARY:Running Tabs Running Club
DESCRIPTION:
URL:https://tipplesbrews.com/event/running-tabs-running-club/2030-02-07/
END:VEVENT
END:VCALENDAR