BEGIN:VCALENDAR
VERSION:2.0
PRODID:-//Tipples Brews and Wine - ECPv6.15.20//NONSGML v1.0//EN
CALSCALE:GREGORIAN
METHOD:PUBLISH
X-ORIGINAL-URL:https://tipplesbrews.com
X-WR-CALDESC:Events for Tipples Brews and Wine
REFRESH-INTERVAL;VALUE=DURATION:PT1H
X-Robots-Tag:noindex
X-PUBLISHED-TTL:PT1H
BEGIN:VTIMEZONE
TZID:America/New_York
BEGIN:DAYLIGHT
TZOFFSETFROM:-0500
TZOFFSETTO:-0400
TZNAME:EDT
DTSTART:20290311T070000
END:DAYLIGHT
BEGIN:STANDARD
TZOFFSETFROM:-0400
TZOFFSETTO:-0500
TZNAME:EST
DTSTART:20291104T060000
END:STANDARD
BEGIN:DAYLIGHT
TZOFFSETFROM:-0500
TZOFFSETTO:-0400
TZNAME:EDT
DTSTART:20300310T070000
END:DAYLIGHT
BEGIN:STANDARD
TZOFFSETFROM:-0400
TZOFFSETTO:-0500
TZNAME:EST
DTSTART:20301103T060000
END:STANDARD
BEGIN:DAYLIGHT
TZOFFSETFROM:-0500
TZOFFSETTO:-0400
TZNAME:EDT
DTSTART:20310309T070000
END:DAYLIGHT
BEGIN:STANDARD
TZOFFSETFROM:-0400
TZOFFSETTO:-0500
TZNAME:EST
DTSTART:20311102T060000
END:STANDARD
BEGIN:DAYLIGHT
TZOFFSETFROM:-0500
TZOFFSETTO:-0400
TZNAME:EDT
DTSTART:20320314T070000
END:DAYLIGHT
BEGIN:STANDARD
TZOFFSETFROM:-0400
TZOFFSETTO:-0500
TZNAME:EST
DTSTART:20321107T060000
END:STANDARD
END:VTIMEZONE
BEGIN:VEVENT
DTSTART;TZID=America/New_York:20301001T170000
DTEND;TZID=America/New_York:20301001T200000
DTSTAMP:20260425T212757
CREATED:20250721T173928Z
LAST-MODIFIED:20251216T185026Z
UID:10002123-1917104400-1917115200@tipplesbrews.com
SUMMARY:WOW! Tipple's Wine of the Week Tasting!
DESCRIPTION:
URL:https://tipplesbrews.com/event/tipples-wine-of-the-week-tasting/2030-10-01/
ATTACH;FMTTYPE=image/png:https://tipplesbrews.com/wp-content/uploads/2024/03/Copy-of-Todays-Pourcast.png
END:VEVENT
BEGIN:VEVENT
DTSTART;TZID=America/New_York:20301003T183000
DTEND;TZID=America/New_York:20301003T193000
DTSTAMP:20260425T212757
CREATED:20250210T153740Z
LAST-MODIFIED:20250210T153740Z
UID:10002163-1917282600-1917286200@tipplesbrews.com
SUMMARY:Running Tabs Running Club
DESCRIPTION:
URL:https://tipplesbrews.com/event/running-tabs-running-club/2030-10-03/
END:VEVENT
BEGIN:VEVENT
DTSTART;TZID=America/New_York:20301008T170000
DTEND;TZID=America/New_York:20301008T200000
DTSTAMP:20260425T212757
CREATED:20250721T173928Z
LAST-MODIFIED:20251216T185026Z
UID:10002125-1917709200-1917720000@tipplesbrews.com
SUMMARY:WOW! Tipple's Wine of the Week Tasting!
DESCRIPTION:
URL:https://tipplesbrews.com/event/tipples-wine-of-the-week-tasting/2030-10-08/
ATTACH;FMTTYPE=image/png:https://tipplesbrews.com/wp-content/uploads/2024/03/Copy-of-Todays-Pourcast.png
END:VEVENT
BEGIN:VEVENT
DTSTART;TZID=America/New_York:20301010T183000
DTEND;TZID=America/New_York:20301010T193000
DTSTAMP:20260425T212757
CREATED:20250210T153740Z
LAST-MODIFIED:20250210T153740Z
UID:10002164-1917887400-1917891000@tipplesbrews.com
SUMMARY:Running Tabs Running Club
DESCRIPTION:
URL:https://tipplesbrews.com/event/running-tabs-running-club/2030-10-10/
END:VEVENT
BEGIN:VEVENT
DTSTART;TZID=America/New_York:20301015T170000
DTEND;TZID=America/New_York:20301015T200000
DTSTAMP:20260425T212757
CREATED:20250721T173928Z
LAST-MODIFIED:20251216T185026Z
UID:10002127-1918314000-1918324800@tipplesbrews.com
SUMMARY:WOW! Tipple's Wine of the Week Tasting!
DESCRIPTION:
URL:https://tipplesbrews.com/event/tipples-wine-of-the-week-tasting/2030-10-15/
ATTACH;FMTTYPE=image/png:https://tipplesbrews.com/wp-content/uploads/2024/03/Copy-of-Todays-Pourcast.png
END:VEVENT
BEGIN:VEVENT
DTSTART;TZID=America/New_York:20301017T183000
DTEND;TZID=America/New_York:20301017T193000
DTSTAMP:20260425T212757
CREATED:20250210T153740Z
LAST-MODIFIED:20250210T153740Z
UID:10002165-1918492200-1918495800@tipplesbrews.com
SUMMARY:Running Tabs Running Club
DESCRIPTION:
URL:https://tipplesbrews.com/event/running-tabs-running-club/2030-10-17/
END:VEVENT
BEGIN:VEVENT
DTSTART;TZID=America/New_York:20301022T170000
DTEND;TZID=America/New_York:20301022T200000
DTSTAMP:20260425T212757
CREATED:20250721T173928Z
LAST-MODIFIED:20251216T185026Z
UID:10002128-1918918800-1918929600@tipplesbrews.com
SUMMARY:WOW! Tipple's Wine of the Week Tasting!
DESCRIPTION:
URL:https://tipplesbrews.com/event/tipples-wine-of-the-week-tasting/2030-10-22/
ATTACH;FMTTYPE=image/png:https://tipplesbrews.com/wp-content/uploads/2024/03/Copy-of-Todays-Pourcast.png
END:VEVENT
BEGIN:VEVENT
DTSTART;TZID=America/New_York:20301024T183000
DTEND;TZID=America/New_York:20301024T193000
DTSTAMP:20260425T212757
CREATED:20250210T153740Z
LAST-MODIFIED:20250210T153740Z
UID:10002166-1919097000-1919100600@tipplesbrews.com
SUMMARY:Running Tabs Running Club
DESCRIPTION:
URL:https://tipplesbrews.com/event/running-tabs-running-club/2030-10-24/
END:VEVENT
BEGIN:VEVENT
DTSTART;TZID=America/New_York:20301029T170000
DTEND;TZID=America/New_York:20301029T200000
DTSTAMP:20260425T212757
CREATED:20250721T173928Z
LAST-MODIFIED:20251216T185026Z
UID:10002129-1919523600-1919534400@tipplesbrews.com
SUMMARY:WOW! Tipple's Wine of the Week Tasting!
DESCRIPTION:
URL:https://tipplesbrews.com/event/tipples-wine-of-the-week-tasting/2030-10-29/
ATTACH;FMTTYPE=image/png:https://tipplesbrews.com/wp-content/uploads/2024/03/Copy-of-Todays-Pourcast.png
END:VEVENT
BEGIN:VEVENT
DTSTART;TZID=America/New_York:20301031T183000
DTEND;TZID=America/New_York:20301031T193000
DTSTAMP:20260425T212757
CREATED:20250210T153740Z
LAST-MODIFIED:20250210T153740Z
UID:10002167-1919701800-1919705400@tipplesbrews.com
SUMMARY:Running Tabs Running Club
DESCRIPTION:
URL:https://tipplesbrews.com/event/running-tabs-running-club/2030-10-31/
END:VEVENT
BEGIN:VEVENT
DTSTART;TZID=America/New_York:20301105T170000
DTEND;TZID=America/New_York:20301105T200000
DTSTAMP:20260425T212757
CREATED:20250721T173928Z
LAST-MODIFIED:20251216T185026Z
UID:10002168-1920128400-1920139200@tipplesbrews.com
SUMMARY:WOW! Tipple's Wine of the Week Tasting!
DESCRIPTION:
URL:https://tipplesbrews.com/event/tipples-wine-of-the-week-tasting/2030-11-05/
ATTACH;FMTTYPE=image/png:https://tipplesbrews.com/wp-content/uploads/2024/03/Copy-of-Todays-Pourcast.png
END:VEVENT
BEGIN:VEVENT
DTSTART;TZID=America/New_York:20301112T170000
DTEND;TZID=America/New_York:20301112T200000
DTSTAMP:20260425T212757
CREATED:20250721T173928Z
LAST-MODIFIED:20251216T185026Z
UID:10002169-1920733200-1920744000@tipplesbrews.com
SUMMARY:WOW! Tipple's Wine of the Week Tasting!
DESCRIPTION:
URL:https://tipplesbrews.com/event/tipples-wine-of-the-week-tasting/2030-11-12/
ATTACH;FMTTYPE=image/png:https://tipplesbrews.com/wp-content/uploads/2024/03/Copy-of-Todays-Pourcast.png
END:VEVENT
BEGIN:VEVENT
DTSTART;TZID=America/New_York:20301119T170000
DTEND;TZID=America/New_York:20301119T200000
DTSTAMP:20260425T212757
CREATED:20250721T173928Z
LAST-MODIFIED:20251216T185026Z
UID:10002171-1921338000-1921348800@tipplesbrews.com
SUMMARY:WOW! Tipple's Wine of the Week Tasting!
DESCRIPTION:
URL:https://tipplesbrews.com/event/tipples-wine-of-the-week-tasting/2030-11-19/
ATTACH;FMTTYPE=image/png:https://tipplesbrews.com/wp-content/uploads/2024/03/Copy-of-Todays-Pourcast.png
END:VEVENT
BEGIN:VEVENT
DTSTART;TZID=America/New_York:20301126T170000
DTEND;TZID=America/New_York:20301126T200000
DTSTAMP:20260425T212757
CREATED:20250721T173928Z
LAST-MODIFIED:20251216T185026Z
UID:10002172-1921942800-1921953600@tipplesbrews.com
SUMMARY:WOW! Tipple's Wine of the Week Tasting!
DESCRIPTION:
URL:https://tipplesbrews.com/event/tipples-wine-of-the-week-tasting/2030-11-26/
ATTACH;FMTTYPE=image/png:https://tipplesbrews.com/wp-content/uploads/2024/03/Copy-of-Todays-Pourcast.png
END:VEVENT
BEGIN:VEVENT
DTSTART;TZID=America/New_York:20301203T170000
DTEND;TZID=America/New_York:20301203T200000
DTSTAMP:20260425T212757
CREATED:20250721T173928Z
LAST-MODIFIED:20251216T185026Z
UID:10002173-1922547600-1922558400@tipplesbrews.com
SUMMARY:WOW! Tipple's Wine of the Week Tasting!
DESCRIPTION:
URL:https://tipplesbrews.com/event/tipples-wine-of-the-week-tasting/2030-12-03/
ATTACH;FMTTYPE=image/png:https://tipplesbrews.com/wp-content/uploads/2024/03/Copy-of-Todays-Pourcast.png
END:VEVENT
BEGIN:VEVENT
DTSTART;TZID=America/New_York:20301210T170000
DTEND;TZID=America/New_York:20301210T200000
DTSTAMP:20260425T212757
CREATED:20250721T173928Z
LAST-MODIFIED:20251216T185026Z
UID:10002175-1923152400-1923163200@tipplesbrews.com
SUMMARY:WOW! Tipple's Wine of the Week Tasting!
DESCRIPTION:
URL:https://tipplesbrews.com/event/tipples-wine-of-the-week-tasting/2030-12-10/
ATTACH;FMTTYPE=image/png:https://tipplesbrews.com/wp-content/uploads/2024/03/Copy-of-Todays-Pourcast.png
END:VEVENT
BEGIN:VEVENT
DTSTART;TZID=America/New_York:20301217T170000
DTEND;TZID=America/New_York:20301217T200000
DTSTAMP:20260425T212757
CREATED:20250721T173928Z
LAST-MODIFIED:20251216T185026Z
UID:10002177-1923757200-1923768000@tipplesbrews.com
SUMMARY:WOW! Tipple's Wine of the Week Tasting!
DESCRIPTION:
URL:https://tipplesbrews.com/event/tipples-wine-of-the-week-tasting/2030-12-17/
ATTACH;FMTTYPE=image/png:https://tipplesbrews.com/wp-content/uploads/2024/03/Copy-of-Todays-Pourcast.png
END:VEVENT
BEGIN:VEVENT
DTSTART;TZID=America/New_York:20301224T170000
DTEND;TZID=America/New_York:20301224T200000
DTSTAMP:20260425T212757
CREATED:20250721T173928Z
LAST-MODIFIED:20251216T185026Z
UID:10002178-1924362000-1924372800@tipplesbrews.com
SUMMARY:WOW! Tipple's Wine of the Week Tasting!
DESCRIPTION:
URL:https://tipplesbrews.com/event/tipples-wine-of-the-week-tasting/2030-12-24/
ATTACH;FMTTYPE=image/png:https://tipplesbrews.com/wp-content/uploads/2024/03/Copy-of-Todays-Pourcast.png
END:VEVENT
BEGIN:VEVENT
DTSTART;TZID=America/New_York:20301231T170000
DTEND;TZID=America/New_York:20301231T200000
DTSTAMP:20260425T212757
CREATED:20250721T173928Z
LAST-MODIFIED:20251216T185026Z
UID:10002179-1924966800-1924977600@tipplesbrews.com
SUMMARY:WOW! Tipple's Wine of the Week Tasting!
DESCRIPTION:
URL:https://tipplesbrews.com/event/tipples-wine-of-the-week-tasting/2030-12-31/
ATTACH;FMTTYPE=image/png:https://tipplesbrews.com/wp-content/uploads/2024/03/Copy-of-Todays-Pourcast.png
END:VEVENT
BEGIN:VEVENT
DTSTART;TZID=America/New_York:20310107T170000
DTEND;TZID=America/New_York:20310107T200000
DTSTAMP:20260425T212757
CREATED:20250721T173928Z
LAST-MODIFIED:20251216T185026Z
UID:10002180-1925571600-1925582400@tipplesbrews.com
SUMMARY:WOW! Tipple's Wine of the Week Tasting!
DESCRIPTION:
URL:https://tipplesbrews.com/event/tipples-wine-of-the-week-tasting/2031-01-07/
ATTACH;FMTTYPE=image/png:https://tipplesbrews.com/wp-content/uploads/2024/03/Copy-of-Todays-Pourcast.png
END:VEVENT
BEGIN:VEVENT
DTSTART;TZID=America/New_York:20310114T170000
DTEND;TZID=America/New_York:20310114T200000
DTSTAMP:20260425T212757
CREATED:20250721T173928Z
LAST-MODIFIED:20251216T185026Z
UID:10002181-1926176400-1926187200@tipplesbrews.com
SUMMARY:WOW! Tipple's Wine of the Week Tasting!
DESCRIPTION:
URL:https://tipplesbrews.com/event/tipples-wine-of-the-week-tasting/2031-01-14/
ATTACH;FMTTYPE=image/png:https://tipplesbrews.com/wp-content/uploads/2024/03/Copy-of-Todays-Pourcast.png
END:VEVENT
BEGIN:VEVENT
DTSTART;TZID=America/New_York:20310121T170000
DTEND;TZID=America/New_York:20310121T200000
DTSTAMP:20260425T212757
CREATED:20250721T173928Z
LAST-MODIFIED:20251216T185026Z
UID:10002194-1926781200-1926792000@tipplesbrews.com
SUMMARY:WOW! Tipple's Wine of the Week Tasting!
DESCRIPTION:
URL:https://tipplesbrews.com/event/tipples-wine-of-the-week-tasting/2031-01-21/
ATTACH;FMTTYPE=image/png:https://tipplesbrews.com/wp-content/uploads/2024/03/Copy-of-Todays-Pourcast.png
END:VEVENT
BEGIN:VEVENT
DTSTART;TZID=America/New_York:20310128T170000
DTEND;TZID=America/New_York:20310128T200000
DTSTAMP:20260425T212757
CREATED:20250721T173928Z
LAST-MODIFIED:20251216T185026Z
UID:10002195-1927386000-1927396800@tipplesbrews.com
SUMMARY:WOW! Tipple's Wine of the Week Tasting!
DESCRIPTION:
URL:https://tipplesbrews.com/event/tipples-wine-of-the-week-tasting/2031-01-28/
ATTACH;FMTTYPE=image/png:https://tipplesbrews.com/wp-content/uploads/2024/03/Copy-of-Todays-Pourcast.png
END:VEVENT
BEGIN:VEVENT
DTSTART;TZID=America/New_York:20310204T170000
DTEND;TZID=America/New_York:20310204T200000
DTSTAMP:20260425T212757
CREATED:20250721T173928Z
LAST-MODIFIED:20251216T185026Z
UID:10002196-1927990800-1928001600@tipplesbrews.com
SUMMARY:WOW! Tipple's Wine of the Week Tasting!
DESCRIPTION:
URL:https://tipplesbrews.com/event/tipples-wine-of-the-week-tasting/2031-02-04/
ATTACH;FMTTYPE=image/png:https://tipplesbrews.com/wp-content/uploads/2024/03/Copy-of-Todays-Pourcast.png
END:VEVENT
BEGIN:VEVENT
DTSTART;TZID=America/New_York:20310211T170000
DTEND;TZID=America/New_York:20310211T200000
DTSTAMP:20260425T212757
CREATED:20250721T173928Z
LAST-MODIFIED:20251216T185026Z
UID:10002197-1928595600-1928606400@tipplesbrews.com
SUMMARY:WOW! Tipple's Wine of the Week Tasting!
DESCRIPTION:
URL:https://tipplesbrews.com/event/tipples-wine-of-the-week-tasting/2031-02-11/
ATTACH;FMTTYPE=image/png:https://tipplesbrews.com/wp-content/uploads/2024/03/Copy-of-Todays-Pourcast.png
END:VEVENT
BEGIN:VEVENT
DTSTART;TZID=America/New_York:20310218T170000
DTEND;TZID=America/New_York:20310218T200000
DTSTAMP:20260425T212757
CREATED:20250721T173928Z
LAST-MODIFIED:20251216T185026Z
UID:10002198-1929200400-1929211200@tipplesbrews.com
SUMMARY:WOW! Tipple's Wine of the Week Tasting!
DESCRIPTION:
URL:https://tipplesbrews.com/event/tipples-wine-of-the-week-tasting/2031-02-18/
ATTACH;FMTTYPE=image/png:https://tipplesbrews.com/wp-content/uploads/2024/03/Copy-of-Todays-Pourcast.png
END:VEVENT
BEGIN:VEVENT
DTSTART;TZID=America/New_York:20310225T170000
DTEND;TZID=America/New_York:20310225T200000
DTSTAMP:20260425T212757
CREATED:20250721T173928Z
LAST-MODIFIED:20251216T185026Z
UID:10002199-1929805200-1929816000@tipplesbrews.com
SUMMARY:WOW! Tipple's Wine of the Week Tasting!
DESCRIPTION:
URL:https://tipplesbrews.com/event/tipples-wine-of-the-week-tasting/2031-02-25/
ATTACH;FMTTYPE=image/png:https://tipplesbrews.com/wp-content/uploads/2024/03/Copy-of-Todays-Pourcast.png
END:VEVENT
BEGIN:VEVENT
DTSTART;TZID=America/New_York:20310304T170000
DTEND;TZID=America/New_York:20310304T200000
DTSTAMP:20260425T212757
CREATED:20250721T173928Z
LAST-MODIFIED:20251216T185026Z
UID:10002200-1930410000-1930420800@tipplesbrews.com
SUMMARY:WOW! Tipple's Wine of the Week Tasting!
DESCRIPTION:
URL:https://tipplesbrews.com/event/tipples-wine-of-the-week-tasting/2031-03-04/
ATTACH;FMTTYPE=image/png:https://tipplesbrews.com/wp-content/uploads/2024/03/Copy-of-Todays-Pourcast.png
END:VEVENT
BEGIN:VEVENT
DTSTART;TZID=America/New_York:20310311T170000
DTEND;TZID=America/New_York:20310311T200000
DTSTAMP:20260425T212757
CREATED:20250721T173928Z
LAST-MODIFIED:20251216T185026Z
UID:10002201-1931014800-1931025600@tipplesbrews.com
SUMMARY:WOW! Tipple's Wine of the Week Tasting!
DESCRIPTION:
URL:https://tipplesbrews.com/event/tipples-wine-of-the-week-tasting/2031-03-11/
ATTACH;FMTTYPE=image/png:https://tipplesbrews.com/wp-content/uploads/2024/03/Copy-of-Todays-Pourcast.png
END:VEVENT
BEGIN:VEVENT
DTSTART;TZID=America/New_York:20310318T170000
DTEND;TZID=America/New_York:20310318T200000
DTSTAMP:20260425T212757
CREATED:20250721T173928Z
LAST-MODIFIED:20251216T185026Z
UID:10002202-1931619600-1931630400@tipplesbrews.com
SUMMARY:WOW! Tipple's Wine of the Week Tasting!
DESCRIPTION:
URL:https://tipplesbrews.com/event/tipples-wine-of-the-week-tasting/2031-03-18/
ATTACH;FMTTYPE=image/png:https://tipplesbrews.com/wp-content/uploads/2024/03/Copy-of-Todays-Pourcast.png
END:VEVENT
END:VCALENDAR