BEGIN:VCALENDAR
VERSION:2.0
PRODID:-//Tipples Brews and Wine - ECPv6.15.20//NONSGML v1.0//EN
CALSCALE:GREGORIAN
METHOD:PUBLISH
X-WR-CALNAME:Tipples Brews and Wine
X-ORIGINAL-URL:https://tipplesbrews.com
X-WR-CALDESC:Events for Tipples Brews and Wine
REFRESH-INTERVAL;VALUE=DURATION:PT1H
X-Robots-Tag:noindex
X-PUBLISHED-TTL:PT1H
BEGIN:VTIMEZONE
TZID:America/New_York
BEGIN:DAYLIGHT
TZOFFSETFROM:-0500
TZOFFSETTO:-0400
TZNAME:EDT
DTSTART:20250309T070000
END:DAYLIGHT
BEGIN:STANDARD
TZOFFSETFROM:-0400
TZOFFSETTO:-0500
TZNAME:EST
DTSTART:20251102T060000
END:STANDARD
BEGIN:DAYLIGHT
TZOFFSETFROM:-0500
TZOFFSETTO:-0400
TZNAME:EDT
DTSTART:20260308T070000
END:DAYLIGHT
BEGIN:STANDARD
TZOFFSETFROM:-0400
TZOFFSETTO:-0500
TZNAME:EST
DTSTART:20261101T060000
END:STANDARD
BEGIN:DAYLIGHT
TZOFFSETFROM:-0500
TZOFFSETTO:-0400
TZNAME:EDT
DTSTART:20270314T070000
END:DAYLIGHT
BEGIN:STANDARD
TZOFFSETFROM:-0400
TZOFFSETTO:-0500
TZNAME:EST
DTSTART:20271107T060000
END:STANDARD
BEGIN:DAYLIGHT
TZOFFSETFROM:-0500
TZOFFSETTO:-0400
TZNAME:EDT
DTSTART:20280312T070000
END:DAYLIGHT
BEGIN:STANDARD
TZOFFSETFROM:-0400
TZOFFSETTO:-0500
TZNAME:EST
DTSTART:20281105T060000
END:STANDARD
END:VTIMEZONE
BEGIN:VEVENT
DTSTART;TZID=America/New_York:20261001T183000
DTEND;TZID=America/New_York:20261001T193000
DTSTAMP:20260423T190245
CREATED:20250210T153740Z
LAST-MODIFIED:20250210T153740Z
UID:10001250-1790879400-1790883000@tipplesbrews.com
SUMMARY:Running Tabs Running Club
DESCRIPTION:
URL:https://tipplesbrews.com/event/running-tabs-running-club/2026-10-01/
END:VEVENT
BEGIN:VEVENT
DTSTART;TZID=America/New_York:20261006T170000
DTEND;TZID=America/New_York:20261006T200000
DTSTAMP:20260423T190245
CREATED:20250721T173928Z
LAST-MODIFIED:20251216T185026Z
UID:10001906-1791306000-1791316800@tipplesbrews.com
SUMMARY:WOW! Tipple's Wine of the Week Tasting!
DESCRIPTION:
URL:https://tipplesbrews.com/event/tipples-wine-of-the-week-tasting/2026-10-06/
ATTACH;FMTTYPE=image/png:https://tipplesbrews.com/wp-content/uploads/2024/03/Copy-of-Todays-Pourcast.png
END:VEVENT
BEGIN:VEVENT
DTSTART;TZID=America/New_York:20261008T183000
DTEND;TZID=America/New_York:20261008T193000
DTSTAMP:20260423T190245
CREATED:20250210T153740Z
LAST-MODIFIED:20250210T153740Z
UID:10001251-1791484200-1791487800@tipplesbrews.com
SUMMARY:Running Tabs Running Club
DESCRIPTION:
URL:https://tipplesbrews.com/event/running-tabs-running-club/2026-10-08/
END:VEVENT
BEGIN:VEVENT
DTSTART;TZID=America/New_York:20261013T170000
DTEND;TZID=America/New_York:20261013T200000
DTSTAMP:20260423T190245
CREATED:20250721T173928Z
LAST-MODIFIED:20251216T185026Z
UID:10001907-1791910800-1791921600@tipplesbrews.com
SUMMARY:WOW! Tipple's Wine of the Week Tasting!
DESCRIPTION:
URL:https://tipplesbrews.com/event/tipples-wine-of-the-week-tasting/2026-10-13/
ATTACH;FMTTYPE=image/png:https://tipplesbrews.com/wp-content/uploads/2024/03/Copy-of-Todays-Pourcast.png
END:VEVENT
BEGIN:VEVENT
DTSTART;TZID=America/New_York:20261015T183000
DTEND;TZID=America/New_York:20261015T193000
DTSTAMP:20260423T190245
CREATED:20250210T153740Z
LAST-MODIFIED:20250210T153740Z
UID:10001252-1792089000-1792092600@tipplesbrews.com
SUMMARY:Running Tabs Running Club
DESCRIPTION:
URL:https://tipplesbrews.com/event/running-tabs-running-club/2026-10-15/
END:VEVENT
BEGIN:VEVENT
DTSTART;TZID=America/New_York:20261020T170000
DTEND;TZID=America/New_York:20261020T200000
DTSTAMP:20260423T190245
CREATED:20250721T173928Z
LAST-MODIFIED:20251216T185026Z
UID:10001908-1792515600-1792526400@tipplesbrews.com
SUMMARY:WOW! Tipple's Wine of the Week Tasting!
DESCRIPTION:
URL:https://tipplesbrews.com/event/tipples-wine-of-the-week-tasting/2026-10-20/
ATTACH;FMTTYPE=image/png:https://tipplesbrews.com/wp-content/uploads/2024/03/Copy-of-Todays-Pourcast.png
END:VEVENT
BEGIN:VEVENT
DTSTART;TZID=America/New_York:20261022T183000
DTEND;TZID=America/New_York:20261022T193000
DTSTAMP:20260423T190245
CREATED:20250210T153740Z
LAST-MODIFIED:20250210T153740Z
UID:10001253-1792693800-1792697400@tipplesbrews.com
SUMMARY:Running Tabs Running Club
DESCRIPTION:
URL:https://tipplesbrews.com/event/running-tabs-running-club/2026-10-22/
END:VEVENT
BEGIN:VEVENT
DTSTART;TZID=America/New_York:20261027T170000
DTEND;TZID=America/New_York:20261027T200000
DTSTAMP:20260423T190245
CREATED:20250721T173928Z
LAST-MODIFIED:20251216T185026Z
UID:10001909-1793120400-1793131200@tipplesbrews.com
SUMMARY:WOW! Tipple's Wine of the Week Tasting!
DESCRIPTION:
URL:https://tipplesbrews.com/event/tipples-wine-of-the-week-tasting/2026-10-27/
ATTACH;FMTTYPE=image/png:https://tipplesbrews.com/wp-content/uploads/2024/03/Copy-of-Todays-Pourcast.png
END:VEVENT
BEGIN:VEVENT
DTSTART;TZID=America/New_York:20261029T183000
DTEND;TZID=America/New_York:20261029T193000
DTSTAMP:20260423T190245
CREATED:20250210T153740Z
LAST-MODIFIED:20250210T153740Z
UID:10001254-1793298600-1793302200@tipplesbrews.com
SUMMARY:Running Tabs Running Club
DESCRIPTION:
URL:https://tipplesbrews.com/event/running-tabs-running-club/2026-10-29/
END:VEVENT
BEGIN:VEVENT
DTSTART;TZID=America/New_York:20261103T170000
DTEND;TZID=America/New_York:20261103T200000
DTSTAMP:20260423T190245
CREATED:20250721T173928Z
LAST-MODIFIED:20251216T185026Z
UID:10001910-1793725200-1793736000@tipplesbrews.com
SUMMARY:WOW! Tipple's Wine of the Week Tasting!
DESCRIPTION:
URL:https://tipplesbrews.com/event/tipples-wine-of-the-week-tasting/2026-11-03/
ATTACH;FMTTYPE=image/png:https://tipplesbrews.com/wp-content/uploads/2024/03/Copy-of-Todays-Pourcast.png
END:VEVENT
BEGIN:VEVENT
DTSTART;TZID=America/New_York:20261105T183000
DTEND;TZID=America/New_York:20261105T193000
DTSTAMP:20260423T190245
CREATED:20250210T153740Z
LAST-MODIFIED:20250210T153740Z
UID:10001255-1793903400-1793907000@tipplesbrews.com
SUMMARY:Running Tabs Running Club
DESCRIPTION:
URL:https://tipplesbrews.com/event/running-tabs-running-club/2026-11-05/
END:VEVENT
BEGIN:VEVENT
DTSTART;TZID=America/New_York:20261110T170000
DTEND;TZID=America/New_York:20261110T200000
DTSTAMP:20260423T190245
CREATED:20250721T173928Z
LAST-MODIFIED:20251216T185026Z
UID:10001911-1794330000-1794340800@tipplesbrews.com
SUMMARY:WOW! Tipple's Wine of the Week Tasting!
DESCRIPTION:
URL:https://tipplesbrews.com/event/tipples-wine-of-the-week-tasting/2026-11-10/
ATTACH;FMTTYPE=image/png:https://tipplesbrews.com/wp-content/uploads/2024/03/Copy-of-Todays-Pourcast.png
END:VEVENT
BEGIN:VEVENT
DTSTART;TZID=America/New_York:20261112T183000
DTEND;TZID=America/New_York:20261112T193000
DTSTAMP:20260423T190245
CREATED:20250210T153740Z
LAST-MODIFIED:20250210T153740Z
UID:10001256-1794508200-1794511800@tipplesbrews.com
SUMMARY:Running Tabs Running Club
DESCRIPTION:
URL:https://tipplesbrews.com/event/running-tabs-running-club/2026-11-12/
END:VEVENT
BEGIN:VEVENT
DTSTART;TZID=America/New_York:20261117T170000
DTEND;TZID=America/New_York:20261117T200000
DTSTAMP:20260423T190245
CREATED:20250721T173928Z
LAST-MODIFIED:20251216T185026Z
UID:10001912-1794934800-1794945600@tipplesbrews.com
SUMMARY:WOW! Tipple's Wine of the Week Tasting!
DESCRIPTION:
URL:https://tipplesbrews.com/event/tipples-wine-of-the-week-tasting/2026-11-17/
ATTACH;FMTTYPE=image/png:https://tipplesbrews.com/wp-content/uploads/2024/03/Copy-of-Todays-Pourcast.png
END:VEVENT
BEGIN:VEVENT
DTSTART;TZID=America/New_York:20261119T183000
DTEND;TZID=America/New_York:20261119T193000
DTSTAMP:20260423T190245
CREATED:20250210T153740Z
LAST-MODIFIED:20250210T153740Z
UID:10001257-1795113000-1795116600@tipplesbrews.com
SUMMARY:Running Tabs Running Club
DESCRIPTION:
URL:https://tipplesbrews.com/event/running-tabs-running-club/2026-11-19/
END:VEVENT
BEGIN:VEVENT
DTSTART;TZID=America/New_York:20261124T170000
DTEND;TZID=America/New_York:20261124T200000
DTSTAMP:20260423T190245
CREATED:20250721T173928Z
LAST-MODIFIED:20251216T185026Z
UID:10001913-1795539600-1795550400@tipplesbrews.com
SUMMARY:WOW! Tipple's Wine of the Week Tasting!
DESCRIPTION:
URL:https://tipplesbrews.com/event/tipples-wine-of-the-week-tasting/2026-11-24/
ATTACH;FMTTYPE=image/png:https://tipplesbrews.com/wp-content/uploads/2024/03/Copy-of-Todays-Pourcast.png
END:VEVENT
BEGIN:VEVENT
DTSTART;TZID=America/New_York:20261126T183000
DTEND;TZID=America/New_York:20261126T193000
DTSTAMP:20260423T190245
CREATED:20250210T153740Z
LAST-MODIFIED:20250210T153740Z
UID:10001258-1795717800-1795721400@tipplesbrews.com
SUMMARY:Running Tabs Running Club
DESCRIPTION:
URL:https://tipplesbrews.com/event/running-tabs-running-club/2026-11-26/
END:VEVENT
BEGIN:VEVENT
DTSTART;TZID=America/New_York:20261201T170000
DTEND;TZID=America/New_York:20261201T200000
DTSTAMP:20260423T190245
CREATED:20250721T173928Z
LAST-MODIFIED:20251216T185026Z
UID:10001914-1796144400-1796155200@tipplesbrews.com
SUMMARY:WOW! Tipple's Wine of the Week Tasting!
DESCRIPTION:
URL:https://tipplesbrews.com/event/tipples-wine-of-the-week-tasting/2026-12-01/
ATTACH;FMTTYPE=image/png:https://tipplesbrews.com/wp-content/uploads/2024/03/Copy-of-Todays-Pourcast.png
END:VEVENT
BEGIN:VEVENT
DTSTART;TZID=America/New_York:20261203T183000
DTEND;TZID=America/New_York:20261203T193000
DTSTAMP:20260423T190245
CREATED:20250210T153740Z
LAST-MODIFIED:20250210T153740Z
UID:10001259-1796322600-1796326200@tipplesbrews.com
SUMMARY:Running Tabs Running Club
DESCRIPTION:
URL:https://tipplesbrews.com/event/running-tabs-running-club/2026-12-03/
END:VEVENT
BEGIN:VEVENT
DTSTART;TZID=America/New_York:20261208T170000
DTEND;TZID=America/New_York:20261208T200000
DTSTAMP:20260423T190245
CREATED:20250721T173928Z
LAST-MODIFIED:20251216T185026Z
UID:10001915-1796749200-1796760000@tipplesbrews.com
SUMMARY:WOW! Tipple's Wine of the Week Tasting!
DESCRIPTION:
URL:https://tipplesbrews.com/event/tipples-wine-of-the-week-tasting/2026-12-08/
ATTACH;FMTTYPE=image/png:https://tipplesbrews.com/wp-content/uploads/2024/03/Copy-of-Todays-Pourcast.png
END:VEVENT
BEGIN:VEVENT
DTSTART;TZID=America/New_York:20261210T183000
DTEND;TZID=America/New_York:20261210T193000
DTSTAMP:20260423T190245
CREATED:20250210T153740Z
LAST-MODIFIED:20250210T153740Z
UID:10001260-1796927400-1796931000@tipplesbrews.com
SUMMARY:Running Tabs Running Club
DESCRIPTION:
URL:https://tipplesbrews.com/event/running-tabs-running-club/2026-12-10/
END:VEVENT
BEGIN:VEVENT
DTSTART;TZID=America/New_York:20261215T170000
DTEND;TZID=America/New_York:20261215T200000
DTSTAMP:20260423T190245
CREATED:20250721T173928Z
LAST-MODIFIED:20251216T185026Z
UID:10001916-1797354000-1797364800@tipplesbrews.com
SUMMARY:WOW! Tipple's Wine of the Week Tasting!
DESCRIPTION:
URL:https://tipplesbrews.com/event/tipples-wine-of-the-week-tasting/2026-12-15/
ATTACH;FMTTYPE=image/png:https://tipplesbrews.com/wp-content/uploads/2024/03/Copy-of-Todays-Pourcast.png
END:VEVENT
BEGIN:VEVENT
DTSTART;TZID=America/New_York:20261217T183000
DTEND;TZID=America/New_York:20261217T193000
DTSTAMP:20260423T190245
CREATED:20250210T153740Z
LAST-MODIFIED:20250210T153740Z
UID:10001261-1797532200-1797535800@tipplesbrews.com
SUMMARY:Running Tabs Running Club
DESCRIPTION:
URL:https://tipplesbrews.com/event/running-tabs-running-club/2026-12-17/
END:VEVENT
BEGIN:VEVENT
DTSTART;TZID=America/New_York:20261222T170000
DTEND;TZID=America/New_York:20261222T200000
DTSTAMP:20260423T190245
CREATED:20250721T173928Z
LAST-MODIFIED:20251216T185026Z
UID:10001917-1797958800-1797969600@tipplesbrews.com
SUMMARY:WOW! Tipple's Wine of the Week Tasting!
DESCRIPTION:
URL:https://tipplesbrews.com/event/tipples-wine-of-the-week-tasting/2026-12-22/
ATTACH;FMTTYPE=image/png:https://tipplesbrews.com/wp-content/uploads/2024/03/Copy-of-Todays-Pourcast.png
END:VEVENT
BEGIN:VEVENT
DTSTART;TZID=America/New_York:20261224T183000
DTEND;TZID=America/New_York:20261224T193000
DTSTAMP:20260423T190245
CREATED:20250210T153740Z
LAST-MODIFIED:20250210T153740Z
UID:10001262-1798137000-1798140600@tipplesbrews.com
SUMMARY:Running Tabs Running Club
DESCRIPTION:
URL:https://tipplesbrews.com/event/running-tabs-running-club/2026-12-24/
END:VEVENT
BEGIN:VEVENT
DTSTART;TZID=America/New_York:20261229T170000
DTEND;TZID=America/New_York:20261229T200000
DTSTAMP:20260423T190245
CREATED:20250721T173928Z
LAST-MODIFIED:20251216T185026Z
UID:10001918-1798563600-1798574400@tipplesbrews.com
SUMMARY:WOW! Tipple's Wine of the Week Tasting!
DESCRIPTION:
URL:https://tipplesbrews.com/event/tipples-wine-of-the-week-tasting/2026-12-29/
ATTACH;FMTTYPE=image/png:https://tipplesbrews.com/wp-content/uploads/2024/03/Copy-of-Todays-Pourcast.png
END:VEVENT
BEGIN:VEVENT
DTSTART;TZID=America/New_York:20261231T183000
DTEND;TZID=America/New_York:20261231T193000
DTSTAMP:20260423T190245
CREATED:20250210T153740Z
LAST-MODIFIED:20250210T153740Z
UID:10001263-1798741800-1798745400@tipplesbrews.com
SUMMARY:Running Tabs Running Club
DESCRIPTION:
URL:https://tipplesbrews.com/event/running-tabs-running-club/2026-12-31/
END:VEVENT
BEGIN:VEVENT
DTSTART;TZID=America/New_York:20270105T170000
DTEND;TZID=America/New_York:20270105T200000
DTSTAMP:20260423T190245
CREATED:20250721T173928Z
LAST-MODIFIED:20251216T185026Z
UID:10001919-1799168400-1799179200@tipplesbrews.com
SUMMARY:WOW! Tipple's Wine of the Week Tasting!
DESCRIPTION:
URL:https://tipplesbrews.com/event/tipples-wine-of-the-week-tasting/2027-01-05/
ATTACH;FMTTYPE=image/png:https://tipplesbrews.com/wp-content/uploads/2024/03/Copy-of-Todays-Pourcast.png
END:VEVENT
BEGIN:VEVENT
DTSTART;TZID=America/New_York:20270107T183000
DTEND;TZID=America/New_York:20270107T193000
DTSTAMP:20260423T190245
CREATED:20250210T153740Z
LAST-MODIFIED:20250210T153740Z
UID:10001264-1799346600-1799350200@tipplesbrews.com
SUMMARY:Running Tabs Running Club
DESCRIPTION:
URL:https://tipplesbrews.com/event/running-tabs-running-club/2027-01-07/
END:VEVENT
BEGIN:VEVENT
DTSTART;TZID=America/New_York:20270112T170000
DTEND;TZID=America/New_York:20270112T200000
DTSTAMP:20260423T190245
CREATED:20250721T173928Z
LAST-MODIFIED:20251216T185026Z
UID:10001920-1799773200-1799784000@tipplesbrews.com
SUMMARY:WOW! Tipple's Wine of the Week Tasting!
DESCRIPTION:
URL:https://tipplesbrews.com/event/tipples-wine-of-the-week-tasting/2027-01-12/
ATTACH;FMTTYPE=image/png:https://tipplesbrews.com/wp-content/uploads/2024/03/Copy-of-Todays-Pourcast.png
END:VEVENT
END:VCALENDAR