BEGIN:VCALENDAR
VERSION:2.0
PRODID:-//Tipples Brews and Wine - ECPv6.15.20//NONSGML v1.0//EN
CALSCALE:GREGORIAN
METHOD:PUBLISH
X-WR-CALNAME:Tipples Brews and Wine
X-ORIGINAL-URL:https://tipplesbrews.com
X-WR-CALDESC:Events for Tipples Brews and Wine
REFRESH-INTERVAL;VALUE=DURATION:PT1H
X-Robots-Tag:noindex
X-PUBLISHED-TTL:PT1H
BEGIN:VTIMEZONE
TZID:America/New_York
BEGIN:DAYLIGHT
TZOFFSETFROM:-0500
TZOFFSETTO:-0400
TZNAME:EDT
DTSTART:20270314T070000
END:DAYLIGHT
BEGIN:STANDARD
TZOFFSETFROM:-0400
TZOFFSETTO:-0500
TZNAME:EST
DTSTART:20271107T060000
END:STANDARD
BEGIN:DAYLIGHT
TZOFFSETFROM:-0500
TZOFFSETTO:-0400
TZNAME:EDT
DTSTART:20280312T070000
END:DAYLIGHT
BEGIN:STANDARD
TZOFFSETFROM:-0400
TZOFFSETTO:-0500
TZNAME:EST
DTSTART:20281105T060000
END:STANDARD
BEGIN:DAYLIGHT
TZOFFSETFROM:-0500
TZOFFSETTO:-0400
TZNAME:EDT
DTSTART:20290311T070000
END:DAYLIGHT
BEGIN:STANDARD
TZOFFSETFROM:-0400
TZOFFSETTO:-0500
TZNAME:EST
DTSTART:20291104T060000
END:STANDARD
BEGIN:DAYLIGHT
TZOFFSETFROM:-0500
TZOFFSETTO:-0400
TZNAME:EDT
DTSTART:20300310T070000
END:DAYLIGHT
BEGIN:STANDARD
TZOFFSETFROM:-0400
TZOFFSETTO:-0500
TZNAME:EST
DTSTART:20301103T060000
END:STANDARD
END:VTIMEZONE
BEGIN:VEVENT
DTSTART;TZID=America/New_York:20281205T170000
DTEND;TZID=America/New_York:20281205T200000
DTSTAMP:20260425T083910
CREATED:20250721T173928Z
LAST-MODIFIED:20251216T185026Z
UID:10002019-1859648400-1859659200@tipplesbrews.com
SUMMARY:WOW! Tipple's Wine of the Week Tasting!
DESCRIPTION:
URL:https://tipplesbrews.com/event/tipples-wine-of-the-week-tasting/2028-12-05/
ATTACH;FMTTYPE=image/png:https://tipplesbrews.com/wp-content/uploads/2024/03/Copy-of-Todays-Pourcast.png
END:VEVENT
BEGIN:VEVENT
DTSTART;TZID=America/New_York:20281207T183000
DTEND;TZID=America/New_York:20281207T193000
DTSTAMP:20260425T083910
CREATED:20250210T153740Z
LAST-MODIFIED:20250210T153740Z
UID:10001364-1859826600-1859830200@tipplesbrews.com
SUMMARY:Running Tabs Running Club
DESCRIPTION:
URL:https://tipplesbrews.com/event/running-tabs-running-club/2028-12-07/
END:VEVENT
BEGIN:VEVENT
DTSTART;TZID=America/New_York:20281212T170000
DTEND;TZID=America/New_York:20281212T200000
DTSTAMP:20260425T083910
CREATED:20250721T173928Z
LAST-MODIFIED:20251216T185026Z
UID:10002020-1860253200-1860264000@tipplesbrews.com
SUMMARY:WOW! Tipple's Wine of the Week Tasting!
DESCRIPTION:
URL:https://tipplesbrews.com/event/tipples-wine-of-the-week-tasting/2028-12-12/
ATTACH;FMTTYPE=image/png:https://tipplesbrews.com/wp-content/uploads/2024/03/Copy-of-Todays-Pourcast.png
END:VEVENT
BEGIN:VEVENT
DTSTART;TZID=America/New_York:20281214T183000
DTEND;TZID=America/New_York:20281214T193000
DTSTAMP:20260425T083910
CREATED:20250210T153740Z
LAST-MODIFIED:20250210T153740Z
UID:10001365-1860431400-1860435000@tipplesbrews.com
SUMMARY:Running Tabs Running Club
DESCRIPTION:
URL:https://tipplesbrews.com/event/running-tabs-running-club/2028-12-14/
END:VEVENT
BEGIN:VEVENT
DTSTART;TZID=America/New_York:20281219T170000
DTEND;TZID=America/New_York:20281219T200000
DTSTAMP:20260425T083910
CREATED:20250721T173928Z
LAST-MODIFIED:20251216T185026Z
UID:10002021-1860858000-1860868800@tipplesbrews.com
SUMMARY:WOW! Tipple's Wine of the Week Tasting!
DESCRIPTION:
URL:https://tipplesbrews.com/event/tipples-wine-of-the-week-tasting/2028-12-19/
ATTACH;FMTTYPE=image/png:https://tipplesbrews.com/wp-content/uploads/2024/03/Copy-of-Todays-Pourcast.png
END:VEVENT
BEGIN:VEVENT
DTSTART;TZID=America/New_York:20281221T183000
DTEND;TZID=America/New_York:20281221T193000
DTSTAMP:20260425T083910
CREATED:20250210T153740Z
LAST-MODIFIED:20250210T153740Z
UID:10001366-1861036200-1861039800@tipplesbrews.com
SUMMARY:Running Tabs Running Club
DESCRIPTION:
URL:https://tipplesbrews.com/event/running-tabs-running-club/2028-12-21/
END:VEVENT
BEGIN:VEVENT
DTSTART;TZID=America/New_York:20281226T170000
DTEND;TZID=America/New_York:20281226T200000
DTSTAMP:20260425T083910
CREATED:20250721T173928Z
LAST-MODIFIED:20251216T185026Z
UID:10002022-1861462800-1861473600@tipplesbrews.com
SUMMARY:WOW! Tipple's Wine of the Week Tasting!
DESCRIPTION:
URL:https://tipplesbrews.com/event/tipples-wine-of-the-week-tasting/2028-12-26/
ATTACH;FMTTYPE=image/png:https://tipplesbrews.com/wp-content/uploads/2024/03/Copy-of-Todays-Pourcast.png
END:VEVENT
BEGIN:VEVENT
DTSTART;TZID=America/New_York:20281228T183000
DTEND;TZID=America/New_York:20281228T193000
DTSTAMP:20260425T083910
CREATED:20250210T153740Z
LAST-MODIFIED:20250210T153740Z
UID:10001367-1861641000-1861644600@tipplesbrews.com
SUMMARY:Running Tabs Running Club
DESCRIPTION:
URL:https://tipplesbrews.com/event/running-tabs-running-club/2028-12-28/
END:VEVENT
BEGIN:VEVENT
DTSTART;TZID=America/New_York:20290102T170000
DTEND;TZID=America/New_York:20290102T200000
DTSTAMP:20260425T083910
CREATED:20250721T173928Z
LAST-MODIFIED:20251216T185026Z
UID:10002023-1862067600-1862078400@tipplesbrews.com
SUMMARY:WOW! Tipple's Wine of the Week Tasting!
DESCRIPTION:
URL:https://tipplesbrews.com/event/tipples-wine-of-the-week-tasting/2029-01-02/
ATTACH;FMTTYPE=image/png:https://tipplesbrews.com/wp-content/uploads/2024/03/Copy-of-Todays-Pourcast.png
END:VEVENT
BEGIN:VEVENT
DTSTART;TZID=America/New_York:20290104T183000
DTEND;TZID=America/New_York:20290104T193000
DTSTAMP:20260425T083910
CREATED:20250210T153740Z
LAST-MODIFIED:20250210T153740Z
UID:10001368-1862245800-1862249400@tipplesbrews.com
SUMMARY:Running Tabs Running Club
DESCRIPTION:
URL:https://tipplesbrews.com/event/running-tabs-running-club/2029-01-04/
END:VEVENT
BEGIN:VEVENT
DTSTART;TZID=America/New_York:20290109T170000
DTEND;TZID=America/New_York:20290109T200000
DTSTAMP:20260425T083910
CREATED:20250721T173928Z
LAST-MODIFIED:20251216T185026Z
UID:10002024-1862672400-1862683200@tipplesbrews.com
SUMMARY:WOW! Tipple's Wine of the Week Tasting!
DESCRIPTION:
URL:https://tipplesbrews.com/event/tipples-wine-of-the-week-tasting/2029-01-09/
ATTACH;FMTTYPE=image/png:https://tipplesbrews.com/wp-content/uploads/2024/03/Copy-of-Todays-Pourcast.png
END:VEVENT
BEGIN:VEVENT
DTSTART;TZID=America/New_York:20290111T183000
DTEND;TZID=America/New_York:20290111T193000
DTSTAMP:20260425T083910
CREATED:20250210T153740Z
LAST-MODIFIED:20250210T153740Z
UID:10001369-1862850600-1862854200@tipplesbrews.com
SUMMARY:Running Tabs Running Club
DESCRIPTION:
URL:https://tipplesbrews.com/event/running-tabs-running-club/2029-01-11/
END:VEVENT
BEGIN:VEVENT
DTSTART;TZID=America/New_York:20290116T170000
DTEND;TZID=America/New_York:20290116T200000
DTSTAMP:20260425T083910
CREATED:20250721T173928Z
LAST-MODIFIED:20251216T185026Z
UID:10002025-1863277200-1863288000@tipplesbrews.com
SUMMARY:WOW! Tipple's Wine of the Week Tasting!
DESCRIPTION:
URL:https://tipplesbrews.com/event/tipples-wine-of-the-week-tasting/2029-01-16/
ATTACH;FMTTYPE=image/png:https://tipplesbrews.com/wp-content/uploads/2024/03/Copy-of-Todays-Pourcast.png
END:VEVENT
BEGIN:VEVENT
DTSTART;TZID=America/New_York:20290118T183000
DTEND;TZID=America/New_York:20290118T193000
DTSTAMP:20260425T083910
CREATED:20250210T153740Z
LAST-MODIFIED:20250210T153740Z
UID:10001370-1863455400-1863459000@tipplesbrews.com
SUMMARY:Running Tabs Running Club
DESCRIPTION:
URL:https://tipplesbrews.com/event/running-tabs-running-club/2029-01-18/
END:VEVENT
BEGIN:VEVENT
DTSTART;TZID=America/New_York:20290123T170000
DTEND;TZID=America/New_York:20290123T200000
DTSTAMP:20260425T083910
CREATED:20250721T173928Z
LAST-MODIFIED:20251216T185026Z
UID:10002026-1863882000-1863892800@tipplesbrews.com
SUMMARY:WOW! Tipple's Wine of the Week Tasting!
DESCRIPTION:
URL:https://tipplesbrews.com/event/tipples-wine-of-the-week-tasting/2029-01-23/
ATTACH;FMTTYPE=image/png:https://tipplesbrews.com/wp-content/uploads/2024/03/Copy-of-Todays-Pourcast.png
END:VEVENT
BEGIN:VEVENT
DTSTART;TZID=America/New_York:20290125T183000
DTEND;TZID=America/New_York:20290125T193000
DTSTAMP:20260425T083910
CREATED:20250210T153740Z
LAST-MODIFIED:20250210T153740Z
UID:10001371-1864060200-1864063800@tipplesbrews.com
SUMMARY:Running Tabs Running Club
DESCRIPTION:
URL:https://tipplesbrews.com/event/running-tabs-running-club/2029-01-25/
END:VEVENT
BEGIN:VEVENT
DTSTART;TZID=America/New_York:20290130T170000
DTEND;TZID=America/New_York:20290130T200000
DTSTAMP:20260425T083910
CREATED:20250721T173928Z
LAST-MODIFIED:20251216T185026Z
UID:10002027-1864486800-1864497600@tipplesbrews.com
SUMMARY:WOW! Tipple's Wine of the Week Tasting!
DESCRIPTION:
URL:https://tipplesbrews.com/event/tipples-wine-of-the-week-tasting/2029-01-30/
ATTACH;FMTTYPE=image/png:https://tipplesbrews.com/wp-content/uploads/2024/03/Copy-of-Todays-Pourcast.png
END:VEVENT
BEGIN:VEVENT
DTSTART;TZID=America/New_York:20290201T183000
DTEND;TZID=America/New_York:20290201T193000
DTSTAMP:20260425T083910
CREATED:20250210T153740Z
LAST-MODIFIED:20250210T153740Z
UID:10001372-1864665000-1864668600@tipplesbrews.com
SUMMARY:Running Tabs Running Club
DESCRIPTION:
URL:https://tipplesbrews.com/event/running-tabs-running-club/2029-02-01/
END:VEVENT
BEGIN:VEVENT
DTSTART;TZID=America/New_York:20290206T170000
DTEND;TZID=America/New_York:20290206T200000
DTSTAMP:20260425T083910
CREATED:20250721T173928Z
LAST-MODIFIED:20251216T185026Z
UID:10002028-1865091600-1865102400@tipplesbrews.com
SUMMARY:WOW! Tipple's Wine of the Week Tasting!
DESCRIPTION:
URL:https://tipplesbrews.com/event/tipples-wine-of-the-week-tasting/2029-02-06/
ATTACH;FMTTYPE=image/png:https://tipplesbrews.com/wp-content/uploads/2024/03/Copy-of-Todays-Pourcast.png
END:VEVENT
BEGIN:VEVENT
DTSTART;TZID=America/New_York:20290208T183000
DTEND;TZID=America/New_York:20290208T193000
DTSTAMP:20260425T083910
CREATED:20250210T153740Z
LAST-MODIFIED:20250210T153740Z
UID:10001373-1865269800-1865273400@tipplesbrews.com
SUMMARY:Running Tabs Running Club
DESCRIPTION:
URL:https://tipplesbrews.com/event/running-tabs-running-club/2029-02-08/
END:VEVENT
BEGIN:VEVENT
DTSTART;TZID=America/New_York:20290213T170000
DTEND;TZID=America/New_York:20290213T200000
DTSTAMP:20260425T083910
CREATED:20250721T173928Z
LAST-MODIFIED:20251216T185026Z
UID:10002029-1865696400-1865707200@tipplesbrews.com
SUMMARY:WOW! Tipple's Wine of the Week Tasting!
DESCRIPTION:
URL:https://tipplesbrews.com/event/tipples-wine-of-the-week-tasting/2029-02-13/
ATTACH;FMTTYPE=image/png:https://tipplesbrews.com/wp-content/uploads/2024/03/Copy-of-Todays-Pourcast.png
END:VEVENT
BEGIN:VEVENT
DTSTART;TZID=America/New_York:20290215T183000
DTEND;TZID=America/New_York:20290215T193000
DTSTAMP:20260425T083910
CREATED:20250210T153740Z
LAST-MODIFIED:20250210T153740Z
UID:10001374-1865874600-1865878200@tipplesbrews.com
SUMMARY:Running Tabs Running Club
DESCRIPTION:
URL:https://tipplesbrews.com/event/running-tabs-running-club/2029-02-15/
END:VEVENT
BEGIN:VEVENT
DTSTART;TZID=America/New_York:20290220T170000
DTEND;TZID=America/New_York:20290220T200000
DTSTAMP:20260425T083910
CREATED:20250721T173928Z
LAST-MODIFIED:20251216T185026Z
UID:10002030-1866301200-1866312000@tipplesbrews.com
SUMMARY:WOW! Tipple's Wine of the Week Tasting!
DESCRIPTION:
URL:https://tipplesbrews.com/event/tipples-wine-of-the-week-tasting/2029-02-20/
ATTACH;FMTTYPE=image/png:https://tipplesbrews.com/wp-content/uploads/2024/03/Copy-of-Todays-Pourcast.png
END:VEVENT
BEGIN:VEVENT
DTSTART;TZID=America/New_York:20290222T183000
DTEND;TZID=America/New_York:20290222T193000
DTSTAMP:20260425T083910
CREATED:20250210T153740Z
LAST-MODIFIED:20250210T153740Z
UID:10001375-1866479400-1866483000@tipplesbrews.com
SUMMARY:Running Tabs Running Club
DESCRIPTION:
URL:https://tipplesbrews.com/event/running-tabs-running-club/2029-02-22/
END:VEVENT
BEGIN:VEVENT
DTSTART;TZID=America/New_York:20290227T170000
DTEND;TZID=America/New_York:20290227T200000
DTSTAMP:20260425T083910
CREATED:20250721T173928Z
LAST-MODIFIED:20251216T185026Z
UID:10002031-1866906000-1866916800@tipplesbrews.com
SUMMARY:WOW! Tipple's Wine of the Week Tasting!
DESCRIPTION:
URL:https://tipplesbrews.com/event/tipples-wine-of-the-week-tasting/2029-02-27/
ATTACH;FMTTYPE=image/png:https://tipplesbrews.com/wp-content/uploads/2024/03/Copy-of-Todays-Pourcast.png
END:VEVENT
BEGIN:VEVENT
DTSTART;TZID=America/New_York:20290301T183000
DTEND;TZID=America/New_York:20290301T193000
DTSTAMP:20260425T083910
CREATED:20250210T153740Z
LAST-MODIFIED:20250210T153740Z
UID:10001376-1867084200-1867087800@tipplesbrews.com
SUMMARY:Running Tabs Running Club
DESCRIPTION:
URL:https://tipplesbrews.com/event/running-tabs-running-club/2029-03-01/
END:VEVENT
BEGIN:VEVENT
DTSTART;TZID=America/New_York:20290306T170000
DTEND;TZID=America/New_York:20290306T200000
DTSTAMP:20260425T083910
CREATED:20250721T173928Z
LAST-MODIFIED:20251216T185026Z
UID:10002032-1867510800-1867521600@tipplesbrews.com
SUMMARY:WOW! Tipple's Wine of the Week Tasting!
DESCRIPTION:
URL:https://tipplesbrews.com/event/tipples-wine-of-the-week-tasting/2029-03-06/
ATTACH;FMTTYPE=image/png:https://tipplesbrews.com/wp-content/uploads/2024/03/Copy-of-Todays-Pourcast.png
END:VEVENT
BEGIN:VEVENT
DTSTART;TZID=America/New_York:20290308T183000
DTEND;TZID=America/New_York:20290308T193000
DTSTAMP:20260425T083910
CREATED:20250210T153740Z
LAST-MODIFIED:20250210T153740Z
UID:10001377-1867689000-1867692600@tipplesbrews.com
SUMMARY:Running Tabs Running Club
DESCRIPTION:
URL:https://tipplesbrews.com/event/running-tabs-running-club/2029-03-08/
END:VEVENT
BEGIN:VEVENT
DTSTART;TZID=America/New_York:20290313T170000
DTEND;TZID=America/New_York:20290313T200000
DTSTAMP:20260425T083910
CREATED:20250721T173928Z
LAST-MODIFIED:20251216T185026Z
UID:10002033-1868115600-1868126400@tipplesbrews.com
SUMMARY:WOW! Tipple's Wine of the Week Tasting!
DESCRIPTION:
URL:https://tipplesbrews.com/event/tipples-wine-of-the-week-tasting/2029-03-13/
ATTACH;FMTTYPE=image/png:https://tipplesbrews.com/wp-content/uploads/2024/03/Copy-of-Todays-Pourcast.png
END:VEVENT
BEGIN:VEVENT
DTSTART;TZID=America/New_York:20290315T183000
DTEND;TZID=America/New_York:20290315T193000
DTSTAMP:20260425T083910
CREATED:20250210T153740Z
LAST-MODIFIED:20250210T153740Z
UID:10001378-1868293800-1868297400@tipplesbrews.com
SUMMARY:Running Tabs Running Club
DESCRIPTION:
URL:https://tipplesbrews.com/event/running-tabs-running-club/2029-03-15/
END:VEVENT
END:VCALENDAR