BEGIN:VCALENDAR
VERSION:2.0
PRODID:-//Tipples Brews and Wine - ECPv6.15.20//NONSGML v1.0//EN
CALSCALE:GREGORIAN
METHOD:PUBLISH
X-ORIGINAL-URL:https://tipplesbrews.com
X-WR-CALDESC:Events for Tipples Brews and Wine
REFRESH-INTERVAL;VALUE=DURATION:PT1H
X-Robots-Tag:noindex
X-PUBLISHED-TTL:PT1H
BEGIN:VTIMEZONE
TZID:America/New_York
BEGIN:DAYLIGHT
TZOFFSETFROM:-0500
TZOFFSETTO:-0400
TZNAME:EDT
DTSTART:20260308T070000
END:DAYLIGHT
BEGIN:STANDARD
TZOFFSETFROM:-0400
TZOFFSETTO:-0500
TZNAME:EST
DTSTART:20261101T060000
END:STANDARD
BEGIN:DAYLIGHT
TZOFFSETFROM:-0500
TZOFFSETTO:-0400
TZNAME:EDT
DTSTART:20270314T070000
END:DAYLIGHT
BEGIN:STANDARD
TZOFFSETFROM:-0400
TZOFFSETTO:-0500
TZNAME:EST
DTSTART:20271107T060000
END:STANDARD
BEGIN:DAYLIGHT
TZOFFSETFROM:-0500
TZOFFSETTO:-0400
TZNAME:EDT
DTSTART:20280312T070000
END:DAYLIGHT
BEGIN:STANDARD
TZOFFSETFROM:-0400
TZOFFSETTO:-0500
TZNAME:EST
DTSTART:20281105T060000
END:STANDARD
END:VTIMEZONE
BEGIN:VEVENT
DTSTART;TZID=America/New_York:20270819T183000
DTEND;TZID=America/New_York:20270819T193000
DTSTAMP:20260424T104039
CREATED:20250210T153740Z
LAST-MODIFIED:20250210T153740Z
UID:10001296-1818700200-1818703800@tipplesbrews.com
SUMMARY:Running Tabs Running Club
DESCRIPTION:
URL:https://tipplesbrews.com/event/running-tabs-running-club/2027-08-19/
END:VEVENT
BEGIN:VEVENT
DTSTART;TZID=America/New_York:20270824T170000
DTEND;TZID=America/New_York:20270824T200000
DTSTAMP:20260424T104039
CREATED:20250721T173928Z
LAST-MODIFIED:20251216T185026Z
UID:10001952-1819126800-1819137600@tipplesbrews.com
SUMMARY:WOW! Tipple's Wine of the Week Tasting!
DESCRIPTION:
URL:https://tipplesbrews.com/event/tipples-wine-of-the-week-tasting/2027-08-24/
ATTACH;FMTTYPE=image/png:https://tipplesbrews.com/wp-content/uploads/2024/03/Copy-of-Todays-Pourcast.png
END:VEVENT
BEGIN:VEVENT
DTSTART;TZID=America/New_York:20270826T183000
DTEND;TZID=America/New_York:20270826T193000
DTSTAMP:20260424T104039
CREATED:20250210T153740Z
LAST-MODIFIED:20250210T153740Z
UID:10001297-1819305000-1819308600@tipplesbrews.com
SUMMARY:Running Tabs Running Club
DESCRIPTION:
URL:https://tipplesbrews.com/event/running-tabs-running-club/2027-08-26/
END:VEVENT
BEGIN:VEVENT
DTSTART;TZID=America/New_York:20270831T170000
DTEND;TZID=America/New_York:20270831T200000
DTSTAMP:20260424T104039
CREATED:20250721T173928Z
LAST-MODIFIED:20251216T185026Z
UID:10001953-1819731600-1819742400@tipplesbrews.com
SUMMARY:WOW! Tipple's Wine of the Week Tasting!
DESCRIPTION:
URL:https://tipplesbrews.com/event/tipples-wine-of-the-week-tasting/2027-08-31/
ATTACH;FMTTYPE=image/png:https://tipplesbrews.com/wp-content/uploads/2024/03/Copy-of-Todays-Pourcast.png
END:VEVENT
BEGIN:VEVENT
DTSTART;TZID=America/New_York:20270902T183000
DTEND;TZID=America/New_York:20270902T193000
DTSTAMP:20260424T104039
CREATED:20250210T153740Z
LAST-MODIFIED:20250210T153740Z
UID:10001298-1819909800-1819913400@tipplesbrews.com
SUMMARY:Running Tabs Running Club
DESCRIPTION:
URL:https://tipplesbrews.com/event/running-tabs-running-club/2027-09-02/
END:VEVENT
BEGIN:VEVENT
DTSTART;TZID=America/New_York:20270907T170000
DTEND;TZID=America/New_York:20270907T200000
DTSTAMP:20260424T104039
CREATED:20250721T173928Z
LAST-MODIFIED:20251216T185026Z
UID:10001954-1820336400-1820347200@tipplesbrews.com
SUMMARY:WOW! Tipple's Wine of the Week Tasting!
DESCRIPTION:
URL:https://tipplesbrews.com/event/tipples-wine-of-the-week-tasting/2027-09-07/
ATTACH;FMTTYPE=image/png:https://tipplesbrews.com/wp-content/uploads/2024/03/Copy-of-Todays-Pourcast.png
END:VEVENT
BEGIN:VEVENT
DTSTART;TZID=America/New_York:20270909T183000
DTEND;TZID=America/New_York:20270909T193000
DTSTAMP:20260424T104039
CREATED:20250210T153740Z
LAST-MODIFIED:20250210T153740Z
UID:10001299-1820514600-1820518200@tipplesbrews.com
SUMMARY:Running Tabs Running Club
DESCRIPTION:
URL:https://tipplesbrews.com/event/running-tabs-running-club/2027-09-09/
END:VEVENT
BEGIN:VEVENT
DTSTART;TZID=America/New_York:20270914T170000
DTEND;TZID=America/New_York:20270914T200000
DTSTAMP:20260424T104039
CREATED:20250721T173928Z
LAST-MODIFIED:20251216T185026Z
UID:10001955-1820941200-1820952000@tipplesbrews.com
SUMMARY:WOW! Tipple's Wine of the Week Tasting!
DESCRIPTION:
URL:https://tipplesbrews.com/event/tipples-wine-of-the-week-tasting/2027-09-14/
ATTACH;FMTTYPE=image/png:https://tipplesbrews.com/wp-content/uploads/2024/03/Copy-of-Todays-Pourcast.png
END:VEVENT
BEGIN:VEVENT
DTSTART;TZID=America/New_York:20270916T183000
DTEND;TZID=America/New_York:20270916T193000
DTSTAMP:20260424T104039
CREATED:20250210T153740Z
LAST-MODIFIED:20250210T153740Z
UID:10001300-1821119400-1821123000@tipplesbrews.com
SUMMARY:Running Tabs Running Club
DESCRIPTION:
URL:https://tipplesbrews.com/event/running-tabs-running-club/2027-09-16/
END:VEVENT
BEGIN:VEVENT
DTSTART;TZID=America/New_York:20270921T170000
DTEND;TZID=America/New_York:20270921T200000
DTSTAMP:20260424T104039
CREATED:20250721T173928Z
LAST-MODIFIED:20251216T185026Z
UID:10001956-1821546000-1821556800@tipplesbrews.com
SUMMARY:WOW! Tipple's Wine of the Week Tasting!
DESCRIPTION:
URL:https://tipplesbrews.com/event/tipples-wine-of-the-week-tasting/2027-09-21/
ATTACH;FMTTYPE=image/png:https://tipplesbrews.com/wp-content/uploads/2024/03/Copy-of-Todays-Pourcast.png
END:VEVENT
BEGIN:VEVENT
DTSTART;TZID=America/New_York:20270923T183000
DTEND;TZID=America/New_York:20270923T193000
DTSTAMP:20260424T104039
CREATED:20250210T153740Z
LAST-MODIFIED:20250210T153740Z
UID:10001301-1821724200-1821727800@tipplesbrews.com
SUMMARY:Running Tabs Running Club
DESCRIPTION:
URL:https://tipplesbrews.com/event/running-tabs-running-club/2027-09-23/
END:VEVENT
BEGIN:VEVENT
DTSTART;TZID=America/New_York:20270928T170000
DTEND;TZID=America/New_York:20270928T200000
DTSTAMP:20260424T104039
CREATED:20250721T173928Z
LAST-MODIFIED:20251216T185026Z
UID:10001957-1822150800-1822161600@tipplesbrews.com
SUMMARY:WOW! Tipple's Wine of the Week Tasting!
DESCRIPTION:
URL:https://tipplesbrews.com/event/tipples-wine-of-the-week-tasting/2027-09-28/
ATTACH;FMTTYPE=image/png:https://tipplesbrews.com/wp-content/uploads/2024/03/Copy-of-Todays-Pourcast.png
END:VEVENT
BEGIN:VEVENT
DTSTART;TZID=America/New_York:20270930T183000
DTEND;TZID=America/New_York:20270930T193000
DTSTAMP:20260424T104039
CREATED:20250210T153740Z
LAST-MODIFIED:20250210T153740Z
UID:10001302-1822329000-1822332600@tipplesbrews.com
SUMMARY:Running Tabs Running Club
DESCRIPTION:
URL:https://tipplesbrews.com/event/running-tabs-running-club/2027-09-30/
END:VEVENT
BEGIN:VEVENT
DTSTART;TZID=America/New_York:20271005T170000
DTEND;TZID=America/New_York:20271005T200000
DTSTAMP:20260424T104039
CREATED:20250721T173928Z
LAST-MODIFIED:20251216T185026Z
UID:10001958-1822755600-1822766400@tipplesbrews.com
SUMMARY:WOW! Tipple's Wine of the Week Tasting!
DESCRIPTION:
URL:https://tipplesbrews.com/event/tipples-wine-of-the-week-tasting/2027-10-05/
ATTACH;FMTTYPE=image/png:https://tipplesbrews.com/wp-content/uploads/2024/03/Copy-of-Todays-Pourcast.png
END:VEVENT
BEGIN:VEVENT
DTSTART;TZID=America/New_York:20271007T183000
DTEND;TZID=America/New_York:20271007T193000
DTSTAMP:20260424T104039
CREATED:20250210T153740Z
LAST-MODIFIED:20250210T153740Z
UID:10001303-1822933800-1822937400@tipplesbrews.com
SUMMARY:Running Tabs Running Club
DESCRIPTION:
URL:https://tipplesbrews.com/event/running-tabs-running-club/2027-10-07/
END:VEVENT
BEGIN:VEVENT
DTSTART;TZID=America/New_York:20271012T170000
DTEND;TZID=America/New_York:20271012T200000
DTSTAMP:20260424T104039
CREATED:20250721T173928Z
LAST-MODIFIED:20251216T185026Z
UID:10001959-1823360400-1823371200@tipplesbrews.com
SUMMARY:WOW! Tipple's Wine of the Week Tasting!
DESCRIPTION:
URL:https://tipplesbrews.com/event/tipples-wine-of-the-week-tasting/2027-10-12/
ATTACH;FMTTYPE=image/png:https://tipplesbrews.com/wp-content/uploads/2024/03/Copy-of-Todays-Pourcast.png
END:VEVENT
BEGIN:VEVENT
DTSTART;TZID=America/New_York:20271014T183000
DTEND;TZID=America/New_York:20271014T193000
DTSTAMP:20260424T104039
CREATED:20250210T153740Z
LAST-MODIFIED:20250210T153740Z
UID:10001304-1823538600-1823542200@tipplesbrews.com
SUMMARY:Running Tabs Running Club
DESCRIPTION:
URL:https://tipplesbrews.com/event/running-tabs-running-club/2027-10-14/
END:VEVENT
BEGIN:VEVENT
DTSTART;TZID=America/New_York:20271019T170000
DTEND;TZID=America/New_York:20271019T200000
DTSTAMP:20260424T104039
CREATED:20250721T173928Z
LAST-MODIFIED:20251216T185026Z
UID:10001960-1823965200-1823976000@tipplesbrews.com
SUMMARY:WOW! Tipple's Wine of the Week Tasting!
DESCRIPTION:
URL:https://tipplesbrews.com/event/tipples-wine-of-the-week-tasting/2027-10-19/
ATTACH;FMTTYPE=image/png:https://tipplesbrews.com/wp-content/uploads/2024/03/Copy-of-Todays-Pourcast.png
END:VEVENT
BEGIN:VEVENT
DTSTART;TZID=America/New_York:20271021T183000
DTEND;TZID=America/New_York:20271021T193000
DTSTAMP:20260424T104039
CREATED:20250210T153740Z
LAST-MODIFIED:20250210T153740Z
UID:10001305-1824143400-1824147000@tipplesbrews.com
SUMMARY:Running Tabs Running Club
DESCRIPTION:
URL:https://tipplesbrews.com/event/running-tabs-running-club/2027-10-21/
END:VEVENT
BEGIN:VEVENT
DTSTART;TZID=America/New_York:20271026T170000
DTEND;TZID=America/New_York:20271026T200000
DTSTAMP:20260424T104039
CREATED:20250721T173928Z
LAST-MODIFIED:20251216T185026Z
UID:10001961-1824570000-1824580800@tipplesbrews.com
SUMMARY:WOW! Tipple's Wine of the Week Tasting!
DESCRIPTION:
URL:https://tipplesbrews.com/event/tipples-wine-of-the-week-tasting/2027-10-26/
ATTACH;FMTTYPE=image/png:https://tipplesbrews.com/wp-content/uploads/2024/03/Copy-of-Todays-Pourcast.png
END:VEVENT
BEGIN:VEVENT
DTSTART;TZID=America/New_York:20271028T183000
DTEND;TZID=America/New_York:20271028T193000
DTSTAMP:20260424T104039
CREATED:20250210T153740Z
LAST-MODIFIED:20250210T153740Z
UID:10001306-1824748200-1824751800@tipplesbrews.com
SUMMARY:Running Tabs Running Club
DESCRIPTION:
URL:https://tipplesbrews.com/event/running-tabs-running-club/2027-10-28/
END:VEVENT
BEGIN:VEVENT
DTSTART;TZID=America/New_York:20271102T170000
DTEND;TZID=America/New_York:20271102T200000
DTSTAMP:20260424T104039
CREATED:20250721T173928Z
LAST-MODIFIED:20251216T185026Z
UID:10001962-1825174800-1825185600@tipplesbrews.com
SUMMARY:WOW! Tipple's Wine of the Week Tasting!
DESCRIPTION:
URL:https://tipplesbrews.com/event/tipples-wine-of-the-week-tasting/2027-11-02/
ATTACH;FMTTYPE=image/png:https://tipplesbrews.com/wp-content/uploads/2024/03/Copy-of-Todays-Pourcast.png
END:VEVENT
BEGIN:VEVENT
DTSTART;TZID=America/New_York:20271104T183000
DTEND;TZID=America/New_York:20271104T193000
DTSTAMP:20260424T104039
CREATED:20250210T153740Z
LAST-MODIFIED:20250210T153740Z
UID:10001307-1825353000-1825356600@tipplesbrews.com
SUMMARY:Running Tabs Running Club
DESCRIPTION:
URL:https://tipplesbrews.com/event/running-tabs-running-club/2027-11-04/
END:VEVENT
BEGIN:VEVENT
DTSTART;TZID=America/New_York:20271109T170000
DTEND;TZID=America/New_York:20271109T200000
DTSTAMP:20260424T104039
CREATED:20250721T173928Z
LAST-MODIFIED:20251216T185026Z
UID:10001963-1825779600-1825790400@tipplesbrews.com
SUMMARY:WOW! Tipple's Wine of the Week Tasting!
DESCRIPTION:
URL:https://tipplesbrews.com/event/tipples-wine-of-the-week-tasting/2027-11-09/
ATTACH;FMTTYPE=image/png:https://tipplesbrews.com/wp-content/uploads/2024/03/Copy-of-Todays-Pourcast.png
END:VEVENT
BEGIN:VEVENT
DTSTART;TZID=America/New_York:20271111T183000
DTEND;TZID=America/New_York:20271111T193000
DTSTAMP:20260424T104039
CREATED:20250210T153740Z
LAST-MODIFIED:20250210T153740Z
UID:10001308-1825957800-1825961400@tipplesbrews.com
SUMMARY:Running Tabs Running Club
DESCRIPTION:
URL:https://tipplesbrews.com/event/running-tabs-running-club/2027-11-11/
END:VEVENT
BEGIN:VEVENT
DTSTART;TZID=America/New_York:20271116T170000
DTEND;TZID=America/New_York:20271116T200000
DTSTAMP:20260424T104039
CREATED:20250721T173928Z
LAST-MODIFIED:20251216T185026Z
UID:10001964-1826384400-1826395200@tipplesbrews.com
SUMMARY:WOW! Tipple's Wine of the Week Tasting!
DESCRIPTION:
URL:https://tipplesbrews.com/event/tipples-wine-of-the-week-tasting/2027-11-16/
ATTACH;FMTTYPE=image/png:https://tipplesbrews.com/wp-content/uploads/2024/03/Copy-of-Todays-Pourcast.png
END:VEVENT
BEGIN:VEVENT
DTSTART;TZID=America/New_York:20271118T183000
DTEND;TZID=America/New_York:20271118T193000
DTSTAMP:20260424T104039
CREATED:20250210T153740Z
LAST-MODIFIED:20250210T153740Z
UID:10001309-1826562600-1826566200@tipplesbrews.com
SUMMARY:Running Tabs Running Club
DESCRIPTION:
URL:https://tipplesbrews.com/event/running-tabs-running-club/2027-11-18/
END:VEVENT
BEGIN:VEVENT
DTSTART;TZID=America/New_York:20271123T170000
DTEND;TZID=America/New_York:20271123T200000
DTSTAMP:20260424T104039
CREATED:20250721T173928Z
LAST-MODIFIED:20251216T185026Z
UID:10001965-1826989200-1827000000@tipplesbrews.com
SUMMARY:WOW! Tipple's Wine of the Week Tasting!
DESCRIPTION:
URL:https://tipplesbrews.com/event/tipples-wine-of-the-week-tasting/2027-11-23/
ATTACH;FMTTYPE=image/png:https://tipplesbrews.com/wp-content/uploads/2024/03/Copy-of-Todays-Pourcast.png
END:VEVENT
BEGIN:VEVENT
DTSTART;TZID=America/New_York:20271125T183000
DTEND;TZID=America/New_York:20271125T193000
DTSTAMP:20260424T104039
CREATED:20250210T153740Z
LAST-MODIFIED:20250210T153740Z
UID:10001310-1827167400-1827171000@tipplesbrews.com
SUMMARY:Running Tabs Running Club
DESCRIPTION:
URL:https://tipplesbrews.com/event/running-tabs-running-club/2027-11-25/
END:VEVENT
BEGIN:VEVENT
DTSTART;TZID=America/New_York:20271130T170000
DTEND;TZID=America/New_York:20271130T200000
DTSTAMP:20260424T104039
CREATED:20250721T173928Z
LAST-MODIFIED:20251216T185026Z
UID:10001966-1827594000-1827604800@tipplesbrews.com
SUMMARY:WOW! Tipple's Wine of the Week Tasting!
DESCRIPTION:
URL:https://tipplesbrews.com/event/tipples-wine-of-the-week-tasting/2027-11-30/
ATTACH;FMTTYPE=image/png:https://tipplesbrews.com/wp-content/uploads/2024/03/Copy-of-Todays-Pourcast.png
END:VEVENT
END:VCALENDAR