BEGIN:VCALENDAR
VERSION:2.0
PRODID:-//Tipples Brews and Wine - ECPv6.15.20//NONSGML v1.0//EN
CALSCALE:GREGORIAN
METHOD:PUBLISH
X-ORIGINAL-URL:https://tipplesbrews.com
X-WR-CALDESC:Events for Tipples Brews and Wine
REFRESH-INTERVAL;VALUE=DURATION:PT1H
X-Robots-Tag:noindex
X-PUBLISHED-TTL:PT1H
BEGIN:VTIMEZONE
TZID:America/New_York
BEGIN:DAYLIGHT
TZOFFSETFROM:-0500
TZOFFSETTO:-0400
TZNAME:EDT
DTSTART:20250309T070000
END:DAYLIGHT
BEGIN:STANDARD
TZOFFSETFROM:-0400
TZOFFSETTO:-0500
TZNAME:EST
DTSTART:20251102T060000
END:STANDARD
BEGIN:DAYLIGHT
TZOFFSETFROM:-0500
TZOFFSETTO:-0400
TZNAME:EDT
DTSTART:20260308T070000
END:DAYLIGHT
BEGIN:STANDARD
TZOFFSETFROM:-0400
TZOFFSETTO:-0500
TZNAME:EST
DTSTART:20261101T060000
END:STANDARD
BEGIN:DAYLIGHT
TZOFFSETFROM:-0500
TZOFFSETTO:-0400
TZNAME:EDT
DTSTART:20270314T070000
END:DAYLIGHT
BEGIN:STANDARD
TZOFFSETFROM:-0400
TZOFFSETTO:-0500
TZNAME:EST
DTSTART:20271107T060000
END:STANDARD
BEGIN:DAYLIGHT
TZOFFSETFROM:-0500
TZOFFSETTO:-0400
TZNAME:EDT
DTSTART:20280312T070000
END:DAYLIGHT
BEGIN:STANDARD
TZOFFSETFROM:-0400
TZOFFSETTO:-0500
TZNAME:EST
DTSTART:20281105T060000
END:STANDARD
END:VTIMEZONE
BEGIN:VEVENT
DTSTART;TZID=America/New_York:20261231T183000
DTEND;TZID=America/New_York:20261231T193000
DTSTAMP:20260423T200412
CREATED:20250210T153740Z
LAST-MODIFIED:20250210T153740Z
UID:10001263-1798741800-1798745400@tipplesbrews.com
SUMMARY:Running Tabs Running Club
DESCRIPTION:
URL:https://tipplesbrews.com/event/running-tabs-running-club/2026-12-31/
END:VEVENT
BEGIN:VEVENT
DTSTART;TZID=America/New_York:20270105T170000
DTEND;TZID=America/New_York:20270105T200000
DTSTAMP:20260423T200412
CREATED:20250721T173928Z
LAST-MODIFIED:20251216T185026Z
UID:10001919-1799168400-1799179200@tipplesbrews.com
SUMMARY:WOW! Tipple's Wine of the Week Tasting!
DESCRIPTION:
URL:https://tipplesbrews.com/event/tipples-wine-of-the-week-tasting/2027-01-05/
ATTACH;FMTTYPE=image/png:https://tipplesbrews.com/wp-content/uploads/2024/03/Copy-of-Todays-Pourcast.png
END:VEVENT
BEGIN:VEVENT
DTSTART;TZID=America/New_York:20270107T183000
DTEND;TZID=America/New_York:20270107T193000
DTSTAMP:20260423T200412
CREATED:20250210T153740Z
LAST-MODIFIED:20250210T153740Z
UID:10001264-1799346600-1799350200@tipplesbrews.com
SUMMARY:Running Tabs Running Club
DESCRIPTION:
URL:https://tipplesbrews.com/event/running-tabs-running-club/2027-01-07/
END:VEVENT
BEGIN:VEVENT
DTSTART;TZID=America/New_York:20270112T170000
DTEND;TZID=America/New_York:20270112T200000
DTSTAMP:20260423T200412
CREATED:20250721T173928Z
LAST-MODIFIED:20251216T185026Z
UID:10001920-1799773200-1799784000@tipplesbrews.com
SUMMARY:WOW! Tipple's Wine of the Week Tasting!
DESCRIPTION:
URL:https://tipplesbrews.com/event/tipples-wine-of-the-week-tasting/2027-01-12/
ATTACH;FMTTYPE=image/png:https://tipplesbrews.com/wp-content/uploads/2024/03/Copy-of-Todays-Pourcast.png
END:VEVENT
BEGIN:VEVENT
DTSTART;TZID=America/New_York:20270114T183000
DTEND;TZID=America/New_York:20270114T193000
DTSTAMP:20260423T200412
CREATED:20250210T153740Z
LAST-MODIFIED:20250210T153740Z
UID:10001265-1799951400-1799955000@tipplesbrews.com
SUMMARY:Running Tabs Running Club
DESCRIPTION:
URL:https://tipplesbrews.com/event/running-tabs-running-club/2027-01-14/
END:VEVENT
BEGIN:VEVENT
DTSTART;TZID=America/New_York:20270119T170000
DTEND;TZID=America/New_York:20270119T200000
DTSTAMP:20260423T200412
CREATED:20250721T173928Z
LAST-MODIFIED:20251216T185026Z
UID:10001921-1800378000-1800388800@tipplesbrews.com
SUMMARY:WOW! Tipple's Wine of the Week Tasting!
DESCRIPTION:
URL:https://tipplesbrews.com/event/tipples-wine-of-the-week-tasting/2027-01-19/
ATTACH;FMTTYPE=image/png:https://tipplesbrews.com/wp-content/uploads/2024/03/Copy-of-Todays-Pourcast.png
END:VEVENT
BEGIN:VEVENT
DTSTART;TZID=America/New_York:20270121T183000
DTEND;TZID=America/New_York:20270121T193000
DTSTAMP:20260423T200412
CREATED:20250210T153740Z
LAST-MODIFIED:20250210T153740Z
UID:10001266-1800556200-1800559800@tipplesbrews.com
SUMMARY:Running Tabs Running Club
DESCRIPTION:
URL:https://tipplesbrews.com/event/running-tabs-running-club/2027-01-21/
END:VEVENT
BEGIN:VEVENT
DTSTART;TZID=America/New_York:20270126T170000
DTEND;TZID=America/New_York:20270126T200000
DTSTAMP:20260423T200412
CREATED:20250721T173928Z
LAST-MODIFIED:20251216T185026Z
UID:10001922-1800982800-1800993600@tipplesbrews.com
SUMMARY:WOW! Tipple's Wine of the Week Tasting!
DESCRIPTION:
URL:https://tipplesbrews.com/event/tipples-wine-of-the-week-tasting/2027-01-26/
ATTACH;FMTTYPE=image/png:https://tipplesbrews.com/wp-content/uploads/2024/03/Copy-of-Todays-Pourcast.png
END:VEVENT
BEGIN:VEVENT
DTSTART;TZID=America/New_York:20270128T183000
DTEND;TZID=America/New_York:20270128T193000
DTSTAMP:20260423T200412
CREATED:20250210T153740Z
LAST-MODIFIED:20250210T153740Z
UID:10001267-1801161000-1801164600@tipplesbrews.com
SUMMARY:Running Tabs Running Club
DESCRIPTION:
URL:https://tipplesbrews.com/event/running-tabs-running-club/2027-01-28/
END:VEVENT
BEGIN:VEVENT
DTSTART;TZID=America/New_York:20270202T170000
DTEND;TZID=America/New_York:20270202T200000
DTSTAMP:20260423T200412
CREATED:20250721T173928Z
LAST-MODIFIED:20251216T185026Z
UID:10001923-1801587600-1801598400@tipplesbrews.com
SUMMARY:WOW! Tipple's Wine of the Week Tasting!
DESCRIPTION:
URL:https://tipplesbrews.com/event/tipples-wine-of-the-week-tasting/2027-02-02/
ATTACH;FMTTYPE=image/png:https://tipplesbrews.com/wp-content/uploads/2024/03/Copy-of-Todays-Pourcast.png
END:VEVENT
BEGIN:VEVENT
DTSTART;TZID=America/New_York:20270204T183000
DTEND;TZID=America/New_York:20270204T193000
DTSTAMP:20260423T200412
CREATED:20250210T153740Z
LAST-MODIFIED:20250210T153740Z
UID:10001268-1801765800-1801769400@tipplesbrews.com
SUMMARY:Running Tabs Running Club
DESCRIPTION:
URL:https://tipplesbrews.com/event/running-tabs-running-club/2027-02-04/
END:VEVENT
BEGIN:VEVENT
DTSTART;TZID=America/New_York:20270209T170000
DTEND;TZID=America/New_York:20270209T200000
DTSTAMP:20260423T200412
CREATED:20250721T173928Z
LAST-MODIFIED:20251216T185026Z
UID:10001924-1802192400-1802203200@tipplesbrews.com
SUMMARY:WOW! Tipple's Wine of the Week Tasting!
DESCRIPTION:
URL:https://tipplesbrews.com/event/tipples-wine-of-the-week-tasting/2027-02-09/
ATTACH;FMTTYPE=image/png:https://tipplesbrews.com/wp-content/uploads/2024/03/Copy-of-Todays-Pourcast.png
END:VEVENT
BEGIN:VEVENT
DTSTART;TZID=America/New_York:20270211T183000
DTEND;TZID=America/New_York:20270211T193000
DTSTAMP:20260423T200412
CREATED:20250210T153740Z
LAST-MODIFIED:20250210T153740Z
UID:10001269-1802370600-1802374200@tipplesbrews.com
SUMMARY:Running Tabs Running Club
DESCRIPTION:
URL:https://tipplesbrews.com/event/running-tabs-running-club/2027-02-11/
END:VEVENT
BEGIN:VEVENT
DTSTART;TZID=America/New_York:20270216T170000
DTEND;TZID=America/New_York:20270216T200000
DTSTAMP:20260423T200412
CREATED:20250721T173928Z
LAST-MODIFIED:20251216T185026Z
UID:10001925-1802797200-1802808000@tipplesbrews.com
SUMMARY:WOW! Tipple's Wine of the Week Tasting!
DESCRIPTION:
URL:https://tipplesbrews.com/event/tipples-wine-of-the-week-tasting/2027-02-16/
ATTACH;FMTTYPE=image/png:https://tipplesbrews.com/wp-content/uploads/2024/03/Copy-of-Todays-Pourcast.png
END:VEVENT
BEGIN:VEVENT
DTSTART;TZID=America/New_York:20270218T183000
DTEND;TZID=America/New_York:20270218T193000
DTSTAMP:20260423T200412
CREATED:20250210T153740Z
LAST-MODIFIED:20250210T153740Z
UID:10001270-1802975400-1802979000@tipplesbrews.com
SUMMARY:Running Tabs Running Club
DESCRIPTION:
URL:https://tipplesbrews.com/event/running-tabs-running-club/2027-02-18/
END:VEVENT
BEGIN:VEVENT
DTSTART;TZID=America/New_York:20270223T170000
DTEND;TZID=America/New_York:20270223T200000
DTSTAMP:20260423T200412
CREATED:20250721T173928Z
LAST-MODIFIED:20251216T185026Z
UID:10001926-1803402000-1803412800@tipplesbrews.com
SUMMARY:WOW! Tipple's Wine of the Week Tasting!
DESCRIPTION:
URL:https://tipplesbrews.com/event/tipples-wine-of-the-week-tasting/2027-02-23/
ATTACH;FMTTYPE=image/png:https://tipplesbrews.com/wp-content/uploads/2024/03/Copy-of-Todays-Pourcast.png
END:VEVENT
BEGIN:VEVENT
DTSTART;TZID=America/New_York:20270225T183000
DTEND;TZID=America/New_York:20270225T193000
DTSTAMP:20260423T200412
CREATED:20250210T153740Z
LAST-MODIFIED:20250210T153740Z
UID:10001271-1803580200-1803583800@tipplesbrews.com
SUMMARY:Running Tabs Running Club
DESCRIPTION:
URL:https://tipplesbrews.com/event/running-tabs-running-club/2027-02-25/
END:VEVENT
BEGIN:VEVENT
DTSTART;TZID=America/New_York:20270302T170000
DTEND;TZID=America/New_York:20270302T200000
DTSTAMP:20260423T200412
CREATED:20250721T173928Z
LAST-MODIFIED:20251216T185026Z
UID:10001927-1804006800-1804017600@tipplesbrews.com
SUMMARY:WOW! Tipple's Wine of the Week Tasting!
DESCRIPTION:
URL:https://tipplesbrews.com/event/tipples-wine-of-the-week-tasting/2027-03-02/
ATTACH;FMTTYPE=image/png:https://tipplesbrews.com/wp-content/uploads/2024/03/Copy-of-Todays-Pourcast.png
END:VEVENT
BEGIN:VEVENT
DTSTART;TZID=America/New_York:20270304T183000
DTEND;TZID=America/New_York:20270304T193000
DTSTAMP:20260423T200412
CREATED:20250210T153740Z
LAST-MODIFIED:20250210T153740Z
UID:10001272-1804185000-1804188600@tipplesbrews.com
SUMMARY:Running Tabs Running Club
DESCRIPTION:
URL:https://tipplesbrews.com/event/running-tabs-running-club/2027-03-04/
END:VEVENT
BEGIN:VEVENT
DTSTART;TZID=America/New_York:20270309T170000
DTEND;TZID=America/New_York:20270309T200000
DTSTAMP:20260423T200412
CREATED:20250721T173928Z
LAST-MODIFIED:20251216T185026Z
UID:10001928-1804611600-1804622400@tipplesbrews.com
SUMMARY:WOW! Tipple's Wine of the Week Tasting!
DESCRIPTION:
URL:https://tipplesbrews.com/event/tipples-wine-of-the-week-tasting/2027-03-09/
ATTACH;FMTTYPE=image/png:https://tipplesbrews.com/wp-content/uploads/2024/03/Copy-of-Todays-Pourcast.png
END:VEVENT
BEGIN:VEVENT
DTSTART;TZID=America/New_York:20270311T183000
DTEND;TZID=America/New_York:20270311T193000
DTSTAMP:20260423T200412
CREATED:20250210T153740Z
LAST-MODIFIED:20250210T153740Z
UID:10001273-1804789800-1804793400@tipplesbrews.com
SUMMARY:Running Tabs Running Club
DESCRIPTION:
URL:https://tipplesbrews.com/event/running-tabs-running-club/2027-03-11/
END:VEVENT
BEGIN:VEVENT
DTSTART;TZID=America/New_York:20270316T170000
DTEND;TZID=America/New_York:20270316T200000
DTSTAMP:20260423T200412
CREATED:20250721T173928Z
LAST-MODIFIED:20251216T185026Z
UID:10001929-1805216400-1805227200@tipplesbrews.com
SUMMARY:WOW! Tipple's Wine of the Week Tasting!
DESCRIPTION:
URL:https://tipplesbrews.com/event/tipples-wine-of-the-week-tasting/2027-03-16/
ATTACH;FMTTYPE=image/png:https://tipplesbrews.com/wp-content/uploads/2024/03/Copy-of-Todays-Pourcast.png
END:VEVENT
BEGIN:VEVENT
DTSTART;TZID=America/New_York:20270318T183000
DTEND;TZID=America/New_York:20270318T193000
DTSTAMP:20260423T200412
CREATED:20250210T153740Z
LAST-MODIFIED:20250210T153740Z
UID:10001274-1805394600-1805398200@tipplesbrews.com
SUMMARY:Running Tabs Running Club
DESCRIPTION:
URL:https://tipplesbrews.com/event/running-tabs-running-club/2027-03-18/
END:VEVENT
BEGIN:VEVENT
DTSTART;TZID=America/New_York:20270323T170000
DTEND;TZID=America/New_York:20270323T200000
DTSTAMP:20260423T200412
CREATED:20250721T173928Z
LAST-MODIFIED:20251216T185026Z
UID:10001930-1805821200-1805832000@tipplesbrews.com
SUMMARY:WOW! Tipple's Wine of the Week Tasting!
DESCRIPTION:
URL:https://tipplesbrews.com/event/tipples-wine-of-the-week-tasting/2027-03-23/
ATTACH;FMTTYPE=image/png:https://tipplesbrews.com/wp-content/uploads/2024/03/Copy-of-Todays-Pourcast.png
END:VEVENT
BEGIN:VEVENT
DTSTART;TZID=America/New_York:20270325T183000
DTEND;TZID=America/New_York:20270325T193000
DTSTAMP:20260423T200412
CREATED:20250210T153740Z
LAST-MODIFIED:20250210T153740Z
UID:10001275-1805999400-1806003000@tipplesbrews.com
SUMMARY:Running Tabs Running Club
DESCRIPTION:
URL:https://tipplesbrews.com/event/running-tabs-running-club/2027-03-25/
END:VEVENT
BEGIN:VEVENT
DTSTART;TZID=America/New_York:20270330T170000
DTEND;TZID=America/New_York:20270330T200000
DTSTAMP:20260423T200412
CREATED:20250721T173928Z
LAST-MODIFIED:20251216T185026Z
UID:10001931-1806426000-1806436800@tipplesbrews.com
SUMMARY:WOW! Tipple's Wine of the Week Tasting!
DESCRIPTION:
URL:https://tipplesbrews.com/event/tipples-wine-of-the-week-tasting/2027-03-30/
ATTACH;FMTTYPE=image/png:https://tipplesbrews.com/wp-content/uploads/2024/03/Copy-of-Todays-Pourcast.png
END:VEVENT
BEGIN:VEVENT
DTSTART;TZID=America/New_York:20270401T183000
DTEND;TZID=America/New_York:20270401T193000
DTSTAMP:20260423T200412
CREATED:20250210T153740Z
LAST-MODIFIED:20250210T153740Z
UID:10001276-1806604200-1806607800@tipplesbrews.com
SUMMARY:Running Tabs Running Club
DESCRIPTION:
URL:https://tipplesbrews.com/event/running-tabs-running-club/2027-04-01/
END:VEVENT
BEGIN:VEVENT
DTSTART;TZID=America/New_York:20270406T170000
DTEND;TZID=America/New_York:20270406T200000
DTSTAMP:20260423T200412
CREATED:20250721T173928Z
LAST-MODIFIED:20251216T185026Z
UID:10001932-1807030800-1807041600@tipplesbrews.com
SUMMARY:WOW! Tipple's Wine of the Week Tasting!
DESCRIPTION:
URL:https://tipplesbrews.com/event/tipples-wine-of-the-week-tasting/2027-04-06/
ATTACH;FMTTYPE=image/png:https://tipplesbrews.com/wp-content/uploads/2024/03/Copy-of-Todays-Pourcast.png
END:VEVENT
BEGIN:VEVENT
DTSTART;TZID=America/New_York:20270408T183000
DTEND;TZID=America/New_York:20270408T193000
DTSTAMP:20260423T200412
CREATED:20250210T153740Z
LAST-MODIFIED:20250210T153740Z
UID:10001277-1807209000-1807212600@tipplesbrews.com
SUMMARY:Running Tabs Running Club
DESCRIPTION:
URL:https://tipplesbrews.com/event/running-tabs-running-club/2027-04-08/
END:VEVENT
BEGIN:VEVENT
DTSTART;TZID=America/New_York:20270413T170000
DTEND;TZID=America/New_York:20270413T200000
DTSTAMP:20260423T200412
CREATED:20250721T173928Z
LAST-MODIFIED:20251216T185026Z
UID:10001933-1807635600-1807646400@tipplesbrews.com
SUMMARY:WOW! Tipple's Wine of the Week Tasting!
DESCRIPTION:
URL:https://tipplesbrews.com/event/tipples-wine-of-the-week-tasting/2027-04-13/
ATTACH;FMTTYPE=image/png:https://tipplesbrews.com/wp-content/uploads/2024/03/Copy-of-Todays-Pourcast.png
END:VEVENT
END:VCALENDAR