BEGIN:VCALENDAR
VERSION:2.0
PRODID:-//Tipples Brews and Wine - ECPv6.15.20//NONSGML v1.0//EN
CALSCALE:GREGORIAN
METHOD:PUBLISH
X-ORIGINAL-URL:https://tipplesbrews.com
X-WR-CALDESC:Events for Tipples Brews and Wine
REFRESH-INTERVAL;VALUE=DURATION:PT1H
X-Robots-Tag:noindex
X-PUBLISHED-TTL:PT1H
BEGIN:VTIMEZONE
TZID:America/New_York
BEGIN:DAYLIGHT
TZOFFSETFROM:-0500
TZOFFSETTO:-0400
TZNAME:EDT
DTSTART:20240310T070000
END:DAYLIGHT
BEGIN:STANDARD
TZOFFSETFROM:-0400
TZOFFSETTO:-0500
TZNAME:EST
DTSTART:20241103T060000
END:STANDARD
BEGIN:DAYLIGHT
TZOFFSETFROM:-0500
TZOFFSETTO:-0400
TZNAME:EDT
DTSTART:20250309T070000
END:DAYLIGHT
BEGIN:STANDARD
TZOFFSETFROM:-0400
TZOFFSETTO:-0500
TZNAME:EST
DTSTART:20251102T060000
END:STANDARD
BEGIN:DAYLIGHT
TZOFFSETFROM:-0500
TZOFFSETTO:-0400
TZNAME:EDT
DTSTART:20260308T070000
END:DAYLIGHT
BEGIN:STANDARD
TZOFFSETFROM:-0400
TZOFFSETTO:-0500
TZNAME:EST
DTSTART:20261101T060000
END:STANDARD
END:VTIMEZONE
BEGIN:VEVENT
DTSTART;TZID=America/New_York:20250605T183000
DTEND;TZID=America/New_York:20250605T193000
DTSTAMP:20260424T001036
CREATED:20250210T153740Z
LAST-MODIFIED:20250210T153740Z
UID:10001181-1749148200-1749151800@tipplesbrews.com
SUMMARY:Running Tabs Running Club
DESCRIPTION:
URL:https://tipplesbrews.com/event/running-tabs-running-club/2025-06-05/
END:VEVENT
BEGIN:VEVENT
DTSTART;TZID=America/New_York:20250612T183000
DTEND;TZID=America/New_York:20250612T193000
DTSTAMP:20260424T001036
CREATED:20250210T153740Z
LAST-MODIFIED:20250210T153740Z
UID:10001182-1749753000-1749756600@tipplesbrews.com
SUMMARY:Running Tabs Running Club
DESCRIPTION:
URL:https://tipplesbrews.com/event/running-tabs-running-club/2025-06-12/
END:VEVENT
BEGIN:VEVENT
DTSTART;TZID=America/New_York:20250619T183000
DTEND;TZID=America/New_York:20250619T193000
DTSTAMP:20260424T001036
CREATED:20250210T153740Z
LAST-MODIFIED:20250210T153740Z
UID:10001183-1750357800-1750361400@tipplesbrews.com
SUMMARY:Running Tabs Running Club
DESCRIPTION:
URL:https://tipplesbrews.com/event/running-tabs-running-club/2025-06-19/
END:VEVENT
BEGIN:VEVENT
DTSTART;TZID=America/New_York:20250621T160000
DTEND;TZID=America/New_York:20250621T203000
DTSTAMP:20260424T001036
CREATED:20250609T175206Z
LAST-MODIFIED:20251216T184513Z
UID:10001577-1750521600-1750537800@tipplesbrews.com
SUMMARY:Food Truck - 352 Munchies
DESCRIPTION:
URL:https://tipplesbrews.com/event/352-munchies-2/
ATTACH;FMTTYPE=image/jpeg:https://tipplesbrews.com/wp-content/uploads/2024/05/352-e1716650159484.jpg
END:VEVENT
BEGIN:VEVENT
DTSTART;TZID=America/New_York:20250626T183000
DTEND;TZID=America/New_York:20250626T193000
DTSTAMP:20260424T001036
CREATED:20250210T153740Z
LAST-MODIFIED:20250210T153740Z
UID:10001184-1750962600-1750966200@tipplesbrews.com
SUMMARY:Running Tabs Running Club
DESCRIPTION:
URL:https://tipplesbrews.com/event/running-tabs-running-club/2025-06-26/
END:VEVENT
END:VCALENDAR