BEGIN:VCALENDAR
VERSION:2.0
PRODID:-//Tipples Brews and Wine - ECPv6.15.20//NONSGML v1.0//EN
CALSCALE:GREGORIAN
METHOD:PUBLISH
X-WR-CALNAME:Tipples Brews and Wine
X-ORIGINAL-URL:https://tipplesbrews.com
X-WR-CALDESC:Events for Tipples Brews and Wine
REFRESH-INTERVAL;VALUE=DURATION:PT1H
X-Robots-Tag:noindex
X-PUBLISHED-TTL:PT1H
BEGIN:VTIMEZONE
TZID:America/New_York
BEGIN:DAYLIGHT
TZOFFSETFROM:-0500
TZOFFSETTO:-0400
TZNAME:EDT
DTSTART:20250309T070000
END:DAYLIGHT
BEGIN:STANDARD
TZOFFSETFROM:-0400
TZOFFSETTO:-0500
TZNAME:EST
DTSTART:20251102T060000
END:STANDARD
BEGIN:DAYLIGHT
TZOFFSETFROM:-0500
TZOFFSETTO:-0400
TZNAME:EDT
DTSTART:20260308T070000
END:DAYLIGHT
BEGIN:STANDARD
TZOFFSETFROM:-0400
TZOFFSETTO:-0500
TZNAME:EST
DTSTART:20261101T060000
END:STANDARD
BEGIN:DAYLIGHT
TZOFFSETFROM:-0500
TZOFFSETTO:-0400
TZNAME:EDT
DTSTART:20270314T070000
END:DAYLIGHT
BEGIN:STANDARD
TZOFFSETFROM:-0400
TZOFFSETTO:-0500
TZNAME:EST
DTSTART:20271107T060000
END:STANDARD
END:VTIMEZONE
BEGIN:VEVENT
DTSTART;TZID=America/New_York:20260101T183000
DTEND;TZID=America/New_York:20260101T193000
DTSTAMP:20260423T143643
CREATED:20250210T153740Z
LAST-MODIFIED:20250210T153740Z
UID:10001211-1767292200-1767295800@tipplesbrews.com
SUMMARY:Running Tabs Running Club
DESCRIPTION:
URL:https://tipplesbrews.com/event/running-tabs-running-club/2026-01-01/
END:VEVENT
BEGIN:VEVENT
DTSTART;TZID=America/New_York:20260106T170000
DTEND;TZID=America/New_York:20260106T200000
DTSTAMP:20260423T143643
CREATED:20250721T173928Z
LAST-MODIFIED:20251216T185026Z
UID:10001867-1767718800-1767729600@tipplesbrews.com
SUMMARY:WOW! Tipple's Wine of the Week Tasting!
DESCRIPTION:
URL:https://tipplesbrews.com/event/tipples-wine-of-the-week-tasting/2026-01-06/
ATTACH;FMTTYPE=image/png:https://tipplesbrews.com/wp-content/uploads/2024/03/Copy-of-Todays-Pourcast.png
END:VEVENT
BEGIN:VEVENT
DTSTART;TZID=America/New_York:20260108T183000
DTEND;TZID=America/New_York:20260108T193000
DTSTAMP:20260423T143643
CREATED:20250210T153740Z
LAST-MODIFIED:20250210T153740Z
UID:10001212-1767897000-1767900600@tipplesbrews.com
SUMMARY:Running Tabs Running Club
DESCRIPTION:
URL:https://tipplesbrews.com/event/running-tabs-running-club/2026-01-08/
END:VEVENT
BEGIN:VEVENT
DTSTART;TZID=America/New_York:20260113T170000
DTEND;TZID=America/New_York:20260113T200000
DTSTAMP:20260423T143643
CREATED:20260112T204619Z
LAST-MODIFIED:20260112T204709Z
UID:10001868-1768323600-1768334400@tipplesbrews.com
SUMMARY:WOW! Tipple's Wine of the Week Tasting!
DESCRIPTION:
URL:https://tipplesbrews.com/event/wow-tipples-wine-of-the-week-tasting-4/
ATTACH;FMTTYPE=image/png:https://tipplesbrews.com/wp-content/uploads/2026/01/IG-WOW-Instagram-Post-45-9.png
END:VEVENT
BEGIN:VEVENT
DTSTART;TZID=America/New_York:20260115T183000
DTEND;TZID=America/New_York:20260115T193000
DTSTAMP:20260423T143643
CREATED:20250210T153740Z
LAST-MODIFIED:20250210T153740Z
UID:10001213-1768501800-1768505400@tipplesbrews.com
SUMMARY:Running Tabs Running Club
DESCRIPTION:
URL:https://tipplesbrews.com/event/running-tabs-running-club/2026-01-15/
END:VEVENT
BEGIN:VEVENT
DTSTART;TZID=America/New_York:20260120T170000
DTEND;TZID=America/New_York:20260120T200000
DTSTAMP:20260423T143643
CREATED:20260119T210355Z
LAST-MODIFIED:20260119T210433Z
UID:10001869-1768928400-1768939200@tipplesbrews.com
SUMMARY:WOW! Tipple's Wine of the Week Tasting!
DESCRIPTION:
URL:https://tipplesbrews.com/event/wow-tipples-wine-of-the-week-tasting-5/
ATTACH;FMTTYPE=image/png:https://tipplesbrews.com/wp-content/uploads/2026/01/IG-WOW-Instagram-Post-45.png
END:VEVENT
BEGIN:VEVENT
DTSTART;TZID=America/New_York:20260122T183000
DTEND;TZID=America/New_York:20260122T193000
DTSTAMP:20260423T143643
CREATED:20250210T153740Z
LAST-MODIFIED:20250210T153740Z
UID:10001214-1769106600-1769110200@tipplesbrews.com
SUMMARY:Running Tabs Running Club
DESCRIPTION:
URL:https://tipplesbrews.com/event/running-tabs-running-club/2026-01-22/
END:VEVENT
BEGIN:VEVENT
DTSTART;TZID=America/New_York:20260125T193000
DTEND;TZID=America/New_York:20260125T213000
DTSTAMP:20260423T143643
CREATED:20251216T192033Z
LAST-MODIFIED:20251216T192033Z
UID:10002176-1769369400-1769376600@tipplesbrews.com
SUMMARY:Tipple's Held in Reserve Wine Tasting
DESCRIPTION:
URL:https://tipplesbrews.com/event/tipples-held-in-reserve-wine-tasting/
ATTACH;FMTTYPE=image/png:https://tipplesbrews.com/wp-content/uploads/2025/12/ig-Held-in-Reserve-Wine-Tasting-2026-Instagram-Post-45.png
END:VEVENT
BEGIN:VEVENT
DTSTART;TZID=America/New_York:20260127T170000
DTEND;TZID=America/New_York:20260127T200000
DTSTAMP:20260423T143643
CREATED:20250721T173928Z
LAST-MODIFIED:20251216T185026Z
UID:10001870-1769533200-1769544000@tipplesbrews.com
SUMMARY:WOW! Tipple's Wine of the Week Tasting!
DESCRIPTION:
URL:https://tipplesbrews.com/event/tipples-wine-of-the-week-tasting/2026-01-27/
ATTACH;FMTTYPE=image/png:https://tipplesbrews.com/wp-content/uploads/2024/03/Copy-of-Todays-Pourcast.png
END:VEVENT
BEGIN:VEVENT
DTSTART;TZID=America/New_York:20260129T183000
DTEND;TZID=America/New_York:20260129T193000
DTSTAMP:20260423T143643
CREATED:20250210T153740Z
LAST-MODIFIED:20250210T153740Z
UID:10001215-1769711400-1769715000@tipplesbrews.com
SUMMARY:Running Tabs Running Club
DESCRIPTION:
URL:https://tipplesbrews.com/event/running-tabs-running-club/2026-01-29/
END:VEVENT
END:VCALENDAR