BEGIN:VCALENDAR
VERSION:2.0
PRODID:-//Tipples Brews and Wine - ECPv6.15.20//NONSGML v1.0//EN
CALSCALE:GREGORIAN
METHOD:PUBLISH
X-ORIGINAL-URL:https://tipplesbrews.com
X-WR-CALDESC:Events for Tipples Brews and Wine
REFRESH-INTERVAL;VALUE=DURATION:PT1H
X-Robots-Tag:noindex
X-PUBLISHED-TTL:PT1H
BEGIN:VTIMEZONE
TZID:America/New_York
BEGIN:DAYLIGHT
TZOFFSETFROM:-0500
TZOFFSETTO:-0400
TZNAME:EDT
DTSTART:20260308T070000
END:DAYLIGHT
BEGIN:STANDARD
TZOFFSETFROM:-0400
TZOFFSETTO:-0500
TZNAME:EST
DTSTART:20261101T060000
END:STANDARD
BEGIN:DAYLIGHT
TZOFFSETFROM:-0500
TZOFFSETTO:-0400
TZNAME:EDT
DTSTART:20270314T070000
END:DAYLIGHT
BEGIN:STANDARD
TZOFFSETFROM:-0400
TZOFFSETTO:-0500
TZNAME:EST
DTSTART:20271107T060000
END:STANDARD
BEGIN:DAYLIGHT
TZOFFSETFROM:-0500
TZOFFSETTO:-0400
TZNAME:EDT
DTSTART:20280312T070000
END:DAYLIGHT
BEGIN:STANDARD
TZOFFSETFROM:-0400
TZOFFSETTO:-0500
TZNAME:EST
DTSTART:20281105T060000
END:STANDARD
END:VTIMEZONE
BEGIN:VEVENT
DTSTART;TZID=America/New_York:20270601T170000
DTEND;TZID=America/New_York:20270601T200000
DTSTAMP:20260424T044142
CREATED:20250721T173928Z
LAST-MODIFIED:20251216T185026Z
UID:10001940-1811869200-1811880000@tipplesbrews.com
SUMMARY:WOW! Tipple's Wine of the Week Tasting!
DESCRIPTION:
URL:https://tipplesbrews.com/event/tipples-wine-of-the-week-tasting/2027-06-01/
ATTACH;FMTTYPE=image/png:https://tipplesbrews.com/wp-content/uploads/2024/03/Copy-of-Todays-Pourcast.png
END:VEVENT
BEGIN:VEVENT
DTSTART;TZID=America/New_York:20270603T183000
DTEND;TZID=America/New_York:20270603T193000
DTSTAMP:20260424T044142
CREATED:20250210T153740Z
LAST-MODIFIED:20250210T153740Z
UID:10001285-1812047400-1812051000@tipplesbrews.com
SUMMARY:Running Tabs Running Club
DESCRIPTION:
URL:https://tipplesbrews.com/event/running-tabs-running-club/2027-06-03/
END:VEVENT
BEGIN:VEVENT
DTSTART;TZID=America/New_York:20270608T170000
DTEND;TZID=America/New_York:20270608T200000
DTSTAMP:20260424T044142
CREATED:20250721T173928Z
LAST-MODIFIED:20251216T185026Z
UID:10001941-1812474000-1812484800@tipplesbrews.com
SUMMARY:WOW! Tipple's Wine of the Week Tasting!
DESCRIPTION:
URL:https://tipplesbrews.com/event/tipples-wine-of-the-week-tasting/2027-06-08/
ATTACH;FMTTYPE=image/png:https://tipplesbrews.com/wp-content/uploads/2024/03/Copy-of-Todays-Pourcast.png
END:VEVENT
BEGIN:VEVENT
DTSTART;TZID=America/New_York:20270610T183000
DTEND;TZID=America/New_York:20270610T193000
DTSTAMP:20260424T044142
CREATED:20250210T153740Z
LAST-MODIFIED:20250210T153740Z
UID:10001286-1812652200-1812655800@tipplesbrews.com
SUMMARY:Running Tabs Running Club
DESCRIPTION:
URL:https://tipplesbrews.com/event/running-tabs-running-club/2027-06-10/
END:VEVENT
BEGIN:VEVENT
DTSTART;TZID=America/New_York:20270615T170000
DTEND;TZID=America/New_York:20270615T200000
DTSTAMP:20260424T044142
CREATED:20250721T173928Z
LAST-MODIFIED:20251216T185026Z
UID:10001942-1813078800-1813089600@tipplesbrews.com
SUMMARY:WOW! Tipple's Wine of the Week Tasting!
DESCRIPTION:
URL:https://tipplesbrews.com/event/tipples-wine-of-the-week-tasting/2027-06-15/
ATTACH;FMTTYPE=image/png:https://tipplesbrews.com/wp-content/uploads/2024/03/Copy-of-Todays-Pourcast.png
END:VEVENT
BEGIN:VEVENT
DTSTART;TZID=America/New_York:20270617T183000
DTEND;TZID=America/New_York:20270617T193000
DTSTAMP:20260424T044142
CREATED:20250210T153740Z
LAST-MODIFIED:20250210T153740Z
UID:10001287-1813257000-1813260600@tipplesbrews.com
SUMMARY:Running Tabs Running Club
DESCRIPTION:
URL:https://tipplesbrews.com/event/running-tabs-running-club/2027-06-17/
END:VEVENT
BEGIN:VEVENT
DTSTART;TZID=America/New_York:20270622T170000
DTEND;TZID=America/New_York:20270622T200000
DTSTAMP:20260424T044142
CREATED:20250721T173928Z
LAST-MODIFIED:20251216T185026Z
UID:10001943-1813683600-1813694400@tipplesbrews.com
SUMMARY:WOW! Tipple's Wine of the Week Tasting!
DESCRIPTION:
URL:https://tipplesbrews.com/event/tipples-wine-of-the-week-tasting/2027-06-22/
ATTACH;FMTTYPE=image/png:https://tipplesbrews.com/wp-content/uploads/2024/03/Copy-of-Todays-Pourcast.png
END:VEVENT
BEGIN:VEVENT
DTSTART;TZID=America/New_York:20270624T183000
DTEND;TZID=America/New_York:20270624T193000
DTSTAMP:20260424T044142
CREATED:20250210T153740Z
LAST-MODIFIED:20250210T153740Z
UID:10001288-1813861800-1813865400@tipplesbrews.com
SUMMARY:Running Tabs Running Club
DESCRIPTION:
URL:https://tipplesbrews.com/event/running-tabs-running-club/2027-06-24/
END:VEVENT
BEGIN:VEVENT
DTSTART;TZID=America/New_York:20270629T170000
DTEND;TZID=America/New_York:20270629T200000
DTSTAMP:20260424T044142
CREATED:20250721T173928Z
LAST-MODIFIED:20251216T185026Z
UID:10001944-1814288400-1814299200@tipplesbrews.com
SUMMARY:WOW! Tipple's Wine of the Week Tasting!
DESCRIPTION:
URL:https://tipplesbrews.com/event/tipples-wine-of-the-week-tasting/2027-06-29/
ATTACH;FMTTYPE=image/png:https://tipplesbrews.com/wp-content/uploads/2024/03/Copy-of-Todays-Pourcast.png
END:VEVENT
END:VCALENDAR