BEGIN:VCALENDAR
VERSION:2.0
PRODID:-//Tipples Brews and Wine - ECPv6.15.20//NONSGML v1.0//EN
CALSCALE:GREGORIAN
METHOD:PUBLISH
X-ORIGINAL-URL:https://tipplesbrews.com
X-WR-CALDESC:Events for Tipples Brews and Wine
REFRESH-INTERVAL;VALUE=DURATION:PT1H
X-Robots-Tag:noindex
X-PUBLISHED-TTL:PT1H
BEGIN:VTIMEZONE
TZID:America/New_York
BEGIN:DAYLIGHT
TZOFFSETFROM:-0500
TZOFFSETTO:-0400
TZNAME:EDT
DTSTART:20260308T070000
END:DAYLIGHT
BEGIN:STANDARD
TZOFFSETFROM:-0400
TZOFFSETTO:-0500
TZNAME:EST
DTSTART:20261101T060000
END:STANDARD
BEGIN:DAYLIGHT
TZOFFSETFROM:-0500
TZOFFSETTO:-0400
TZNAME:EDT
DTSTART:20270314T070000
END:DAYLIGHT
BEGIN:STANDARD
TZOFFSETFROM:-0400
TZOFFSETTO:-0500
TZNAME:EST
DTSTART:20271107T060000
END:STANDARD
BEGIN:DAYLIGHT
TZOFFSETFROM:-0500
TZOFFSETTO:-0400
TZNAME:EDT
DTSTART:20280312T070000
END:DAYLIGHT
BEGIN:STANDARD
TZOFFSETFROM:-0400
TZOFFSETTO:-0500
TZNAME:EST
DTSTART:20281105T060000
END:STANDARD
END:VTIMEZONE
BEGIN:VEVENT
DTSTART;TZID=America/New_York:20270803T170000
DTEND;TZID=America/New_York:20270803T200000
DTSTAMP:20260424T073424
CREATED:20250721T173928Z
LAST-MODIFIED:20251216T185026Z
UID:10001949-1817312400-1817323200@tipplesbrews.com
SUMMARY:WOW! Tipple's Wine of the Week Tasting!
DESCRIPTION:
URL:https://tipplesbrews.com/event/tipples-wine-of-the-week-tasting/2027-08-03/
ATTACH;FMTTYPE=image/png:https://tipplesbrews.com/wp-content/uploads/2024/03/Copy-of-Todays-Pourcast.png
END:VEVENT
BEGIN:VEVENT
DTSTART;TZID=America/New_York:20270805T183000
DTEND;TZID=America/New_York:20270805T193000
DTSTAMP:20260424T073424
CREATED:20250210T153740Z
LAST-MODIFIED:20250210T153740Z
UID:10001294-1817490600-1817494200@tipplesbrews.com
SUMMARY:Running Tabs Running Club
DESCRIPTION:
URL:https://tipplesbrews.com/event/running-tabs-running-club/2027-08-05/
END:VEVENT
BEGIN:VEVENT
DTSTART;TZID=America/New_York:20270810T170000
DTEND;TZID=America/New_York:20270810T200000
DTSTAMP:20260424T073424
CREATED:20250721T173928Z
LAST-MODIFIED:20251216T185026Z
UID:10001950-1817917200-1817928000@tipplesbrews.com
SUMMARY:WOW! Tipple's Wine of the Week Tasting!
DESCRIPTION:
URL:https://tipplesbrews.com/event/tipples-wine-of-the-week-tasting/2027-08-10/
ATTACH;FMTTYPE=image/png:https://tipplesbrews.com/wp-content/uploads/2024/03/Copy-of-Todays-Pourcast.png
END:VEVENT
BEGIN:VEVENT
DTSTART;TZID=America/New_York:20270812T183000
DTEND;TZID=America/New_York:20270812T193000
DTSTAMP:20260424T073424
CREATED:20250210T153740Z
LAST-MODIFIED:20250210T153740Z
UID:10001295-1818095400-1818099000@tipplesbrews.com
SUMMARY:Running Tabs Running Club
DESCRIPTION:
URL:https://tipplesbrews.com/event/running-tabs-running-club/2027-08-12/
END:VEVENT
BEGIN:VEVENT
DTSTART;TZID=America/New_York:20270817T170000
DTEND;TZID=America/New_York:20270817T200000
DTSTAMP:20260424T073424
CREATED:20250721T173928Z
LAST-MODIFIED:20251216T185026Z
UID:10001951-1818522000-1818532800@tipplesbrews.com
SUMMARY:WOW! Tipple's Wine of the Week Tasting!
DESCRIPTION:
URL:https://tipplesbrews.com/event/tipples-wine-of-the-week-tasting/2027-08-17/
ATTACH;FMTTYPE=image/png:https://tipplesbrews.com/wp-content/uploads/2024/03/Copy-of-Todays-Pourcast.png
END:VEVENT
BEGIN:VEVENT
DTSTART;TZID=America/New_York:20270819T183000
DTEND;TZID=America/New_York:20270819T193000
DTSTAMP:20260424T073424
CREATED:20250210T153740Z
LAST-MODIFIED:20250210T153740Z
UID:10001296-1818700200-1818703800@tipplesbrews.com
SUMMARY:Running Tabs Running Club
DESCRIPTION:
URL:https://tipplesbrews.com/event/running-tabs-running-club/2027-08-19/
END:VEVENT
BEGIN:VEVENT
DTSTART;TZID=America/New_York:20270824T170000
DTEND;TZID=America/New_York:20270824T200000
DTSTAMP:20260424T073424
CREATED:20250721T173928Z
LAST-MODIFIED:20251216T185026Z
UID:10001952-1819126800-1819137600@tipplesbrews.com
SUMMARY:WOW! Tipple's Wine of the Week Tasting!
DESCRIPTION:
URL:https://tipplesbrews.com/event/tipples-wine-of-the-week-tasting/2027-08-24/
ATTACH;FMTTYPE=image/png:https://tipplesbrews.com/wp-content/uploads/2024/03/Copy-of-Todays-Pourcast.png
END:VEVENT
BEGIN:VEVENT
DTSTART;TZID=America/New_York:20270826T183000
DTEND;TZID=America/New_York:20270826T193000
DTSTAMP:20260424T073424
CREATED:20250210T153740Z
LAST-MODIFIED:20250210T153740Z
UID:10001297-1819305000-1819308600@tipplesbrews.com
SUMMARY:Running Tabs Running Club
DESCRIPTION:
URL:https://tipplesbrews.com/event/running-tabs-running-club/2027-08-26/
END:VEVENT
BEGIN:VEVENT
DTSTART;TZID=America/New_York:20270831T170000
DTEND;TZID=America/New_York:20270831T200000
DTSTAMP:20260424T073424
CREATED:20250721T173928Z
LAST-MODIFIED:20251216T185026Z
UID:10001953-1819731600-1819742400@tipplesbrews.com
SUMMARY:WOW! Tipple's Wine of the Week Tasting!
DESCRIPTION:
URL:https://tipplesbrews.com/event/tipples-wine-of-the-week-tasting/2027-08-31/
ATTACH;FMTTYPE=image/png:https://tipplesbrews.com/wp-content/uploads/2024/03/Copy-of-Todays-Pourcast.png
END:VEVENT
END:VCALENDAR