BEGIN:VCALENDAR
VERSION:2.0
PRODID:-//Tipples Brews and Wine - ECPv6.15.20//NONSGML v1.0//EN
CALSCALE:GREGORIAN
METHOD:PUBLISH
X-WR-CALNAME:Tipples Brews and Wine
X-ORIGINAL-URL:https://tipplesbrews.com
X-WR-CALDESC:Events for Tipples Brews and Wine
REFRESH-INTERVAL;VALUE=DURATION:PT1H
X-Robots-Tag:noindex
X-PUBLISHED-TTL:PT1H
BEGIN:VTIMEZONE
TZID:America/New_York
BEGIN:DAYLIGHT
TZOFFSETFROM:-0500
TZOFFSETTO:-0400
TZNAME:EDT
DTSTART:20270314T070000
END:DAYLIGHT
BEGIN:STANDARD
TZOFFSETFROM:-0400
TZOFFSETTO:-0500
TZNAME:EST
DTSTART:20271107T060000
END:STANDARD
BEGIN:DAYLIGHT
TZOFFSETFROM:-0500
TZOFFSETTO:-0400
TZNAME:EDT
DTSTART:20280312T070000
END:DAYLIGHT
BEGIN:STANDARD
TZOFFSETFROM:-0400
TZOFFSETTO:-0500
TZNAME:EST
DTSTART:20281105T060000
END:STANDARD
BEGIN:DAYLIGHT
TZOFFSETFROM:-0500
TZOFFSETTO:-0400
TZNAME:EDT
DTSTART:20290311T070000
END:DAYLIGHT
BEGIN:STANDARD
TZOFFSETFROM:-0400
TZOFFSETTO:-0500
TZNAME:EST
DTSTART:20291104T060000
END:STANDARD
END:VTIMEZONE
BEGIN:VEVENT
DTSTART;TZID=America/New_York:20280404T170000
DTEND;TZID=America/New_York:20280404T200000
DTSTAMP:20260424T185233
CREATED:20250721T173928Z
LAST-MODIFIED:20251216T185026Z
UID:10001984-1838480400-1838491200@tipplesbrews.com
SUMMARY:WOW! Tipple's Wine of the Week Tasting!
DESCRIPTION:
URL:https://tipplesbrews.com/event/tipples-wine-of-the-week-tasting/2028-04-04/
ATTACH;FMTTYPE=image/png:https://tipplesbrews.com/wp-content/uploads/2024/03/Copy-of-Todays-Pourcast.png
END:VEVENT
BEGIN:VEVENT
DTSTART;TZID=America/New_York:20280406T183000
DTEND;TZID=America/New_York:20280406T193000
DTSTAMP:20260424T185233
CREATED:20250210T153740Z
LAST-MODIFIED:20250210T153740Z
UID:10001329-1838658600-1838662200@tipplesbrews.com
SUMMARY:Running Tabs Running Club
DESCRIPTION:
URL:https://tipplesbrews.com/event/running-tabs-running-club/2028-04-06/
END:VEVENT
BEGIN:VEVENT
DTSTART;TZID=America/New_York:20280411T170000
DTEND;TZID=America/New_York:20280411T200000
DTSTAMP:20260424T185233
CREATED:20250721T173928Z
LAST-MODIFIED:20251216T185026Z
UID:10001985-1839085200-1839096000@tipplesbrews.com
SUMMARY:WOW! Tipple's Wine of the Week Tasting!
DESCRIPTION:
URL:https://tipplesbrews.com/event/tipples-wine-of-the-week-tasting/2028-04-11/
ATTACH;FMTTYPE=image/png:https://tipplesbrews.com/wp-content/uploads/2024/03/Copy-of-Todays-Pourcast.png
END:VEVENT
BEGIN:VEVENT
DTSTART;TZID=America/New_York:20280413T183000
DTEND;TZID=America/New_York:20280413T193000
DTSTAMP:20260424T185233
CREATED:20250210T153740Z
LAST-MODIFIED:20250210T153740Z
UID:10001330-1839263400-1839267000@tipplesbrews.com
SUMMARY:Running Tabs Running Club
DESCRIPTION:
URL:https://tipplesbrews.com/event/running-tabs-running-club/2028-04-13/
END:VEVENT
BEGIN:VEVENT
DTSTART;TZID=America/New_York:20280418T170000
DTEND;TZID=America/New_York:20280418T200000
DTSTAMP:20260424T185233
CREATED:20250721T173928Z
LAST-MODIFIED:20251216T185026Z
UID:10001986-1839690000-1839700800@tipplesbrews.com
SUMMARY:WOW! Tipple's Wine of the Week Tasting!
DESCRIPTION:
URL:https://tipplesbrews.com/event/tipples-wine-of-the-week-tasting/2028-04-18/
ATTACH;FMTTYPE=image/png:https://tipplesbrews.com/wp-content/uploads/2024/03/Copy-of-Todays-Pourcast.png
END:VEVENT
BEGIN:VEVENT
DTSTART;TZID=America/New_York:20280420T183000
DTEND;TZID=America/New_York:20280420T193000
DTSTAMP:20260424T185233
CREATED:20250210T153740Z
LAST-MODIFIED:20250210T153740Z
UID:10001331-1839868200-1839871800@tipplesbrews.com
SUMMARY:Running Tabs Running Club
DESCRIPTION:
URL:https://tipplesbrews.com/event/running-tabs-running-club/2028-04-20/
END:VEVENT
BEGIN:VEVENT
DTSTART;TZID=America/New_York:20280425T170000
DTEND;TZID=America/New_York:20280425T200000
DTSTAMP:20260424T185233
CREATED:20250721T173928Z
LAST-MODIFIED:20251216T185026Z
UID:10001987-1840294800-1840305600@tipplesbrews.com
SUMMARY:WOW! Tipple's Wine of the Week Tasting!
DESCRIPTION:
URL:https://tipplesbrews.com/event/tipples-wine-of-the-week-tasting/2028-04-25/
ATTACH;FMTTYPE=image/png:https://tipplesbrews.com/wp-content/uploads/2024/03/Copy-of-Todays-Pourcast.png
END:VEVENT
BEGIN:VEVENT
DTSTART;TZID=America/New_York:20280427T183000
DTEND;TZID=America/New_York:20280427T193000
DTSTAMP:20260424T185233
CREATED:20250210T153740Z
LAST-MODIFIED:20250210T153740Z
UID:10001332-1840473000-1840476600@tipplesbrews.com
SUMMARY:Running Tabs Running Club
DESCRIPTION:
URL:https://tipplesbrews.com/event/running-tabs-running-club/2028-04-27/
END:VEVENT
END:VCALENDAR