BEGIN:VCALENDAR
VERSION:2.0
PRODID:-//Tipples Brews and Wine - ECPv6.15.20//NONSGML v1.0//EN
CALSCALE:GREGORIAN
METHOD:PUBLISH
X-ORIGINAL-URL:https://tipplesbrews.com
X-WR-CALDESC:Events for Tipples Brews and Wine
REFRESH-INTERVAL;VALUE=DURATION:PT1H
X-Robots-Tag:noindex
X-PUBLISHED-TTL:PT1H
BEGIN:VTIMEZONE
TZID:America/New_York
BEGIN:DAYLIGHT
TZOFFSETFROM:-0500
TZOFFSETTO:-0400
TZNAME:EDT
DTSTART:20280312T070000
END:DAYLIGHT
BEGIN:STANDARD
TZOFFSETFROM:-0400
TZOFFSETTO:-0500
TZNAME:EST
DTSTART:20281105T060000
END:STANDARD
BEGIN:DAYLIGHT
TZOFFSETFROM:-0500
TZOFFSETTO:-0400
TZNAME:EDT
DTSTART:20290311T070000
END:DAYLIGHT
BEGIN:STANDARD
TZOFFSETFROM:-0400
TZOFFSETTO:-0500
TZNAME:EST
DTSTART:20291104T060000
END:STANDARD
BEGIN:DAYLIGHT
TZOFFSETFROM:-0500
TZOFFSETTO:-0400
TZNAME:EDT
DTSTART:20300310T070000
END:DAYLIGHT
BEGIN:STANDARD
TZOFFSETFROM:-0400
TZOFFSETTO:-0500
TZNAME:EST
DTSTART:20301103T060000
END:STANDARD
END:VTIMEZONE
BEGIN:VEVENT
DTSTART;TZID=America/New_York:20290703T170000
DTEND;TZID=America/New_York:20290703T200000
DTSTAMP:20260425T180636
CREATED:20250721T173928Z
LAST-MODIFIED:20251216T185026Z
UID:10002049-1877792400-1877803200@tipplesbrews.com
SUMMARY:WOW! Tipple's Wine of the Week Tasting!
DESCRIPTION:
URL:https://tipplesbrews.com/event/tipples-wine-of-the-week-tasting/2029-07-03/
ATTACH;FMTTYPE=image/png:https://tipplesbrews.com/wp-content/uploads/2024/03/Copy-of-Todays-Pourcast.png
END:VEVENT
BEGIN:VEVENT
DTSTART;TZID=America/New_York:20290705T183000
DTEND;TZID=America/New_York:20290705T193000
DTSTAMP:20260425T180636
CREATED:20250210T153740Z
LAST-MODIFIED:20250210T153740Z
UID:10001394-1877970600-1877974200@tipplesbrews.com
SUMMARY:Running Tabs Running Club
DESCRIPTION:
URL:https://tipplesbrews.com/event/running-tabs-running-club/2029-07-05/
END:VEVENT
BEGIN:VEVENT
DTSTART;TZID=America/New_York:20290710T170000
DTEND;TZID=America/New_York:20290710T200000
DTSTAMP:20260425T180636
CREATED:20250721T173928Z
LAST-MODIFIED:20251216T185026Z
UID:10002050-1878397200-1878408000@tipplesbrews.com
SUMMARY:WOW! Tipple's Wine of the Week Tasting!
DESCRIPTION:
URL:https://tipplesbrews.com/event/tipples-wine-of-the-week-tasting/2029-07-10/
ATTACH;FMTTYPE=image/png:https://tipplesbrews.com/wp-content/uploads/2024/03/Copy-of-Todays-Pourcast.png
END:VEVENT
BEGIN:VEVENT
DTSTART;TZID=America/New_York:20290712T183000
DTEND;TZID=America/New_York:20290712T193000
DTSTAMP:20260425T180636
CREATED:20250210T153740Z
LAST-MODIFIED:20250210T153740Z
UID:10001395-1878575400-1878579000@tipplesbrews.com
SUMMARY:Running Tabs Running Club
DESCRIPTION:
URL:https://tipplesbrews.com/event/running-tabs-running-club/2029-07-12/
END:VEVENT
BEGIN:VEVENT
DTSTART;TZID=America/New_York:20290717T170000
DTEND;TZID=America/New_York:20290717T200000
DTSTAMP:20260425T180636
CREATED:20250721T173928Z
LAST-MODIFIED:20251216T185026Z
UID:10002051-1879002000-1879012800@tipplesbrews.com
SUMMARY:WOW! Tipple's Wine of the Week Tasting!
DESCRIPTION:
URL:https://tipplesbrews.com/event/tipples-wine-of-the-week-tasting/2029-07-17/
ATTACH;FMTTYPE=image/png:https://tipplesbrews.com/wp-content/uploads/2024/03/Copy-of-Todays-Pourcast.png
END:VEVENT
BEGIN:VEVENT
DTSTART;TZID=America/New_York:20290719T183000
DTEND;TZID=America/New_York:20290719T193000
DTSTAMP:20260425T180636
CREATED:20250210T153740Z
LAST-MODIFIED:20250210T153740Z
UID:10001396-1879180200-1879183800@tipplesbrews.com
SUMMARY:Running Tabs Running Club
DESCRIPTION:
URL:https://tipplesbrews.com/event/running-tabs-running-club/2029-07-19/
END:VEVENT
BEGIN:VEVENT
DTSTART;TZID=America/New_York:20290724T170000
DTEND;TZID=America/New_York:20290724T200000
DTSTAMP:20260425T180636
CREATED:20250721T173928Z
LAST-MODIFIED:20251216T185026Z
UID:10002052-1879606800-1879617600@tipplesbrews.com
SUMMARY:WOW! Tipple's Wine of the Week Tasting!
DESCRIPTION:
URL:https://tipplesbrews.com/event/tipples-wine-of-the-week-tasting/2029-07-24/
ATTACH;FMTTYPE=image/png:https://tipplesbrews.com/wp-content/uploads/2024/03/Copy-of-Todays-Pourcast.png
END:VEVENT
BEGIN:VEVENT
DTSTART;TZID=America/New_York:20290726T183000
DTEND;TZID=America/New_York:20290726T193000
DTSTAMP:20260425T180636
CREATED:20250210T153740Z
LAST-MODIFIED:20250210T153740Z
UID:10001397-1879785000-1879788600@tipplesbrews.com
SUMMARY:Running Tabs Running Club
DESCRIPTION:
URL:https://tipplesbrews.com/event/running-tabs-running-club/2029-07-26/
END:VEVENT
BEGIN:VEVENT
DTSTART;TZID=America/New_York:20290731T170000
DTEND;TZID=America/New_York:20290731T200000
DTSTAMP:20260425T180636
CREATED:20250721T173928Z
LAST-MODIFIED:20251216T185026Z
UID:10002053-1880211600-1880222400@tipplesbrews.com
SUMMARY:WOW! Tipple's Wine of the Week Tasting!
DESCRIPTION:
URL:https://tipplesbrews.com/event/tipples-wine-of-the-week-tasting/2029-07-31/
ATTACH;FMTTYPE=image/png:https://tipplesbrews.com/wp-content/uploads/2024/03/Copy-of-Todays-Pourcast.png
END:VEVENT
END:VCALENDAR